BEGIN:VCALENDAR
VERSION:2.0
PRODID:-//Milwaukee Region SCCA - ECPv6.15.16.1//NONSGML v1.0//EN
CALSCALE:GREGORIAN
METHOD:PUBLISH
X-WR-CALNAME:Milwaukee Region SCCA
X-ORIGINAL-URL:https://scca-milwaukee.org
X-WR-CALDESC:Events for Milwaukee Region SCCA
REFRESH-INTERVAL;VALUE=DURATION:PT1H
X-Robots-Tag:noindex
X-PUBLISHED-TTL:PT1H
BEGIN:VTIMEZONE
TZID:America/Chicago
BEGIN:DAYLIGHT
TZOFFSETFROM:-0600
TZOFFSETTO:-0500
TZNAME:CDT
DTSTART:20190310T080000
END:DAYLIGHT
BEGIN:STANDARD
TZOFFSETFROM:-0500
TZOFFSETTO:-0600
TZNAME:CST
DTSTART:20191103T070000
END:STANDARD
BEGIN:DAYLIGHT
TZOFFSETFROM:-0600
TZOFFSETTO:-0500
TZNAME:CDT
DTSTART:20200308T080000
END:DAYLIGHT
BEGIN:STANDARD
TZOFFSETFROM:-0500
TZOFFSETTO:-0600
TZNAME:CST
DTSTART:20201101T070000
END:STANDARD
BEGIN:DAYLIGHT
TZOFFSETFROM:-0600
TZOFFSETTO:-0500
TZNAME:CDT
DTSTART:20210314T080000
END:DAYLIGHT
BEGIN:STANDARD
TZOFFSETFROM:-0500
TZOFFSETTO:-0600
TZNAME:CST
DTSTART:20211107T070000
END:STANDARD
BEGIN:DAYLIGHT
TZOFFSETFROM:-0600
TZOFFSETTO:-0500
TZNAME:CDT
DTSTART:20220313T080000
END:DAYLIGHT
BEGIN:STANDARD
TZOFFSETFROM:-0500
TZOFFSETTO:-0600
TZNAME:CST
DTSTART:20221106T070000
END:STANDARD
BEGIN:DAYLIGHT
TZOFFSETFROM:-0600
TZOFFSETTO:-0500
TZNAME:CDT
DTSTART:20230312T080000
END:DAYLIGHT
BEGIN:STANDARD
TZOFFSETFROM:-0500
TZOFFSETTO:-0600
TZNAME:CST
DTSTART:20231105T070000
END:STANDARD
END:VTIMEZONE
BEGIN:VEVENT
DTSTART;TZID=America/Chicago:20220602T183000
DTEND;TZID=America/Chicago:20220602T200000
DTSTAMP:20260424T220305
CREATED:20220304T173245Z
LAST-MODIFIED:20220304T173245Z
UID:10000920-1654194600-1654200000@scca-milwaukee.org
SUMMARY:Board of Directors Meeting
DESCRIPTION:Anyone and everyone is encouraged to attend the Board of Director meetings. These monthly meetings are used to keep a pulse on the happenings of the Milwaukee Region\, and reports are given for each discipline in the region.  These meetings take place virtually for the most part\, but we do schedule in-person meetings. \nIt’s your club\, get involved.  We are always looking for people to get involved in some capacity.  Not to mention food\, drinks\, and bench racing is a good time for car folks. \n  \nLink to the virtual meeting via Teams!  →  Click here to join the meeting
URL:https://scca-milwaukee.org/event/board-of-directors-meeting-6-22/
LOCATION:Virtual Meeting via Teams
CATEGORIES:Meetings
END:VEVENT
BEGIN:VEVENT
DTSTART;TZID=America/Chicago:20220505T190000
DTEND;TZID=America/Chicago:20220505T210000
DTSTAMP:20260424T220305
CREATED:20190125T174945Z
LAST-MODIFIED:20220428T235934Z
UID:10000768-1651777200-1651784400@scca-milwaukee.org
SUMMARY:Autocross Committee Meeting
DESCRIPTION:This meeting with discuss on-goings with regards to the Autocross program; anyone and everyone is encouraged to attend committee meetings.  It’s your club\, get involved. Besides dinner\, drinks\, and bench racing is a good time for car folks.
URL:https://scca-milwaukee.org/event/autocross-committee-meeting-2021-02-25-2021-03-25-2022-04-28/
LOCATION:Virtual Meeting via Teams
CATEGORIES:AutoX,Meeting,Meetings
ATTACH;FMTTYPE=image/jpeg:https://scca-milwaukee.org/wp-content/uploads/2019/01/Virtual-Meeting.jpg
END:VEVENT
BEGIN:VEVENT
DTSTART;TZID=America/Chicago:20220505T183000
DTEND;TZID=America/Chicago:20220505T200000
DTSTAMP:20260424T220305
CREATED:20220304T173200Z
LAST-MODIFIED:20220304T173353Z
UID:10000919-1651775400-1651780800@scca-milwaukee.org
SUMMARY:Board of Directors Meeting
DESCRIPTION:Anyone and everyone is encouraged to attend the Board of Director meetings. These monthly meetings are used to keep a pulse on the happenings of the Milwaukee Region\, and reports are given for each discipline in the region.  These meetings take place virtually for the most part\, but we do schedule in-person meetings. \nIt’s your club\, get involved.  We are always looking for people to get involved in some capacity.  Not to mention food\, drinks\, and bench racing is a good time for car folks. \n  \nLink to the virtual meeting via Teams!  →  Click here to join the meeting
URL:https://scca-milwaukee.org/event/board-of-directors-meeting-5-22/
LOCATION:Virtual Meeting via Teams
CATEGORIES:Meetings
END:VEVENT
BEGIN:VEVENT
DTSTART;TZID=America/Chicago:20220414T183000
DTEND;TZID=America/Chicago:20220414T200000
DTSTAMP:20260424T220305
CREATED:20220304T173126Z
LAST-MODIFIED:20220304T173411Z
UID:10000918-1649961000-1649966400@scca-milwaukee.org
SUMMARY:Board of Directors Meeting
DESCRIPTION:Anyone and everyone is encouraged to attend the Board of Director meetings. These monthly meetings are used to keep a pulse on the happenings of the Milwaukee Region\, and reports are given for each discipline in the region.  These meetings take place virtually for the most part\, but we do schedule in-person meetings. \nIt’s your club\, get involved.  We are always looking for people to get involved in some capacity.  Not to mention food\, drinks\, and bench racing is a good time for car folks. \n  \nLink to the virtual meeting via Teams!  →  Click here to join the meeting
URL:https://scca-milwaukee.org/event/board-of-directors-meeting-4-22/
LOCATION:Virtual Meeting via Teams
CATEGORIES:Meetings
END:VEVENT
BEGIN:VEVENT
DTSTART;TZID=America/Chicago:20220303T183000
DTEND;TZID=America/Chicago:20220303T200000
DTSTAMP:20260424T220305
CREATED:20220304T173021Z
LAST-MODIFIED:20220304T173021Z
UID:10000917-1646332200-1646337600@scca-milwaukee.org
SUMMARY:Board of Directors Meeting
DESCRIPTION:Anyone and everyone is encouraged to attend the Board of Director meetings. These monthly meetings are used to keep a pulse on the happenings of the Milwaukee Region\, and reports are given for each discipline in the region.  These meetings take place virtually for the most part\, but we do schedule in-person meetings. \nIt’s your club\, get involved.  We are always looking for people to get involved in some capacity.  Not to mention food\, drinks\, and bench racing is a good time for car folks. \n  \nLink to the virtual meeting via Teams!  →  Click here to join the meeting
URL:https://scca-milwaukee.org/event/board-of-directors-meeting-3-22/
LOCATION:Virtual Meeting via Teams
CATEGORIES:Meetings
END:VEVENT
BEGIN:VEVENT
DTSTART;TZID=America/Chicago:20220203T183000
DTEND;TZID=America/Chicago:20220203T200000
DTSTAMP:20260424T220305
CREATED:20220304T172942Z
LAST-MODIFIED:20220304T172942Z
UID:10000916-1643913000-1643918400@scca-milwaukee.org
SUMMARY:Board of Directors Meeting
DESCRIPTION:Anyone and everyone is encouraged to attend the Board of Director meetings. These monthly meetings are used to keep a pulse on the happenings of the Milwaukee Region\, and reports are given for each discipline in the region.  These meetings take place virtually for the most part\, but we do schedule in-person meetings. \nIt’s your club\, get involved.  We are always looking for people to get involved in some capacity.  Not to mention food\, drinks\, and bench racing is a good time for car folks. \n  \nLink to the virtual meeting via Teams!  →  Click here to join the meeting
URL:https://scca-milwaukee.org/event/board-of-directors-meeting-2-22/
LOCATION:Virtual Meeting via Teams
CATEGORIES:Meetings
END:VEVENT
BEGIN:VEVENT
DTSTART;TZID=America/Chicago:20220106T183000
DTEND;TZID=America/Chicago:20220106T200000
DTSTAMP:20260424T220305
CREATED:20220304T172911Z
LAST-MODIFIED:20220304T172911Z
UID:10000915-1641493800-1641499200@scca-milwaukee.org
SUMMARY:Board of Directors Meeting
DESCRIPTION:Anyone and everyone is encouraged to attend the Board of Director meetings. These monthly meetings are used to keep a pulse on the happenings of the Milwaukee Region\, and reports are given for each discipline in the region.  These meetings take place virtually for the most part\, but we do schedule in-person meetings. \nIt’s your club\, get involved.  We are always looking for people to get involved in some capacity.  Not to mention food\, drinks\, and bench racing is a good time for car folks. \n  \nLink to the virtual meeting via Teams!  →  Click here to join the meeting
URL:https://scca-milwaukee.org/event/board-of-directors-meeting-1-22/
LOCATION:Virtual Meeting via Teams
CATEGORIES:Meetings
END:VEVENT
BEGIN:VEVENT
DTSTART;TZID=America/Chicago:20211202T183000
DTEND;TZID=America/Chicago:20211202T200000
DTSTAMP:20260424T220305
CREATED:20220304T172609Z
LAST-MODIFIED:20220304T172609Z
UID:10000914-1638469800-1638475200@scca-milwaukee.org
SUMMARY:Board of Directors Meeting
DESCRIPTION:Anyone and everyone is encouraged to attend the Board of Director meetings. These monthly meetings are used to keep a pulse on the happenings of the Milwaukee Region\, and reports are given for each discipline in the region.  These meetings take place virtually for the most part\, but we do schedule in-person meetings. \nIt’s your club\, get involved.  We are always looking for people to get involved in some capacity.  Not to mention food\, drinks\, and bench racing is a good time for car folks. \n  \nLink to the virtual meeting via Teams!  →  Click here to join the meeting
URL:https://scca-milwaukee.org/event/board-of-directors-meeting-12-21/
LOCATION:Virtual Meeting via Teams
CATEGORIES:Meetings
ATTACH;FMTTYPE=image/jpeg:https://scca-milwaukee.org/wp-content/uploads/2018/01/best-western-2018.jpg
END:VEVENT
BEGIN:VEVENT
DTSTART;TZID=America/Chicago:20210325T190000
DTEND;TZID=America/Chicago:20210325T210000
DTSTAMP:20260424T220305
CREATED:20190125T174945Z
LAST-MODIFIED:20220927T162804Z
UID:10000767-1616698800-1616706000@scca-milwaukee.org
SUMMARY:Autocross Committee Meeting
DESCRIPTION:This meeting with discuss on-goings with regards to the Autocross program; anyone and everyone is encouraged to attend committee meetings.  It’s your club\, get involved. Besides dinner\, drinks\, and bench racing is a good time for car folks. \n  \nMicrosoft Teams Meeting\nJoin on your computer or mobile app \nClick here to join the meeting
URL:https://scca-milwaukee.org/event/autocross-committee-meeting-2021-02-25-2021-03-25/
LOCATION:Virtual Meeting via Teams
CATEGORIES:AutoX,Meeting,Meetings
ATTACH;FMTTYPE=image/jpeg:https://scca-milwaukee.org/wp-content/uploads/2019/01/Virtual-Meeting.jpg
END:VEVENT
BEGIN:VEVENT
DTSTART;TZID=America/Chicago:20210304T190000
DTEND;TZID=America/Chicago:20210304T210000
DTSTAMP:20260424T220305
CREATED:20190125T174945Z
LAST-MODIFIED:20210226T163204Z
UID:10000766-1614884400-1614891600@scca-milwaukee.org
SUMMARY:Autocross Committee Meeting
DESCRIPTION:This meeting with discuss on-goings with regards to the Autocross program; anyone and everyone is encouraged to attend committee meetings.  It’s your club\, get involved. Besides dinner\, drinks\, and bench racing is a good time for car folks.
URL:https://scca-milwaukee.org/event/autocross-committee-meeting-2021-02-25/
LOCATION:Virtual Meeting via Teams
CATEGORIES:AutoX,Meeting,Meetings
ATTACH;FMTTYPE=image/jpeg:https://scca-milwaukee.org/wp-content/uploads/2019/01/Virtual-Meeting.jpg
END:VEVENT
BEGIN:VEVENT
DTSTART;TZID=America/Chicago:20210114T183000
DTEND;TZID=America/Chicago:20210114T203000
DTSTAMP:20260424T220305
CREATED:20200109T160003Z
LAST-MODIFIED:20210108T195215Z
UID:10000836-1610649000-1610656200@scca-milwaukee.org
SUMMARY:Board of Directors Meeting
DESCRIPTION:Anyone and everyone is encouraged to attend the Board of Director meetings. These monthly meetings are used to keep a pulse on the happenings of the Milwaukee Region\, and reports are given for each discipline in the region. \nIt’s your club\, get involved.  We are always looking for people to get involved in some capacity.  Not to mention food\, drinks\, and bench racing is a good time for car folks…. even if it’s done virtually!
URL:https://scca-milwaukee.org/event/board-of-directors-meeting-2-2020-04-09-2020-12-03-2021-01-07/
LOCATION:Virtual Meeting via Teams
CATEGORIES:Meetings
END:VEVENT
BEGIN:VEVENT
DTSTART;TZID=America/Chicago:20201210T183000
DTEND;TZID=America/Chicago:20201210T203000
DTSTAMP:20260424T220305
CREATED:20200109T160003Z
LAST-MODIFIED:20201204T152252Z
UID:10000835-1607625000-1607632200@scca-milwaukee.org
SUMMARY:Annual Meeting
DESCRIPTION:Due to COVID-19 concerns\, we have decided to postpone our annual Awards Banquet.  However\, we will conduct our region annual meeting virtually via Microsoft Teams. \nOur annual meeting provides a recap of the all regional programs.  Everyone is welcome to join us\, you can find meeting information below. \nDate:\nThursday\, December 10\, 2020 \nLink to Meeting:\nYou’re invited to join a Microsoft Teams meeting\nhttps://teams.microsoft.com/l/meetup-join/19:meeting_Mzk0NGVjNDYtYTQ4OC00ZWU0LWE5ZWUtODhjYmU2ODgzNWZk@thread.v2/0?context=%7B%22Tid%22:%226b99d0ad-9143-4b3c-9a66-8caf6dea245f%22\,%22Oid%22:%2239a57151-434c-43e0-8043-0a87609ab290%22%7D
URL:https://scca-milwaukee.org/event/board-of-directors-meeting-2-2020-04-09-2020-12-03/
LOCATION:Virtual Meeting via Teams
CATEGORIES:Meetings
ATTACH;FMTTYPE=image/jpeg:https://scca-milwaukee.org/wp-content/uploads/2020/12/Annual-Meeting-2020.jpg
END:VEVENT
END:VCALENDAR