BEGIN:VCALENDAR
VERSION:2.0
PRODID:-//Milwaukee Region SCCA - ECPv6.15.16.1//NONSGML v1.0//EN
CALSCALE:GREGORIAN
METHOD:PUBLISH
X-ORIGINAL-URL:https://scca-milwaukee.org
X-WR-CALDESC:Events for Milwaukee Region SCCA
REFRESH-INTERVAL;VALUE=DURATION:PT1H
X-Robots-Tag:noindex
X-PUBLISHED-TTL:PT1H
BEGIN:VTIMEZONE
TZID:America/Chicago
BEGIN:DAYLIGHT
TZOFFSETFROM:-0600
TZOFFSETTO:-0500
TZNAME:CDT
DTSTART:20170312T080000
END:DAYLIGHT
BEGIN:STANDARD
TZOFFSETFROM:-0500
TZOFFSETTO:-0600
TZNAME:CST
DTSTART:20171105T070000
END:STANDARD
BEGIN:DAYLIGHT
TZOFFSETFROM:-0600
TZOFFSETTO:-0500
TZNAME:CDT
DTSTART:20180311T080000
END:DAYLIGHT
BEGIN:STANDARD
TZOFFSETFROM:-0500
TZOFFSETTO:-0600
TZNAME:CST
DTSTART:20181104T070000
END:STANDARD
BEGIN:DAYLIGHT
TZOFFSETFROM:-0600
TZOFFSETTO:-0500
TZNAME:CDT
DTSTART:20190310T080000
END:DAYLIGHT
BEGIN:STANDARD
TZOFFSETFROM:-0500
TZOFFSETTO:-0600
TZNAME:CST
DTSTART:20191103T070000
END:STANDARD
BEGIN:DAYLIGHT
TZOFFSETFROM:-0600
TZOFFSETTO:-0500
TZNAME:CDT
DTSTART:20200308T080000
END:DAYLIGHT
BEGIN:STANDARD
TZOFFSETFROM:-0500
TZOFFSETTO:-0600
TZNAME:CST
DTSTART:20201101T070000
END:STANDARD
BEGIN:DAYLIGHT
TZOFFSETFROM:-0600
TZOFFSETTO:-0500
TZNAME:CDT
DTSTART:20210314T080000
END:DAYLIGHT
BEGIN:STANDARD
TZOFFSETFROM:-0500
TZOFFSETTO:-0600
TZNAME:CST
DTSTART:20211107T070000
END:STANDARD
BEGIN:DAYLIGHT
TZOFFSETFROM:-0600
TZOFFSETTO:-0500
TZNAME:CDT
DTSTART:20220313T080000
END:DAYLIGHT
BEGIN:STANDARD
TZOFFSETFROM:-0500
TZOFFSETTO:-0600
TZNAME:CST
DTSTART:20221106T070000
END:STANDARD
BEGIN:DAYLIGHT
TZOFFSETFROM:-0600
TZOFFSETTO:-0500
TZNAME:CDT
DTSTART:20230312T080000
END:DAYLIGHT
BEGIN:STANDARD
TZOFFSETFROM:-0500
TZOFFSETTO:-0600
TZNAME:CST
DTSTART:20231105T070000
END:STANDARD
END:VTIMEZONE
BEGIN:VEVENT
DTSTART;TZID=America/Chicago:20220501T080000
DTEND;TZID=America/Chicago:20220501T163000
DTSTAMP:20260424T220253
CREATED:20220406T001757Z
LAST-MODIFIED:20220411T153421Z
UID:10000929-1651392000-1651422600@scca-milwaukee.org
SUMMARY:ITAD Logic Invitational - RallyX Practice/Max Attack 1
DESCRIPTION:RallyCross is the most widespread and readily accessible form of extreme dirt motorsport in the Sports Car Club of America\, and the perfect place to see if you have what it takes to power slide your way to victory. Imagine a scaled down version of a rally stage laid out on a non-paved plot of land where the course is delineated by traffic cones instead of trees or rocks.  As a result\, you are able to drive the event in your everyday car on the weekend and still drive to work on Monday (after a good washing). \nThe Milwaukee Region will have helmets to loan and will assist the first-time competitors with entering the appropriate class\, making their way through technical inspection and finding their way around the course. Best of all\, it’s great fun! \nIf you are looking for more information head to our What is RallyCross? page and I Want to RallyCross for a list of  things you need to bring to an event and some tips to assist you along the way.
URL:https://scca-milwaukee.org/event/rxma1-2022/
LOCATION:USAir Motorsports Raceway\, W5901 County Road BE\, Shawano\, WI\, 54166\, United States
CATEGORIES:RallyX
ATTACH;FMTTYPE=image/jpeg:https://scca-milwaukee.org/wp-content/uploads/2022/04/2.jpg
GEO:44.7727701;-88.5390088
X-APPLE-STRUCTURED-LOCATION;VALUE=URI;X-ADDRESS=USAir Motorsports Raceway W5901 County Road BE Shawano WI 54166 United States;X-APPLE-RADIUS=500;X-TITLE=W5901 County Road BE:geo:-88.5390088,44.7727701
END:VEVENT
BEGIN:VEVENT
DTSTART;TZID=America/Chicago:20220430T080000
DTEND;TZID=America/Chicago:20220430T163000
DTSTAMP:20260424T220253
CREATED:20220406T001028Z
LAST-MODIFIED:20220411T152816Z
UID:10000928-1651305600-1651336200@scca-milwaukee.org
SUMMARY:ITAD Logic Invitational - RallyX Event 1
DESCRIPTION:RallyCross is the most widespread and readily accessible form of extreme dirt motorsport in the Sports Car Club of America\, and the perfect place to see if you have what it takes to power slide your way to victory. Imagine a scaled down version of a rally stage laid out on a non-paved plot of land where the course is delineated by traffic cones instead of trees or rocks.  As a result\, you are able to drive the event in your everyday car on the weekend and still drive to work on Monday (after a good washing). \nThe Milwaukee Region will have helmets to loan and will assist the first-time competitors with entering the appropriate class\, making their way through technical inspection and finding their way around the course. Best of all\, it’s great fun! \nIf you are looking for more information head to our What is RallyCross? page and I Want to RallyCross for a list of  things you need to bring to an event and some tips to assist you along the way.
URL:https://scca-milwaukee.org/event/rx1-2022/
LOCATION:USAir Motorsports Raceway\, W5901 County Road BE\, Shawano\, WI\, 54166\, United States
CATEGORIES:RallyX
ATTACH;FMTTYPE=image/jpeg:https://scca-milwaukee.org/wp-content/uploads/2022/04/1.jpg
GEO:44.7727701;-88.5390088
X-APPLE-STRUCTURED-LOCATION;VALUE=URI;X-ADDRESS=USAir Motorsports Raceway W5901 County Road BE Shawano WI 54166 United States;X-APPLE-RADIUS=500;X-TITLE=W5901 County Road BE:geo:-88.5390088,44.7727701
END:VEVENT
BEGIN:VEVENT
DTSTART;TZID=America/Chicago:20210919T080000
DTEND;TZID=America/Chicago:20210919T163000
DTSTAMP:20260424T220253
CREATED:20210726T145856Z
LAST-MODIFIED:20210726T145856Z
UID:10000905-1632038400-1632069000@scca-milwaukee.org
SUMMARY:RallyX 6
DESCRIPTION:Event will be limited to 50 drivers.\nRegistration opens one month before the event date. \nEvent Schedule:\n8:00 – 9:00am – Registration\n8:30 – 9:30am – Tech Inspection\n8:30 – 9:30am – Course Walking\n9:30am – Drivers Meeting/Worker Check-in\n10:00am – 11:00am – Run Group 1\n11:15 – 12:15pm – Run Group 2\n12:15 – 1:15pm – Lunch Break\n1:30 – 2:30pm – Run Group 1\n2:45 – 3:45pm – Run Group 2\n4:30pm – Awards Ceremony \nThere will be a hard registration cut off at 9:00am on the day of the event. Please be prompt! Showing up after that won’t allow you time to walk the course. \nEntry Fees:\nNew policy for 2020 – Payment is not taken until AFTER event \n$60 for Annual SCCA member Registration\n$75 for Non-member Registration (includes an SCCA Weekend Membership)\n$10 – Late Registration Fee (starts Thursday before the event) \n—————————————————————————- \nDrivers attempt to set their best time on an agility course marked by cones\, and cars are grouped in classes based on capability and level of modification. There are no jumps or ditches\, and roll cages are not required. Our events are strictly one-at-a-time competitions against the clock with an emphasis on accessibility\, safety\, affordability\, and fun. \nMore information – including rules and classing – can be found at http://scca-milwaukee.org/what-is-rallycross/ \nRegister at https://www.motorsportreg.com/orgs/scca/milwaukee/rallycross
URL:https://scca-milwaukee.org/event/rallyx-6/
LOCATION:USAir Motorsports Raceway\, W5901 County Road BE\, Shawano\, WI\, 54166\, United States
CATEGORIES:RallyX
GEO:44.7727701;-88.5390088
X-APPLE-STRUCTURED-LOCATION;VALUE=URI;X-ADDRESS=USAir Motorsports Raceway W5901 County Road BE Shawano WI 54166 United States;X-APPLE-RADIUS=500;X-TITLE=W5901 County Road BE:geo:-88.5390088,44.7727701
END:VEVENT
BEGIN:VEVENT
DTSTART;TZID=America/Chicago:20210918T080000
DTEND;TZID=America/Chicago:20210918T163000
DTSTAMP:20260424T220253
CREATED:20210726T145707Z
LAST-MODIFIED:20210726T145707Z
UID:10000904-1631952000-1631982600@scca-milwaukee.org
SUMMARY:RallyX 5
DESCRIPTION:Event will be limited to 50 drivers.\nRegistration opens one month before the event date. \nEvent Schedule:\n8:00 – 9:00am – Registration\n8:30 – 9:30am – Tech Inspection\n8:30 – 9:30am – Course Walking\n9:30am – Drivers Meeting/Worker Check-in\n10:00am – 11:00am – Run Group 1\n11:15 – 12:15pm – Run Group 2\n12:15 – 1:15pm – Lunch Break\n1:30 – 2:30pm – Run Group 1\n2:45 – 3:45pm – Run Group 2\n4:30pm – Awards Ceremony \nThere will be a hard registration cut off at 9:00am on the day of the event. Please be prompt! Showing up after that won’t allow you time to walk the course. \nEntry Fees:\nNew policy for 2020 – Payment is not taken until AFTER event \n$60 for Annual SCCA member Registration\n$75 for Non-member Registration (includes an SCCA Weekend Membership)\n$10 – Late Registration Fee (starts Thursday before the event) \n—————————————————————————- \nDrivers attempt to set their best time on an agility course marked by cones\, and cars are grouped in classes based on capability and level of modification. There are no jumps or ditches\, and roll cages are not required. Our events are strictly one-at-a-time competitions against the clock with an emphasis on accessibility\, safety\, affordability\, and fun. \nMore information – including rules and classing – can be found at http://scca-milwaukee.org/what-is-rallycross/ \nRegister at https://www.motorsportreg.com/orgs/scca/milwaukee/rallycross
URL:https://scca-milwaukee.org/event/rallyx-5/
LOCATION:USAir Motorsports Raceway\, W5901 County Road BE\, Shawano\, WI\, 54166\, United States
CATEGORIES:RallyX
GEO:44.7727701;-88.5390088
X-APPLE-STRUCTURED-LOCATION;VALUE=URI;X-ADDRESS=USAir Motorsports Raceway W5901 County Road BE Shawano WI 54166 United States;X-APPLE-RADIUS=500;X-TITLE=W5901 County Road BE:geo:-88.5390088,44.7727701
END:VEVENT
BEGIN:VEVENT
DTSTART;TZID=America/Chicago:20180812T070000
DTEND;TZID=America/Chicago:20180812T170000
DTSTAMP:20260424T220253
CREATED:20180507T145447Z
LAST-MODIFIED:20180507T170838Z
UID:10000577-1534057200-1534093200@scca-milwaukee.org
SUMMARY:RallyCross Event #2 2018
DESCRIPTION:RallyCross is the most widespread and readily accessible form of extreme dirt motorsport in the Sports Car Club of America\, and the perfect place to see if you have what it takes to power slide your way to victory. Imagine a scaled down version of a rally stage laid out on a non-paved plot of land where the course is delineated by traffic cones instead of trees or rocks.  As a result\, you are able to drive the event in your everyday car on the weekend and still drive to work on Monday (after a good washing). \nThe Milwaukee Region will have helmets to loan and will assist the first-time competitors with entering the appropriate class\, making their way through technical inspection and finding their way around the course. Best of all\, it’s great fun! \nIf you are looking for more information head to our What is RallyCross? page and I Want to RallyCross for a list of  things you need to bring to an event and some tips to assist you along the way.
URL:https://scca-milwaukee.org/event/2018-rallycross-event-2/
LOCATION:USAir Motorsports Raceway\, W5901 County Road BE\, Shawano\, WI\, 54166\, United States
CATEGORIES:RallyX
GEO:44.7727701;-88.5390088
X-APPLE-STRUCTURED-LOCATION;VALUE=URI;X-ADDRESS=USAir Motorsports Raceway W5901 County Road BE Shawano WI 54166 United States;X-APPLE-RADIUS=500;X-TITLE=W5901 County Road BE:geo:-88.5390088,44.7727701
END:VEVENT
BEGIN:VEVENT
DTSTART;TZID=America/Chicago:20180603T070000
DTEND;TZID=America/Chicago:20180603T170000
DTSTAMP:20260424T220253
CREATED:20180507T143934Z
LAST-MODIFIED:20180507T170933Z
UID:10000575-1528009200-1528045200@scca-milwaukee.org
SUMMARY:RallyCross Event #1 2018
DESCRIPTION:RallyCross is the most widespread and readily accessible form of extreme dirt motorsport in the Sports Car Club of America\, and the perfect place to see if you have what it takes to power slide your way to victory. Imagine a scaled down version of a rally stage laid out on a non-paved plot of land where the course is delineated by traffic cones instead of trees or rocks.  As a result\, you are able to drive the event in your everyday car on the weekend and still drive to work on Monday (after a good washing). \nThe Milwaukee Region will have helmets to loan and will assist the first-time competitors with entering the appropriate class\, making their way through technical inspection and finding their way around the course. Best of all\, it’s great fun! \nIf you are looking for more information head to our What is RallyCross? page and I Want to RallyCross for a list of  things you need to bring to an event and some tips to assist you along the way.
URL:https://scca-milwaukee.org/event/2018-rallycross-event-1/
LOCATION:USAir Motorsports Raceway\, W5901 County Road BE\, Shawano\, WI\, 54166\, United States
CATEGORIES:RallyX
GEO:44.7727701;-88.5390088
X-APPLE-STRUCTURED-LOCATION;VALUE=URI;X-ADDRESS=USAir Motorsports Raceway W5901 County Road BE Shawano WI 54166 United States;X-APPLE-RADIUS=500;X-TITLE=W5901 County Road BE:geo:-88.5390088,44.7727701
END:VEVENT
END:VCALENDAR