BEGIN:VCALENDAR
VERSION:2.0
PRODID:-//Milwaukee Region SCCA - ECPv6.15.16.1//NONSGML v1.0//EN
CALSCALE:GREGORIAN
METHOD:PUBLISH
X-ORIGINAL-URL:https://scca-milwaukee.org
X-WR-CALDESC:Events for Milwaukee Region SCCA
REFRESH-INTERVAL;VALUE=DURATION:PT1H
X-Robots-Tag:noindex
X-PUBLISHED-TTL:PT1H
BEGIN:VTIMEZONE
TZID:America/Chicago
BEGIN:DAYLIGHT
TZOFFSETFROM:-0600
TZOFFSETTO:-0500
TZNAME:CDT
DTSTART:20160313T080000
END:DAYLIGHT
BEGIN:STANDARD
TZOFFSETFROM:-0500
TZOFFSETTO:-0600
TZNAME:CST
DTSTART:20161106T070000
END:STANDARD
BEGIN:DAYLIGHT
TZOFFSETFROM:-0600
TZOFFSETTO:-0500
TZNAME:CDT
DTSTART:20170312T080000
END:DAYLIGHT
BEGIN:STANDARD
TZOFFSETFROM:-0500
TZOFFSETTO:-0600
TZNAME:CST
DTSTART:20171105T070000
END:STANDARD
BEGIN:DAYLIGHT
TZOFFSETFROM:-0600
TZOFFSETTO:-0500
TZNAME:CDT
DTSTART:20180311T080000
END:DAYLIGHT
BEGIN:STANDARD
TZOFFSETFROM:-0500
TZOFFSETTO:-0600
TZNAME:CST
DTSTART:20181104T070000
END:STANDARD
END:VTIMEZONE
BEGIN:VEVENT
DTSTART;TZID=America/Chicago:20170204T093000
DTEND;TZID=America/Chicago:20170204T113000
DTSTAMP:20260424T230207
CREATED:20161220T180226Z
LAST-MODIFIED:20170326T151015Z
UID:10000552-1486200600-1486207800@scca-milwaukee.org
SUMMARY:Road Racing Annual Meeting 2017
DESCRIPTION:Annual meeting of the Road Racing Committee\, Regional Administrators\, and other interested and involved members to begin planning for the 2017 season.  Will be held in The Milwaukee Mile’s Media Center. \nTo avoid the $6 parking fee charged by State Fair Park\, please register as a spectator at MotorsportReg.com under the Feb 4 Yeti Winter Cross event.
URL:https://scca-milwaukee.org/event/annual-road-racing-competition-meeting-2017/
LOCATION:The Milwaukee Mile\, 7722 W. Greenfield Avenue\, West Allis\, WI\, 53214\, United States
CATEGORIES:Meetings,Road Racing
GEO:43.0166299;-88.0084904
X-APPLE-STRUCTURED-LOCATION;VALUE=URI;X-ADDRESS=The Milwaukee Mile 7722 W. Greenfield Avenue West Allis WI 53214 United States;X-APPLE-RADIUS=500;X-TITLE=7722 W. Greenfield Avenue:geo:-88.0084904,43.0166299
END:VEVENT
END:VCALENDAR