BEGIN:VCALENDAR
VERSION:2.0
PRODID:-//Milwaukee Region SCCA - ECPv6.15.16.1//NONSGML v1.0//EN
CALSCALE:GREGORIAN
METHOD:PUBLISH
X-WR-CALNAME:Milwaukee Region SCCA
X-ORIGINAL-URL:https://scca-milwaukee.org
X-WR-CALDESC:Events for Milwaukee Region SCCA
REFRESH-INTERVAL;VALUE=DURATION:PT1H
X-Robots-Tag:noindex
X-PUBLISHED-TTL:PT1H
BEGIN:VTIMEZONE
TZID:America/Chicago
BEGIN:DAYLIGHT
TZOFFSETFROM:-0600
TZOFFSETTO:-0500
TZNAME:CDT
DTSTART:20200308T080000
END:DAYLIGHT
BEGIN:STANDARD
TZOFFSETFROM:-0500
TZOFFSETTO:-0600
TZNAME:CST
DTSTART:20201101T070000
END:STANDARD
BEGIN:DAYLIGHT
TZOFFSETFROM:-0600
TZOFFSETTO:-0500
TZNAME:CDT
DTSTART:20210314T080000
END:DAYLIGHT
BEGIN:STANDARD
TZOFFSETFROM:-0500
TZOFFSETTO:-0600
TZNAME:CST
DTSTART:20211107T070000
END:STANDARD
BEGIN:DAYLIGHT
TZOFFSETFROM:-0600
TZOFFSETTO:-0500
TZNAME:CDT
DTSTART:20220313T080000
END:DAYLIGHT
BEGIN:STANDARD
TZOFFSETFROM:-0500
TZOFFSETTO:-0600
TZNAME:CST
DTSTART:20221106T070000
END:STANDARD
END:VTIMEZONE
BEGIN:VEVENT
DTSTART;VALUE=DATE:20211015
DTEND;VALUE=DATE:20211018
DTSTAMP:20260424T225905
CREATED:20210228T174746Z
LAST-MODIFIED:20210228T174746Z
UID:10000890-1634256000-1634515199@scca-milwaukee.org
SUMMARY:SCCA RallyX Nationals
DESCRIPTION:SCCA RallyCross is a scaled-down version of a rally stage laid out on a non-paved plot of land where the course is delineated by traffic cones instead of trees or rocks. Participation requirements are considerably less than those associated with other forms of performance rally\, so drivers usually only need a mechanically sound\, hardtop vehicle and a helmet to come play in the dirt.\n\nThe site also features plentiful camping space as well as dedicated bathroom and shower facilities. The Western Ohio/Ohio Valley Regions have hosted outstanding post-race gatherings with plenty of complimentary barbeque and spirits on Saturday nights at National Tour events. Competitors can expect that level of hospitality and then some to continue for the National Championship.\nIf you are looking for more information head to our What is RallyCross? page and I Want to RallyCross for a list of  things you need to bring to an event and some tips to assist you along the way. \n 
URL:https://scca-milwaukee.org/event/scca-rallyx-nationals/
LOCATION:Ross County Fairgrounds\, 344 Fairgrounds Rd\, Chillicothe\, OH\, 45601
CATEGORIES:RallyX
GEO:39.4081671;-83.0047051
X-APPLE-STRUCTURED-LOCATION;VALUE=URI;X-ADDRESS=Ross County Fairgrounds 344 Fairgrounds Rd Chillicothe OH 45601;X-APPLE-RADIUS=500;X-TITLE=344 Fairgrounds Rd:geo:-83.0047051,39.4081671
END:VEVENT
END:VCALENDAR