BEGIN:VCALENDAR
VERSION:2.0
PRODID:-//Milwaukee Region SCCA - ECPv6.15.16.1//NONSGML v1.0//EN
CALSCALE:GREGORIAN
METHOD:PUBLISH
X-ORIGINAL-URL:https://scca-milwaukee.org
X-WR-CALDESC:Events for Milwaukee Region SCCA
REFRESH-INTERVAL;VALUE=DURATION:PT1H
X-Robots-Tag:noindex
X-PUBLISHED-TTL:PT1H
BEGIN:VTIMEZONE
TZID:America/Chicago
BEGIN:DAYLIGHT
TZOFFSETFROM:-0600
TZOFFSETTO:-0500
TZNAME:CDT
DTSTART:20200308T080000
END:DAYLIGHT
BEGIN:STANDARD
TZOFFSETFROM:-0500
TZOFFSETTO:-0600
TZNAME:CST
DTSTART:20201101T070000
END:STANDARD
BEGIN:DAYLIGHT
TZOFFSETFROM:-0600
TZOFFSETTO:-0500
TZNAME:CDT
DTSTART:20210314T080000
END:DAYLIGHT
BEGIN:STANDARD
TZOFFSETFROM:-0500
TZOFFSETTO:-0600
TZNAME:CST
DTSTART:20211107T070000
END:STANDARD
BEGIN:DAYLIGHT
TZOFFSETFROM:-0600
TZOFFSETTO:-0500
TZNAME:CDT
DTSTART:20220313T080000
END:DAYLIGHT
BEGIN:STANDARD
TZOFFSETFROM:-0500
TZOFFSETTO:-0600
TZNAME:CST
DTSTART:20221106T070000
END:STANDARD
END:VTIMEZONE
BEGIN:VEVENT
DTSTART;TZID=America/Chicago:20210821T090000
DTEND;TZID=America/Chicago:20210821T163000
DTSTAMP:20260424T214333
CREATED:20210609T161235Z
LAST-MODIFIED:20210609T162958Z
UID:10000902-1629536400-1629563400@scca-milwaukee.org
SUMMARY:Mini Monte Regional Tour
DESCRIPTION:Come joint Milwaukee Region SCCA for a rallye.  We will be exploring the northern Kettle Moraine forest area of Sheboygan and Manitowoc Counties.  We will also pass by Road America race track\, and run some of the original Elkhart Lake street race course of the early 1950s. \nThis event will be a bit different than our other rallyes in that we will be using Monte Carlo style timing and route instructions.  Monte Carlo timing refers to the system used in the classic European rallyes of the 1950s.  In a Monte Carlo\, you are not assigned an average speed (CAST).  Instead\, all the controls are shown on the route instructions\, along with the official mileage and an arrival time for car 0.  The contestant needs to determine the proper speed to travel in order to pass the control at the right time.  Penalties will be assessed at 1 point per second early or late\, up to a maximum of 1 minute (60 points).  You can expect to see many controls on the route\, including some gauntlets where several controls happen very close together. \nThe Kettle Moraine is very scenic and should provide for a nice day on some wonderful winding roads.  We hope to see you there. \n  \nDate:  August 21\, 2021\nRegistration:  9:00 AM\nDrivers School: 10:30 AM\nFirst Car Starts:  11:01 AM\nFinish around 4 PM\nCost: $40/car\nLocation: Deer Trace Kohler Shopping Center \nWI28 and I-43 in Sheboygan\, WI (near Home Depot) \nGPS 43.71607473761796\, -87.76527373030312 \n  \nRegister at:  www.msreg.com/MonteRallye21
URL:https://scca-milwaukee.org/event/mini-monte-regional-tour-2021/
LOCATION:Deertrace Kohler Shopping Center\, 4097 WI-28\, Sheboygan\, WI\, 53081\, United States
CATEGORIES:Road Rally
GEO:43.7167638;-87.765723
X-APPLE-STRUCTURED-LOCATION;VALUE=URI;X-ADDRESS=Deertrace Kohler Shopping Center 4097 WI-28 Sheboygan WI 53081 United States;X-APPLE-RADIUS=500;X-TITLE=4097 WI-28:geo:-87.765723,43.7167638
END:VEVENT
END:VCALENDAR