BEGIN:VCALENDAR
VERSION:2.0
PRODID:-//Milwaukee Region SCCA - ECPv6.15.16.1//NONSGML v1.0//EN
CALSCALE:GREGORIAN
METHOD:PUBLISH
X-ORIGINAL-URL:https://scca-milwaukee.org
X-WR-CALDESC:Events for Milwaukee Region SCCA
REFRESH-INTERVAL;VALUE=DURATION:PT1H
X-Robots-Tag:noindex
X-PUBLISHED-TTL:PT1H
BEGIN:VTIMEZONE
TZID:America/Chicago
BEGIN:DAYLIGHT
TZOFFSETFROM:-0600
TZOFFSETTO:-0500
TZNAME:CDT
DTSTART:20180311T080000
END:DAYLIGHT
BEGIN:STANDARD
TZOFFSETFROM:-0500
TZOFFSETTO:-0600
TZNAME:CST
DTSTART:20181104T070000
END:STANDARD
BEGIN:DAYLIGHT
TZOFFSETFROM:-0600
TZOFFSETTO:-0500
TZNAME:CDT
DTSTART:20190310T080000
END:DAYLIGHT
BEGIN:STANDARD
TZOFFSETFROM:-0500
TZOFFSETTO:-0600
TZNAME:CST
DTSTART:20191103T070000
END:STANDARD
BEGIN:DAYLIGHT
TZOFFSETFROM:-0600
TZOFFSETTO:-0500
TZNAME:CDT
DTSTART:20200308T080000
END:DAYLIGHT
BEGIN:STANDARD
TZOFFSETFROM:-0500
TZOFFSETTO:-0600
TZNAME:CST
DTSTART:20201101T070000
END:STANDARD
BEGIN:DAYLIGHT
TZOFFSETFROM:-0600
TZOFFSETTO:-0500
TZNAME:CDT
DTSTART:20210314T080000
END:DAYLIGHT
BEGIN:STANDARD
TZOFFSETFROM:-0500
TZOFFSETTO:-0600
TZNAME:CST
DTSTART:20211107T070000
END:STANDARD
END:VTIMEZONE
BEGIN:VEVENT
DTSTART;TZID=America/Chicago:20200517T080000
DTEND;TZID=America/Chicago:20200517T170000
DTSTAMP:20260424T220318
CREATED:20200110T222444Z
LAST-MODIFIED:20200511T154303Z
UID:10000856-1589702400-1589734800@scca-milwaukee.org
SUMMARY:Postponed: RallyX Event 3
DESCRIPTION:This event has been postponed due to the COVID-19 pandemic\, we will provide information on rescheduling as we know more. \nRallyCross is the most widespread and readily accessible form of extreme dirt motorsport in the Sports Car Club of America\, and the perfect place to see if you have what it takes to power slide your way to victory. Imagine a scaled down version of a rally stage laid out on a non-paved plot of land where the course is delineated by traffic cones instead of trees or rocks.  As a result\, you are able to drive the event in your everyday car on the weekend and still drive to work on Monday (after a good washing). \nThe Milwaukee Region will have helmets to loan and will assist the first-time competitors with entering the appropriate class\, making their way through technical inspection and finding their way around the course. Best of all\, it’s great fun! \nIf you are looking for more information head to our What is RallyCross? page and I Want to RallyCross for a list of  things you need to bring to an event and some tips to assist you along the way.
URL:https://scca-milwaukee.org/event/rallyx-event-2020-3/
LOCATION:Byron Motorsports Park\, 2525 E Ash Rd\, Byron\, IL\, 61010\, United States
CATEGORIES:RallyX
GEO:42.0875824;-89.2881472
X-APPLE-STRUCTURED-LOCATION;VALUE=URI;X-ADDRESS=Byron Motorsports Park 2525 E Ash Rd Byron IL 61010 United States;X-APPLE-RADIUS=500;X-TITLE=2525 E Ash Rd:geo:-89.2881472,42.0875824
END:VEVENT
BEGIN:VEVENT
DTSTART;TZID=America/Chicago:20191124T070000
DTEND;TZID=America/Chicago:20191124T170000
DTSTAMP:20260424T220318
CREATED:20190302T153252Z
LAST-MODIFIED:20190715T183433Z
UID:10000689-1574578800-1574614800@scca-milwaukee.org
SUMMARY:RallyX Bonus Event
DESCRIPTION:RallyCross is the most widespread and readily accessible form of extreme dirt motorsport in the Sports Car Club of America\, and the perfect place to see if you have what it takes to power slide your way to victory. Imagine a scaled down version of a rally stage laid out on a non-paved plot of land where the course is delineated by traffic cones instead of trees or rocks.  As a result\, you are able to drive the event in your everyday car on the weekend and still drive to work on Monday (after a good washing). \nThe Milwaukee Region will have helmets to loan and will assist the first-time competitors with entering the appropriate class\, making their way through technical inspection and finding their way around the course. Best of all\, it’s great fun! \nIf you are looking for more information head to our What is RallyCross? page and I Want to RallyCross for a list of  things you need to bring to an event and some tips to assist you along the way.
URL:https://scca-milwaukee.org/event/rallycross-bonus-event-2019/
LOCATION:Byron Motorsports Park\, 2525 E Ash Rd\, Byron\, IL\, 61010\, United States
CATEGORIES:RallyX
GEO:42.0875824;-89.2881472
X-APPLE-STRUCTURED-LOCATION;VALUE=URI;X-ADDRESS=Byron Motorsports Park 2525 E Ash Rd Byron IL 61010 United States;X-APPLE-RADIUS=500;X-TITLE=2525 E Ash Rd:geo:-89.2881472,42.0875824
END:VEVENT
BEGIN:VEVENT
DTSTART;TZID=America/Chicago:20191027T070000
DTEND;TZID=America/Chicago:20191027T170000
DTSTAMP:20260424T220318
CREATED:20190302T153132Z
LAST-MODIFIED:20191029T144711Z
UID:10000688-1572159600-1572195600@scca-milwaukee.org
SUMMARY:RallyX Event 9
DESCRIPTION:Results:\nClass | Raw \nRallyCross is the most widespread and readily accessible form of extreme dirt motorsport in the Sports Car Club of America\, and the perfect place to see if you have what it takes to power slide your way to victory. Imagine a scaled down version of a rally stage laid out on a non-paved plot of land where the course is delineated by traffic cones instead of trees or rocks.  As a result\, you are able to drive the event in your everyday car on the weekend and still drive to work on Monday (after a good washing). \nThe Milwaukee Region will have helmets to loan and will assist the first-time competitors with entering the appropriate class\, making their way through technical inspection and finding their way around the course. Best of all\, it’s great fun! \nIf you are looking for more information head to our What is RallyCross? page and I Want to RallyCross for a list of  things you need to bring to an event and some tips to assist you along the way.
URL:https://scca-milwaukee.org/event/rallycross-event-9-2019/
LOCATION:Byron Motorsports Park\, 2525 E Ash Rd\, Byron\, IL\, 61010\, United States
CATEGORIES:RallyX
GEO:42.0875824;-89.2881472
X-APPLE-STRUCTURED-LOCATION;VALUE=URI;X-ADDRESS=Byron Motorsports Park 2525 E Ash Rd Byron IL 61010 United States;X-APPLE-RADIUS=500;X-TITLE=2525 E Ash Rd:geo:-89.2881472,42.0875824
END:VEVENT
BEGIN:VEVENT
DTSTART;TZID=America/Chicago:20190901T070000
DTEND;TZID=America/Chicago:20190901T170000
DTSTAMP:20260424T220318
CREATED:20190503T033115Z
LAST-MODIFIED:20190715T183533Z
UID:10000695-1567321200-1567357200@scca-milwaukee.org
SUMMARY:RallyX Event 6
DESCRIPTION:RallyCross is the most widespread and readily accessible form of extreme dirt motorsport in the Sports Car Club of America\, and the perfect place to see if you have what it takes to power slide your way to victory. Imagine a scaled down version of a rally stage laid out on a non-paved plot of land where the course is delineated by traffic cones instead of trees or rocks.  As a result\, you are able to drive the event in your everyday car on the weekend and still drive to work on Monday (after a good washing). \nThe Milwaukee Region will have helmets to loan and will assist the first-time competitors with entering the appropriate class\, making their way through technical inspection and finding their way around the course. Best of all\, it’s great fun! \nIf you are looking for more information head to our What is RallyCross? page and I Want to RallyCross for a list of  things you need to bring to an event and some tips to assist you along the way.
URL:https://scca-milwaukee.org/event/rallycross-event-6/
LOCATION:Byron Motorsports Park\, 2525 E Ash Rd\, Byron\, IL\, 61010\, United States
CATEGORIES:RallyX
GEO:42.0875824;-89.2881472
X-APPLE-STRUCTURED-LOCATION;VALUE=URI;X-ADDRESS=Byron Motorsports Park 2525 E Ash Rd Byron IL 61010 United States;X-APPLE-RADIUS=500;X-TITLE=2525 E Ash Rd:geo:-89.2881472,42.0875824
END:VEVENT
BEGIN:VEVENT
DTSTART;TZID=America/Chicago:20190630T070000
DTEND;TZID=America/Chicago:20190630T170000
DTSTAMP:20260424T220318
CREATED:20190302T152114Z
LAST-MODIFIED:20190715T183551Z
UID:10000684-1561878000-1561914000@scca-milwaukee.org
SUMMARY:RallyX Event 4
DESCRIPTION:RallyCross is the most widespread and readily accessible form of extreme dirt motorsport in the Sports Car Club of America\, and the perfect place to see if you have what it takes to power slide your way to victory. Imagine a scaled down version of a rally stage laid out on a non-paved plot of land where the course is delineated by traffic cones instead of trees or rocks.  As a result\, you are able to drive the event in your everyday car on the weekend and still drive to work on Monday (after a good washing). \nThe Milwaukee Region will have helmets to loan and will assist the first-time competitors with entering the appropriate class\, making their way through technical inspection and finding their way around the course. Best of all\, it’s great fun! \nIf you are looking for more information head to our What is RallyCross? page and I Want to RallyCross for a list of  things you need to bring to an event and some tips to assist you along the way.
URL:https://scca-milwaukee.org/event/rallycross-event-4-2019/
LOCATION:Byron Motorsports Park\, 2525 E Ash Rd\, Byron\, IL\, 61010\, United States
CATEGORIES:RallyX
GEO:42.0875824;-89.2881472
X-APPLE-STRUCTURED-LOCATION;VALUE=URI;X-ADDRESS=Byron Motorsports Park 2525 E Ash Rd Byron IL 61010 United States;X-APPLE-RADIUS=500;X-TITLE=2525 E Ash Rd:geo:-89.2881472,42.0875824
END:VEVENT
BEGIN:VEVENT
DTSTART;TZID=America/Chicago:20190526T070000
DTEND;TZID=America/Chicago:20190526T170000
DTSTAMP:20260424T220318
CREATED:20190302T151921Z
LAST-MODIFIED:20190715T183633Z
UID:10000682-1558854000-1558890000@scca-milwaukee.org
SUMMARY:RallyCross Event 3
DESCRIPTION:RallyCross is the most widespread and readily accessible form of extreme dirt motorsport in the Sports Car Club of America\, and the perfect place to see if you have what it takes to power slide your way to victory. Imagine a scaled down version of a rally stage laid out on a non-paved plot of land where the course is delineated by traffic cones instead of trees or rocks.  As a result\, you are able to drive the event in your everyday car on the weekend and still drive to work on Monday (after a good washing). \nThe Milwaukee Region will have helmets to loan and will assist the first-time competitors with entering the appropriate class\, making their way through technical inspection and finding their way around the course. Best of all\, it’s great fun! \nIf you are looking for more information head to our What is RallyCross? page and I Want to RallyCross for a list of  things you need to bring to an event and some tips to assist you along the way.
URL:https://scca-milwaukee.org/event/rallycross-event-3-2019/
LOCATION:Byron Motorsports Park\, 2525 E Ash Rd\, Byron\, IL\, 61010\, United States
CATEGORIES:RallyX
GEO:42.0875824;-89.2881472
X-APPLE-STRUCTURED-LOCATION;VALUE=URI;X-ADDRESS=Byron Motorsports Park 2525 E Ash Rd Byron IL 61010 United States;X-APPLE-RADIUS=500;X-TITLE=2525 E Ash Rd:geo:-89.2881472,42.0875824
END:VEVENT
BEGIN:VEVENT
DTSTART;TZID=America/Chicago:20190428T070000
DTEND;TZID=America/Chicago:20190428T170000
DTSTAMP:20260424T220318
CREATED:20190302T151403Z
LAST-MODIFIED:20190715T183845Z
UID:10000680-1556434800-1556470800@scca-milwaukee.org
SUMMARY:RallyX Event 2 (2019) - CANCELED
DESCRIPTION:UPDATE:  Due to weather we need to cancel RallyX Event #2\, if you registered you have received a full refund.   \nRallyCross is the most widespread and readily accessible form of extreme dirt motorsport in the Sports Car Club of America\, and the perfect place to see if you have what it takes to power slide your way to victory. Imagine a scaled down version of a rally stage laid out on a non-paved plot of land where the course is delineated by traffic cones instead of trees or rocks.  As a result\, you are able to drive the event in your everyday car on the weekend and still drive to work on Monday (after a good washing). \nThe Milwaukee Region will have helmets to loan and will assist the first-time competitors with entering the appropriate class\, making their way through technical inspection and finding their way around the course. Best of all\, it’s great fun! \nIf you are looking for more information head to our What is RallyCross? page and I Want to RallyCross for a list of  things you need to bring to an event and some tips to assist you along the way.
URL:https://scca-milwaukee.org/event/rallycross-event-2/
LOCATION:Byron Motorsports Park\, 2525 E Ash Rd\, Byron\, IL\, 61010\, United States
CATEGORIES:RallyX
GEO:42.0875824;-89.2881472
X-APPLE-STRUCTURED-LOCATION;VALUE=URI;X-ADDRESS=Byron Motorsports Park 2525 E Ash Rd Byron IL 61010 United States;X-APPLE-RADIUS=500;X-TITLE=2525 E Ash Rd:geo:-89.2881472,42.0875824
END:VEVENT
BEGIN:VEVENT
DTSTART;TZID=America/Chicago:20190331T070000
DTEND;TZID=America/Chicago:20190331T170000
DTSTAMP:20260424T220318
CREATED:20190302T150847Z
LAST-MODIFIED:20190305T163004Z
UID:10000678-1554015600-1554051600@scca-milwaukee.org
SUMMARY:RallyCross Event 1
DESCRIPTION:RallyCross is the most widespread and readily accessible form of extreme dirt motorsport in the Sports Car Club of America\, and the perfect place to see if you have what it takes to power slide your way to victory. Imagine a scaled down version of a rally stage laid out on a non-paved plot of land where the course is delineated by traffic cones instead of trees or rocks.  As a result\, you are able to drive the event in your everyday car on the weekend and still drive to work on Monday (after a good washing). \nThe Milwaukee Region will have helmets to loan and will assist the first-time competitors with entering the appropriate class\, making their way through technical inspection and finding their way around the course. Best of all\, it’s great fun! \nIf you are looking for more information head to our What is RallyCross? page and I Want to RallyCross for a list of  things you need to bring to an event and some tips to assist you along the way.
URL:https://scca-milwaukee.org/event/rallycross-event-1-2019/
LOCATION:Byron Motorsports Park\, 2525 E Ash Rd\, Byron\, IL\, 61010\, United States
CATEGORIES:RallyX
GEO:42.0875824;-89.2881472
X-APPLE-STRUCTURED-LOCATION;VALUE=URI;X-ADDRESS=Byron Motorsports Park 2525 E Ash Rd Byron IL 61010 United States;X-APPLE-RADIUS=500;X-TITLE=2525 E Ash Rd:geo:-89.2881472,42.0875824
END:VEVENT
END:VCALENDAR