BEGIN:VCALENDAR
VERSION:2.0
PRODID:-//Milwaukee Region SCCA - ECPv6.15.16.1//NONSGML v1.0//EN
CALSCALE:GREGORIAN
METHOD:PUBLISH
X-WR-CALNAME:Milwaukee Region SCCA
X-ORIGINAL-URL:https://scca-milwaukee.org
X-WR-CALDESC:Events for Milwaukee Region SCCA
REFRESH-INTERVAL;VALUE=DURATION:PT1H
X-Robots-Tag:noindex
X-PUBLISHED-TTL:PT1H
BEGIN:VTIMEZONE
TZID:America/Chicago
BEGIN:DAYLIGHT
TZOFFSETFROM:-0600
TZOFFSETTO:-0500
TZNAME:CDT
DTSTART:20190310T080000
END:DAYLIGHT
BEGIN:STANDARD
TZOFFSETFROM:-0500
TZOFFSETTO:-0600
TZNAME:CST
DTSTART:20191103T070000
END:STANDARD
BEGIN:DAYLIGHT
TZOFFSETFROM:-0600
TZOFFSETTO:-0500
TZNAME:CDT
DTSTART:20200308T080000
END:DAYLIGHT
BEGIN:STANDARD
TZOFFSETFROM:-0500
TZOFFSETTO:-0600
TZNAME:CST
DTSTART:20201101T070000
END:STANDARD
BEGIN:DAYLIGHT
TZOFFSETFROM:-0600
TZOFFSETTO:-0500
TZNAME:CDT
DTSTART:20210314T080000
END:DAYLIGHT
BEGIN:STANDARD
TZOFFSETFROM:-0500
TZOFFSETTO:-0600
TZNAME:CST
DTSTART:20211107T070000
END:STANDARD
END:VTIMEZONE
BEGIN:VEVENT
DTSTART;TZID=America/Chicago:20200507T183000
DTEND;TZID=America/Chicago:20200507T203000
DTSTAMP:20260424T220135
CREATED:20200109T160003Z
LAST-MODIFIED:20200402T150602Z
UID:10000834-1588876200-1588883400@scca-milwaukee.org
SUMMARY:Board of Directors Meeting
DESCRIPTION:Anyone and everyone is encouraged to attend the Board of Director meetings. These monthly meetings are used to keep a pulse on the happenings of the Milwaukee Region\, and reports are given for each discipline in the region. \nIt’s your club\, get involved.  We are always looking for people to get involved in some capacity.  Not to mention food\, drinks\, and bench racing is a good time for car folks.
URL:https://scca-milwaukee.org/event/board-of-directors-meeting-2-2020-04-09-2020-05-07/
LOCATION:Amelia’s Restaurant\, 724 E. Layton Ave\, Milwaukee\, WI\, 53207\, United States
CATEGORIES:Meetings
GEO:42.9595506;-87.9001189
X-APPLE-STRUCTURED-LOCATION;VALUE=URI;X-ADDRESS=Amelia’s Restaurant 724 E. Layton Ave Milwaukee WI 53207 United States;X-APPLE-RADIUS=500;X-TITLE=724 E. Layton Ave:geo:-87.9001189,42.9595506
END:VEVENT
BEGIN:VEVENT
DTSTART;TZID=America/Chicago:20200409T183000
DTEND;TZID=America/Chicago:20200409T203000
DTSTAMP:20260424T220135
CREATED:20200109T160003Z
LAST-MODIFIED:20200109T161222Z
UID:10000832-1586457000-1586464200@scca-milwaukee.org
SUMMARY:Board of Directors Meeting
DESCRIPTION:Anyone and everyone is encouraged to attend the Board of Director meetings. These monthly meetings are used to keep a pulse on the happenings of the Milwaukee Region\, and reports are given for each discipline in the region. \nIt’s your club\, get involved.  We are always looking for people to get involved in some capacity.  Not to mention food\, drinks\, and bench racing is a good time for car folks.
URL:https://scca-milwaukee.org/event/board-of-directors-meeting-2/2020-04-09/
LOCATION:Amelia’s Restaurant\, 724 E. Layton Ave\, Milwaukee\, WI\, 53207\, United States
CATEGORIES:Meetings
GEO:42.9595506;-87.9001189
X-APPLE-STRUCTURED-LOCATION;VALUE=URI;X-ADDRESS=Amelia’s Restaurant 724 E. Layton Ave Milwaukee WI 53207 United States;X-APPLE-RADIUS=500;X-TITLE=724 E. Layton Ave:geo:-87.9001189,42.9595506
END:VEVENT
BEGIN:VEVENT
DTSTART;TZID=America/Chicago:20200402T183000
DTEND;TZID=America/Chicago:20200402T203000
DTSTAMP:20260424T220135
CREATED:20200109T160003Z
LAST-MODIFIED:20200402T150637Z
UID:10000833-1585852200-1585859400@scca-milwaukee.org
SUMMARY:Board of Directors Meeting CANCELLED
DESCRIPTION:This meeting has been cancelled. \n  \nAnyone and everyone is encouraged to attend the Board of Director meetings. These monthly meetings are used to keep a pulse on the happenings of the Milwaukee Region\, and reports are given for each discipline in the region. \nIt’s your club\, get involved.  We are always looking for people to get involved in some capacity.  Not to mention food\, drinks\, and bench racing is a good time for car folks.
URL:https://scca-milwaukee.org/event/board-of-directors-meeting-2-2020-04-09/
LOCATION:Amelia’s Restaurant\, 724 E. Layton Ave\, Milwaukee\, WI\, 53207\, United States
CATEGORIES:Meetings
GEO:42.9595506;-87.9001189
X-APPLE-STRUCTURED-LOCATION;VALUE=URI;X-ADDRESS=Amelia’s Restaurant 724 E. Layton Ave Milwaukee WI 53207 United States;X-APPLE-RADIUS=500;X-TITLE=724 E. Layton Ave:geo:-87.9001189,42.9595506
END:VEVENT
END:VCALENDAR