BEGIN:VCALENDAR
VERSION:2.0
PRODID:-//Milwaukee Region SCCA - ECPv6.15.16.1//NONSGML v1.0//EN
CALSCALE:GREGORIAN
METHOD:PUBLISH
X-WR-CALNAME:Milwaukee Region SCCA
X-ORIGINAL-URL:https://scca-milwaukee.org
X-WR-CALDESC:Events for Milwaukee Region SCCA
REFRESH-INTERVAL;VALUE=DURATION:PT1H
X-Robots-Tag:noindex
X-PUBLISHED-TTL:PT1H
BEGIN:VTIMEZONE
TZID:America/Chicago
BEGIN:DAYLIGHT
TZOFFSETFROM:-0600
TZOFFSETTO:-0500
TZNAME:CDT
DTSTART:20160313T080000
END:DAYLIGHT
BEGIN:STANDARD
TZOFFSETFROM:-0500
TZOFFSETTO:-0600
TZNAME:CST
DTSTART:20161106T070000
END:STANDARD
BEGIN:DAYLIGHT
TZOFFSETFROM:-0600
TZOFFSETTO:-0500
TZNAME:CDT
DTSTART:20170312T080000
END:DAYLIGHT
BEGIN:STANDARD
TZOFFSETFROM:-0500
TZOFFSETTO:-0600
TZNAME:CST
DTSTART:20171105T070000
END:STANDARD
BEGIN:DAYLIGHT
TZOFFSETFROM:-0600
TZOFFSETTO:-0500
TZNAME:CDT
DTSTART:20180311T080000
END:DAYLIGHT
BEGIN:STANDARD
TZOFFSETFROM:-0500
TZOFFSETTO:-0600
TZNAME:CST
DTSTART:20181104T070000
END:STANDARD
BEGIN:DAYLIGHT
TZOFFSETFROM:-0600
TZOFFSETTO:-0500
TZNAME:CDT
DTSTART:20190310T080000
END:DAYLIGHT
BEGIN:STANDARD
TZOFFSETFROM:-0500
TZOFFSETTO:-0600
TZNAME:CST
DTSTART:20191103T070000
END:STANDARD
BEGIN:DAYLIGHT
TZOFFSETFROM:-0600
TZOFFSETTO:-0500
TZNAME:CDT
DTSTART:20200308T080000
END:DAYLIGHT
BEGIN:STANDARD
TZOFFSETFROM:-0500
TZOFFSETTO:-0600
TZNAME:CST
DTSTART:20201101T070000
END:STANDARD
BEGIN:DAYLIGHT
TZOFFSETFROM:-0600
TZOFFSETTO:-0500
TZNAME:CDT
DTSTART:20210314T080000
END:DAYLIGHT
BEGIN:STANDARD
TZOFFSETFROM:-0500
TZOFFSETTO:-0600
TZNAME:CST
DTSTART:20211107T070000
END:STANDARD
BEGIN:DAYLIGHT
TZOFFSETFROM:-0600
TZOFFSETTO:-0500
TZNAME:CDT
DTSTART:20220313T080000
END:DAYLIGHT
BEGIN:STANDARD
TZOFFSETFROM:-0500
TZOFFSETTO:-0600
TZNAME:CST
DTSTART:20221106T070000
END:STANDARD
BEGIN:DAYLIGHT
TZOFFSETFROM:-0600
TZOFFSETTO:-0500
TZNAME:CDT
DTSTART:20230312T080000
END:DAYLIGHT
BEGIN:STANDARD
TZOFFSETFROM:-0500
TZOFFSETTO:-0600
TZNAME:CST
DTSTART:20231105T070000
END:STANDARD
BEGIN:DAYLIGHT
TZOFFSETFROM:-0600
TZOFFSETTO:-0500
TZNAME:CDT
DTSTART:20240310T080000
END:DAYLIGHT
BEGIN:STANDARD
TZOFFSETFROM:-0500
TZOFFSETTO:-0600
TZNAME:CST
DTSTART:20241103T070000
END:STANDARD
END:VTIMEZONE
BEGIN:VEVENT
DTSTART;VALUE=DATE:20230414
DTEND;VALUE=DATE:20230417
DTSTAMP:20260424T230136
CREATED:20230314T013940Z
LAST-MODIFIED:20230314T014551Z
UID:10000974-1681430400-1681689599@scca-milwaukee.org
SUMMARY:2023 CenDiv Drivers School / Double Divisional
DESCRIPTION:Please join us for CenDiv’s\nDrivers School and Championship Series\nDouble Divisional Runoffs Qualifier\nPresented by Milwaukee\, Chicago\, and Land O’Lakes Regions\nApril 14-16\, 2023 at Blackhawk Farms Raceway \nEvent information is available at the registration link.
URL:https://scca-milwaukee.org/event/2023-cendiv-drivers-school-double-divisional/
LOCATION:Blackhawk Farms Raceway\, 15538 Prairie Road\, South Beloit\, IL\, 61080\, United States
CATEGORIES:Road Racing
GEO:42.4845542;-89.0989446
X-APPLE-STRUCTURED-LOCATION;VALUE=URI;X-ADDRESS=Blackhawk Farms Raceway 15538 Prairie Road South Beloit IL 61080 United States;X-APPLE-RADIUS=500;X-TITLE=15538 Prairie Road:geo:-89.0989446,42.4845542
END:VEVENT
BEGIN:VEVENT
DTSTART;VALUE=DATE:20170422
DTEND;VALUE=DATE:20170424
DTSTAMP:20260424T230136
CREATED:20161220T180504Z
LAST-MODIFIED:20170327T064416Z
UID:10000559-1492819200-1492991999@scca-milwaukee.org
SUMMARY:Road Racing CenDiv Double Divisional
DESCRIPTION:CenDiv’s Nonda van Gulden Memorial Championship Series Double Divisional \nThis event is co-hosted by Milwaukee\, Chicago\, Blackhawk Valley\, and Land O’Lakes SCCA Regions \nLink to Supplementary Regulations \n \nThere are on-track sessions on Saturday\, 04/22/2017\, morning for the Drivers School participants.  As such\, the first session for the Divisional will not occur until around 9:15 am.  The on-track sessions for the Sunday\, 04/23/2017\, Divisional will begin around 8:30 am. \nOne-day Regional Entry Fee $275\nBoth Days Regional Entry Fee $495\nAdd $20 compliance fee for SRF\, SRF3\, and FE for the weekend.\nAdd $175 for same driver in each additional class entered per regional. Additional compliance fees may apply. \nOnline registration closes at 11:59pm CDT\, April 18\, 2017 This is also the deadline for cancellation without penalty\, and any entries submitted after this date (by mail or at the track) are subject to a $40 late fee. \nCenDiv Reserved Numbers held until NOON April 8\, 2017. \nDeferred billing!  Credit card payments will not be processed before April 20th\, 2017 \nBlackhawk Farms Raceway Pit Vehicle Registration
URL:https://scca-milwaukee.org/event/central-division-double-divisional-races-2017/
LOCATION:Blackhawk Farms Raceway\, 15538 Prairie Road\, South Beloit\, IL\, 61080\, United States
CATEGORIES:Road Racing
GEO:42.4845542;-89.0989446
X-APPLE-STRUCTURED-LOCATION;VALUE=URI;X-ADDRESS=Blackhawk Farms Raceway 15538 Prairie Road South Beloit IL 61080 United States;X-APPLE-RADIUS=500;X-TITLE=15538 Prairie Road:geo:-89.0989446,42.4845542
END:VEVENT
BEGIN:VEVENT
DTSTART;VALUE=DATE:20170420
DTEND;VALUE=DATE:20170423
DTSTAMP:20260424T230136
CREATED:20161220T180409Z
LAST-MODIFIED:20170327T064441Z
UID:10000555-1492646400-1492905599@scca-milwaukee.org
SUMMARY:Road Racing CenDiv Drivers School
DESCRIPTION:Central Divisional’s Nonda van Gulden Memorial Drivers School \nThis event is co-hosted by Milwaukee\, Chicago\, Blackhawk Valley\, and Land O’Lakes SCCA Regions \nLink to Supplementary Regulations \n \nA mandatory online course is required for all participants on a Novice Permit.  The must be completed prior to the event and the information for this can be found here \nA mandatory classroom for all participants on a Novice Permit will be held Thursday evening\, 04/20/2017 \nFriday is a full day of on-track sessions with another mandatory but short classroom session on Friday evening\, 04/21/2017. \nSaturday morning\, 04/22/2017\, will have practice starts and a short race.  After the race is completed\, sign-offs will occur on the Novice Permits. \nDriver School Entry Fee $350 \nOnline registration closes at 11:59pm CDT\, April 18\, 2017 This is also the deadline for cancellation without penalty\, and any entries submitted after this date (by mail or at the track) are subject to a $40 late fee. \nCenDiv Reserved Numbers held until NOON April 8\, 2017. \nDeferred billing!  Credit card payments will not be processed before April 20th\, 2017 \nBlackhawk Farms Raceway Pit Vehicle Registration
URL:https://scca-milwaukee.org/event/central-division-drivers-school-2017/
LOCATION:Blackhawk Farms Raceway\, 15538 Prairie Road\, South Beloit\, IL\, 61080\, United States
CATEGORIES:Road Racing
GEO:42.4845542;-89.0989446
X-APPLE-STRUCTURED-LOCATION;VALUE=URI;X-ADDRESS=Blackhawk Farms Raceway 15538 Prairie Road South Beloit IL 61080 United States;X-APPLE-RADIUS=500;X-TITLE=15538 Prairie Road:geo:-89.0989446,42.4845542
END:VEVENT
END:VCALENDAR