BEGIN:VCALENDAR
VERSION:2.0
PRODID:-//Milwaukee Region SCCA - ECPv6.15.16.1//NONSGML v1.0//EN
CALSCALE:GREGORIAN
METHOD:PUBLISH
X-ORIGINAL-URL:https://scca-milwaukee.org
X-WR-CALDESC:Events for Milwaukee Region SCCA
REFRESH-INTERVAL;VALUE=DURATION:PT1H
X-Robots-Tag:noindex
X-PUBLISHED-TTL:PT1H
BEGIN:VTIMEZONE
TZID:America/Chicago
BEGIN:DAYLIGHT
TZOFFSETFROM:-0600
TZOFFSETTO:-0500
TZNAME:CDT
DTSTART:20160313T080000
END:DAYLIGHT
BEGIN:STANDARD
TZOFFSETFROM:-0500
TZOFFSETTO:-0600
TZNAME:CST
DTSTART:20161106T070000
END:STANDARD
BEGIN:DAYLIGHT
TZOFFSETFROM:-0600
TZOFFSETTO:-0500
TZNAME:CDT
DTSTART:20170312T080000
END:DAYLIGHT
BEGIN:STANDARD
TZOFFSETFROM:-0500
TZOFFSETTO:-0600
TZNAME:CST
DTSTART:20171105T070000
END:STANDARD
BEGIN:DAYLIGHT
TZOFFSETFROM:-0600
TZOFFSETTO:-0500
TZNAME:CDT
DTSTART:20180311T080000
END:DAYLIGHT
BEGIN:STANDARD
TZOFFSETFROM:-0500
TZOFFSETTO:-0600
TZNAME:CST
DTSTART:20181104T070000
END:STANDARD
BEGIN:DAYLIGHT
TZOFFSETFROM:-0600
TZOFFSETTO:-0500
TZNAME:CDT
DTSTART:20190310T080000
END:DAYLIGHT
BEGIN:STANDARD
TZOFFSETFROM:-0500
TZOFFSETTO:-0600
TZNAME:CST
DTSTART:20191103T070000
END:STANDARD
BEGIN:DAYLIGHT
TZOFFSETFROM:-0600
TZOFFSETTO:-0500
TZNAME:CDT
DTSTART:20200308T080000
END:DAYLIGHT
BEGIN:STANDARD
TZOFFSETFROM:-0500
TZOFFSETTO:-0600
TZNAME:CST
DTSTART:20201101T070000
END:STANDARD
BEGIN:DAYLIGHT
TZOFFSETFROM:-0600
TZOFFSETTO:-0500
TZNAME:CDT
DTSTART:20210314T080000
END:DAYLIGHT
BEGIN:STANDARD
TZOFFSETFROM:-0500
TZOFFSETTO:-0600
TZNAME:CST
DTSTART:20211107T070000
END:STANDARD
BEGIN:DAYLIGHT
TZOFFSETFROM:-0600
TZOFFSETTO:-0500
TZNAME:CDT
DTSTART:20220313T080000
END:DAYLIGHT
BEGIN:STANDARD
TZOFFSETFROM:-0500
TZOFFSETTO:-0600
TZNAME:CST
DTSTART:20221106T070000
END:STANDARD
BEGIN:DAYLIGHT
TZOFFSETFROM:-0600
TZOFFSETTO:-0500
TZNAME:CDT
DTSTART:20230312T080000
END:DAYLIGHT
BEGIN:STANDARD
TZOFFSETFROM:-0500
TZOFFSETTO:-0600
TZNAME:CST
DTSTART:20231105T070000
END:STANDARD
BEGIN:DAYLIGHT
TZOFFSETFROM:-0600
TZOFFSETTO:-0500
TZNAME:CDT
DTSTART:20240310T080000
END:DAYLIGHT
BEGIN:STANDARD
TZOFFSETFROM:-0500
TZOFFSETTO:-0600
TZNAME:CST
DTSTART:20241103T070000
END:STANDARD
BEGIN:DAYLIGHT
TZOFFSETFROM:-0600
TZOFFSETTO:-0500
TZNAME:CDT
DTSTART:20250309T080000
END:DAYLIGHT
BEGIN:STANDARD
TZOFFSETFROM:-0500
TZOFFSETTO:-0600
TZNAME:CST
DTSTART:20251102T070000
END:STANDARD
END:VTIMEZONE
BEGIN:VEVENT
DTSTART;VALUE=DATE:20240706
DTEND;VALUE=DATE:20240708
DTSTAMP:20260424T224923
CREATED:20240613T155453Z
LAST-MODIFIED:20240613T155513Z
UID:10000986-1720224000-1720396799@scca-milwaukee.org
SUMMARY:Road Racing Firecracker Bonneau Dbl Divisional
DESCRIPTION:Please join us for the Firecracker Bonneau\nChampionship Series Double Divisional RunOffs Qualifier\nCo-hosted by Milwaukee and Blackhawk Valley Regions\nJuly 6-7\, 2024\nBlackhawk Farms Raceway \nPlease head to our online registration site for more details.
URL:https://scca-milwaukee.org/event/road-racing-2023-firecracker-bonneau-dbl-divisional-2/
LOCATION:Blackhawk Farms Raceway\, 15538 Prairie Road\, South Beloit\, IL\, 61080\, United States
CATEGORIES:Road Racing
GEO:42.4845542;-89.0989446
X-APPLE-STRUCTURED-LOCATION;VALUE=URI;X-ADDRESS=Blackhawk Farms Raceway 15538 Prairie Road South Beloit IL 61080 United States;X-APPLE-RADIUS=500;X-TITLE=15538 Prairie Road:geo:-89.0989446,42.4845542
END:VEVENT
BEGIN:VEVENT
DTSTART;VALUE=DATE:20230603
DTEND;VALUE=DATE:20230605
DTSTAMP:20260424T224923
CREATED:20230314T014942Z
LAST-MODIFIED:20230314T014942Z
UID:10000976-1685750400-1685923199@scca-milwaukee.org
SUMMARY:Road Racing 2023 Firecracker Bonneau Dbl Divisional
DESCRIPTION:Please join us for the Firecracker Bonneau\nChampionship Series Double Divisional RunOffs Qualifier\nCo-hosted by Milwaukee and Blackhawk Valley Regions\nJune 3-4\, 2023\nBlackhawk Farms Raceway \nPlease head to our online registration site for more details.
URL:https://scca-milwaukee.org/event/road-racing-2023-firecracker-bonneau-dbl-divisional/
LOCATION:Blackhawk Farms Raceway\, 15538 Prairie Road\, South Beloit\, IL\, 61080\, United States
CATEGORIES:Road Racing
GEO:42.4845542;-89.0989446
X-APPLE-STRUCTURED-LOCATION;VALUE=URI;X-ADDRESS=Blackhawk Farms Raceway 15538 Prairie Road South Beloit IL 61080 United States;X-APPLE-RADIUS=500;X-TITLE=15538 Prairie Road:geo:-89.0989446,42.4845542
END:VEVENT
BEGIN:VEVENT
DTSTART;VALUE=DATE:20230429
DTEND;VALUE=DATE:20230501
DTSTAMP:20260424T224923
CREATED:20230314T014444Z
LAST-MODIFIED:20230314T014444Z
UID:10000975-1682726400-1682899199@scca-milwaukee.org
SUMMARY:2023 BVR/Milw Mark Amenda Majors (Road Racing)
DESCRIPTION:Please join us for the Milwaukee Region Mark Amenda Majors!\nCo-hosted by Blackhawk Valley and Milwaukee Regions\nApril 29-30\, 2023\nBlackhawk Farms Raceway \nDetails will be posted at the registration link below once they are available.
URL:https://scca-milwaukee.org/event/2023-bvr-milw-mark-amenda-majors-road-racing/
LOCATION:Blackhawk Farms Raceway\, 15538 Prairie Road\, South Beloit\, IL\, 61080\, United States
CATEGORIES:Road Racing
GEO:42.4845542;-89.0989446
X-APPLE-STRUCTURED-LOCATION;VALUE=URI;X-ADDRESS=Blackhawk Farms Raceway 15538 Prairie Road South Beloit IL 61080 United States;X-APPLE-RADIUS=500;X-TITLE=15538 Prairie Road:geo:-89.0989446,42.4845542
END:VEVENT
BEGIN:VEVENT
DTSTART;VALUE=DATE:20230414
DTEND;VALUE=DATE:20230417
DTSTAMP:20260424T224923
CREATED:20230314T013940Z
LAST-MODIFIED:20230314T014551Z
UID:10000974-1681430400-1681689599@scca-milwaukee.org
SUMMARY:2023 CenDiv Drivers School / Double Divisional
DESCRIPTION:Please join us for CenDiv’s\nDrivers School and Championship Series\nDouble Divisional Runoffs Qualifier\nPresented by Milwaukee\, Chicago\, and Land O’Lakes Regions\nApril 14-16\, 2023 at Blackhawk Farms Raceway \nEvent information is available at the registration link.
URL:https://scca-milwaukee.org/event/2023-cendiv-drivers-school-double-divisional/
LOCATION:Blackhawk Farms Raceway\, 15538 Prairie Road\, South Beloit\, IL\, 61080\, United States
CATEGORIES:Road Racing
GEO:42.4845542;-89.0989446
X-APPLE-STRUCTURED-LOCATION;VALUE=URI;X-ADDRESS=Blackhawk Farms Raceway 15538 Prairie Road South Beloit IL 61080 United States;X-APPLE-RADIUS=500;X-TITLE=15538 Prairie Road:geo:-89.0989446,42.4845542
END:VEVENT
BEGIN:VEVENT
DTSTART;VALUE=DATE:20220625
DTEND;VALUE=DATE:20220627
DTSTAMP:20260424T224923
CREATED:20220411T200455Z
LAST-MODIFIED:20220411T200455Z
UID:10000948-1656115200-1656287999@scca-milwaukee.org
SUMMARY:Road Racing Milw/BVR Dbl Divisional
DESCRIPTION:Please join us for the Firecracker Bonneau\nChampionship Series Double Divisional RunOffs Qualifier\nCo-hosted by Milwaukee and Blackhawk Valley Regions\nJune 25-26\, 2022\nBlackhawk Farms Raceway \nPlease head to our online registration site for more details.
URL:https://scca-milwaukee.org/event/road-racing-milw-bvr-dbl-divisional-2022-2/
LOCATION:Blackhawk Farms Raceway\, 15538 Prairie Road\, South Beloit\, IL\, 61080\, United States
CATEGORIES:Road Racing
GEO:42.4845542;-89.0989446
X-APPLE-STRUCTURED-LOCATION;VALUE=URI;X-ADDRESS=Blackhawk Farms Raceway 15538 Prairie Road South Beloit IL 61080 United States;X-APPLE-RADIUS=500;X-TITLE=15538 Prairie Road:geo:-89.0989446,42.4845542
END:VEVENT
BEGIN:VEVENT
DTSTART;VALUE=DATE:20220430
DTEND;VALUE=DATE:20220502
DTSTAMP:20260424T224923
CREATED:20220411T200010Z
LAST-MODIFIED:20220420T173614Z
UID:10000946-1651276800-1651449599@scca-milwaukee.org
SUMMARY:Road Racing BVR/Milw Majors
DESCRIPTION:Please join us for the Milwaukee Region May Majors!\nCo-hosted by Blackhawk Valley and Milwaukee Regions\nApril 30 thru May 1\, 2022\nBlackhawk Farms Raceway \nDetails will be posted once they are available.
URL:https://scca-milwaukee.org/event/road-racing-bvr-milw-majors-2022/
LOCATION:Blackhawk Farms Raceway\, 15538 Prairie Road\, South Beloit\, IL\, 61080\, United States
CATEGORIES:Road Racing
GEO:42.4845542;-89.0989446
X-APPLE-STRUCTURED-LOCATION;VALUE=URI;X-ADDRESS=Blackhawk Farms Raceway 15538 Prairie Road South Beloit IL 61080 United States;X-APPLE-RADIUS=500;X-TITLE=15538 Prairie Road:geo:-89.0989446,42.4845542
END:VEVENT
BEGIN:VEVENT
DTSTART;VALUE=DATE:20210626
DTEND;VALUE=DATE:20210628
DTSTAMP:20260424T224923
CREATED:20210303T202253Z
LAST-MODIFIED:20210303T203610Z
UID:10000898-1624665600-1624838399@scca-milwaukee.org
SUMMARY:Road Racing Milw/BVR Dbl Divisional 2021
DESCRIPTION:Please join us for the Firecracker Bonneau\nChampionship Series Double Divisional RunOffs Qualifier\nCo-hosted by Milwaukee and Blackhawk Valley Regions\nJune 26-27\, 2021\nBlackhawk Farms Raceway \nPlease head to our online registration site for more details.
URL:https://scca-milwaukee.org/event/road-racing-milw-bvr-dbl-divisional-2019-2/
LOCATION:Blackhawk Farms Raceway\, 15538 Prairie Road\, South Beloit\, IL\, 61080\, United States
CATEGORIES:Road Racing
GEO:42.4845542;-89.0989446
X-APPLE-STRUCTURED-LOCATION;VALUE=URI;X-ADDRESS=Blackhawk Farms Raceway 15538 Prairie Road South Beloit IL 61080 United States;X-APPLE-RADIUS=500;X-TITLE=15538 Prairie Road:geo:-89.0989446,42.4845542
END:VEVENT
BEGIN:VEVENT
DTSTART;VALUE=DATE:20210501
DTEND;VALUE=DATE:20210503
DTSTAMP:20260424T224923
CREATED:20210303T201945Z
LAST-MODIFIED:20210303T201945Z
UID:10000897-1619827200-1619999999@scca-milwaukee.org
SUMMARY:Road Racing BVR/Milw Majors 2021
DESCRIPTION:Please join us for the Milwaukee Region May Majors!\nCo-hosted by Blackhawk Valley and Milwaukee Regions\nMay 1-2\, 2021\nBlackhawk Farms Raceway \nDetails will be posted once they are available.
URL:https://scca-milwaukee.org/event/road-racing-bvr-milw-majors-2021/
LOCATION:Blackhawk Farms Raceway\, 15538 Prairie Road\, South Beloit\, IL\, 61080\, United States
CATEGORIES:Road Racing
GEO:42.4845542;-89.0989446
X-APPLE-STRUCTURED-LOCATION;VALUE=URI;X-ADDRESS=Blackhawk Farms Raceway 15538 Prairie Road South Beloit IL 61080 United States;X-APPLE-RADIUS=500;X-TITLE=15538 Prairie Road:geo:-89.0989446,42.4845542
END:VEVENT
BEGIN:VEVENT
DTSTART;VALUE=DATE:20200626
DTEND;VALUE=DATE:20200629
DTSTAMP:20260424T224923
CREATED:20200410T223110Z
LAST-MODIFIED:20200410T233827Z
UID:10000861-1593129600-1593388799@scca-milwaukee.org
SUMMARY:Road Racing BVR/Milw Majors & Restricted Regional 2020
DESCRIPTION:Race for the Roses Majors and Restricted Regional\nCo-hosted by Milwaukee and Blackhawk Valley Regions\nJune 27-28\, 2020\nBlackhawk Farms Raceway \nDetails will be posted once they are available. \nThe rescheduled May Majors event plus a restricted regional
URL:https://scca-milwaukee.org/event/road-racing-bvr-milw-majors-restricted-regional-2020/
LOCATION:Blackhawk Farms Raceway\, 15538 Prairie Road\, South Beloit\, IL\, 61080\, United States
CATEGORIES:Road Racing
ATTACH;FMTTYPE=image/png:https://scca-milwaukee.org/wp-content/uploads/2020/03/BVR-Milw-Logos.png
GEO:42.4845542;-89.0989446
X-APPLE-STRUCTURED-LOCATION;VALUE=URI;X-ADDRESS=Blackhawk Farms Raceway 15538 Prairie Road South Beloit IL 61080 United States;X-APPLE-RADIUS=500;X-TITLE=15538 Prairie Road:geo:-89.0989446,42.4845542
END:VEVENT
BEGIN:VEVENT
DTSTART;VALUE=DATE:20190727
DTEND;VALUE=DATE:20190729
DTSTAMP:20260424T224923
CREATED:20181205T175907Z
LAST-MODIFIED:20190723T125738Z
UID:10000747-1564185600-1564358399@scca-milwaukee.org
SUMMARY:Road Racing Milw/BVR Dbl Divisional 2019
DESCRIPTION:Please join us for the Firecracker Bonneau\nChampionship Series Double Divisional RunOffs Qualifier\nCo-hosted by Milwaukee and Blackhawk Valley Regions\nJuly 27-28\, 2019\nBlackhawk Farms Raceway \nPlease head to our online registration site for more details.
URL:https://scca-milwaukee.org/event/road-racing-milw-bvr-dbl-divisional-2019/
LOCATION:Blackhawk Farms Raceway\, 15538 Prairie Road\, South Beloit\, IL\, 61080\, United States
CATEGORIES:Road Racing
ATTACH;FMTTYPE=image/jpeg:https://scca-milwaukee.org/wp-content/uploads/2017/05/Milwaukee-Region-SCCA-at-Blackhawk-Farms-Raceway-e1531262172735.jpg
GEO:42.4845542;-89.0989446
X-APPLE-STRUCTURED-LOCATION;VALUE=URI;X-ADDRESS=Blackhawk Farms Raceway 15538 Prairie Road South Beloit IL 61080 United States;X-APPLE-RADIUS=500;X-TITLE=15538 Prairie Road:geo:-89.0989446,42.4845542
END:VEVENT
BEGIN:VEVENT
DTSTART;VALUE=DATE:20190504
DTEND;VALUE=DATE:20190506
DTSTAMP:20260424T224923
CREATED:20181205T180128Z
LAST-MODIFIED:20181205T180128Z
UID:10000751-1556928000-1557100799@scca-milwaukee.org
SUMMARY:Road Racing BVR/Milw Majors 2019
DESCRIPTION:Please join us for the Milwaukee Region May Majors!\nCo-hosted by Blackhawk Valley and Milwaukee Regions\nMay 4-5\, 2019\nBlackhawk Farms Raceway \nDetails will be posted once they are available.
URL:https://scca-milwaukee.org/event/road-racing-bvr-milw-majors-2019/
LOCATION:Blackhawk Farms Raceway\, 15538 Prairie Road\, South Beloit\, IL\, 61080\, United States
CATEGORIES:Road Racing
GEO:42.4845542;-89.0989446
X-APPLE-STRUCTURED-LOCATION;VALUE=URI;X-ADDRESS=Blackhawk Farms Raceway 15538 Prairie Road South Beloit IL 61080 United States;X-APPLE-RADIUS=500;X-TITLE=15538 Prairie Road:geo:-89.0989446,42.4845542
END:VEVENT
BEGIN:VEVENT
DTSTART;VALUE=DATE:20180505
DTEND;VALUE=DATE:20180507
DTSTAMP:20260424T224923
CREATED:20180111T174913Z
LAST-MODIFIED:20180501T211035Z
UID:10000698-1525478400-1525651199@scca-milwaukee.org
SUMMARY:Road Racing BVR/Milw Majors 2018
DESCRIPTION:Cinco de Mayo +1 \nThis event is co-hosted by Blackhawk Valley and Milwaukee Regions\nMay 5 & 6\, 2018\nBlackhawk Farms Raceway \nMore details will be posted once they are available \nSupplemental Regulations and Race Packet
URL:https://scca-milwaukee.org/event/road-racing-bvr-milw-majors-2018/
LOCATION:Blackhawk Farms Raceway\, 15538 Prairie Road\, South Beloit\, IL\, 61080\, United States
CATEGORIES:Road Racing
ATTACH;FMTTYPE=image/png:https://scca-milwaukee.org/wp-content/uploads/2018/01/5-de-mayo-images-261.png
GEO:42.4845542;-89.0989446
X-APPLE-STRUCTURED-LOCATION;VALUE=URI;X-ADDRESS=Blackhawk Farms Raceway 15538 Prairie Road South Beloit IL 61080 United States;X-APPLE-RADIUS=500;X-TITLE=15538 Prairie Road:geo:-89.0989446,42.4845542
END:VEVENT
BEGIN:VEVENT
DTSTART;VALUE=DATE:20170714
DTEND;VALUE=DATE:20170717
DTSTAMP:20260424T224923
CREATED:20161220T180437Z
LAST-MODIFIED:20170714T042032Z
UID:10000557-1499990400-1500249599@scca-milwaukee.org
SUMMARY:Road Racing Milw/BVR Double Divisional 2017
DESCRIPTION:Firecracker Bonneau Championship Series Double Divisional \nThis event is co-hosted by Milwaukee and Blackhawk Valley Regions \nRegistration is open for the Firecracker Bonneau Double Divisional Races\, a Runoffs Qualifying Event for 2017.  This event is hosted by Milwaukee & Blackhawk Valley Regions and will take place July 15 & 16\, 2017 at Blackhawk Farms Raceway.  Click HERE for the race packet.  To register\, go to msreg.com/firecracker2017. \nBlackhawk Farms Raceway Pit Vehicle Registration
URL:https://scca-milwaukee.org/event/firecracker-bonneau-double-divisional-2017/
LOCATION:Blackhawk Farms Raceway\, 15538 Prairie Road\, South Beloit\, IL\, 61080\, United States
CATEGORIES:Road Racing
ATTACH;FMTTYPE=image/jpeg:https://scca-milwaukee.org/wp-content/uploads/2017/05/Milwaukee-Region-SCCA-at-Blackhawk-Farms-Raceway-e1531262172735.jpg
GEO:42.4845542;-89.0989446
X-APPLE-STRUCTURED-LOCATION;VALUE=URI;X-ADDRESS=Blackhawk Farms Raceway 15538 Prairie Road South Beloit IL 61080 United States;X-APPLE-RADIUS=500;X-TITLE=15538 Prairie Road:geo:-89.0989446,42.4845542
END:VEVENT
BEGIN:VEVENT
DTSTART;VALUE=DATE:20170505
DTEND;VALUE=DATE:20170508
DTSTAMP:20260424T224923
CREATED:20161220T180451Z
LAST-MODIFIED:20170326T150911Z
UID:10000558-1493942400-1494201599@scca-milwaukee.org
SUMMARY:Road Racing BVR/Milw "All Bets Are Off" Majors 2017
DESCRIPTION:This event is co-hosted by Blackhawk Valley and Milwaukee Regions \nLink to Supplementary Regulations \nMajors Entry Fee $495\nSame driver for each additional class $295 \nOnline registration closes May 2\, 2017 at 11:59pm CDT.  This is also the deadline for cancellation without penalty\, and any entries submitted after this date (by mail or at the track) are subject to a $40 late fee. \nNorthern Conference Majors and CenDiv Reserved Numbers held until NOON on April 22\, 2017. \nDeferred billing!  Credit card payments will not be processed before May 4th\, 2017 \nBlackhawk Farms Raceway Pit Vehicle Registration
URL:https://scca-milwaukee.org/event/may-majors-2017/
LOCATION:Blackhawk Farms Raceway\, 15538 Prairie Road\, South Beloit\, IL\, 61080\, United States
CATEGORIES:Road Racing
GEO:42.4845542;-89.0989446
X-APPLE-STRUCTURED-LOCATION;VALUE=URI;X-ADDRESS=Blackhawk Farms Raceway 15538 Prairie Road South Beloit IL 61080 United States;X-APPLE-RADIUS=500;X-TITLE=15538 Prairie Road:geo:-89.0989446,42.4845542
END:VEVENT
BEGIN:VEVENT
DTSTART;VALUE=DATE:20170422
DTEND;VALUE=DATE:20170424
DTSTAMP:20260424T224923
CREATED:20161220T180504Z
LAST-MODIFIED:20170327T064416Z
UID:10000559-1492819200-1492991999@scca-milwaukee.org
SUMMARY:Road Racing CenDiv Double Divisional
DESCRIPTION:CenDiv’s Nonda van Gulden Memorial Championship Series Double Divisional \nThis event is co-hosted by Milwaukee\, Chicago\, Blackhawk Valley\, and Land O’Lakes SCCA Regions \nLink to Supplementary Regulations \n \nThere are on-track sessions on Saturday\, 04/22/2017\, morning for the Drivers School participants.  As such\, the first session for the Divisional will not occur until around 9:15 am.  The on-track sessions for the Sunday\, 04/23/2017\, Divisional will begin around 8:30 am. \nOne-day Regional Entry Fee $275\nBoth Days Regional Entry Fee $495\nAdd $20 compliance fee for SRF\, SRF3\, and FE for the weekend.\nAdd $175 for same driver in each additional class entered per regional. Additional compliance fees may apply. \nOnline registration closes at 11:59pm CDT\, April 18\, 2017 This is also the deadline for cancellation without penalty\, and any entries submitted after this date (by mail or at the track) are subject to a $40 late fee. \nCenDiv Reserved Numbers held until NOON April 8\, 2017. \nDeferred billing!  Credit card payments will not be processed before April 20th\, 2017 \nBlackhawk Farms Raceway Pit Vehicle Registration
URL:https://scca-milwaukee.org/event/central-division-double-divisional-races-2017/
LOCATION:Blackhawk Farms Raceway\, 15538 Prairie Road\, South Beloit\, IL\, 61080\, United States
CATEGORIES:Road Racing
GEO:42.4845542;-89.0989446
X-APPLE-STRUCTURED-LOCATION;VALUE=URI;X-ADDRESS=Blackhawk Farms Raceway 15538 Prairie Road South Beloit IL 61080 United States;X-APPLE-RADIUS=500;X-TITLE=15538 Prairie Road:geo:-89.0989446,42.4845542
END:VEVENT
BEGIN:VEVENT
DTSTART;VALUE=DATE:20170420
DTEND;VALUE=DATE:20170423
DTSTAMP:20260424T224923
CREATED:20161220T180409Z
LAST-MODIFIED:20170327T064441Z
UID:10000555-1492646400-1492905599@scca-milwaukee.org
SUMMARY:Road Racing CenDiv Drivers School
DESCRIPTION:Central Divisional’s Nonda van Gulden Memorial Drivers School \nThis event is co-hosted by Milwaukee\, Chicago\, Blackhawk Valley\, and Land O’Lakes SCCA Regions \nLink to Supplementary Regulations \n \nA mandatory online course is required for all participants on a Novice Permit.  The must be completed prior to the event and the information for this can be found here \nA mandatory classroom for all participants on a Novice Permit will be held Thursday evening\, 04/20/2017 \nFriday is a full day of on-track sessions with another mandatory but short classroom session on Friday evening\, 04/21/2017. \nSaturday morning\, 04/22/2017\, will have practice starts and a short race.  After the race is completed\, sign-offs will occur on the Novice Permits. \nDriver School Entry Fee $350 \nOnline registration closes at 11:59pm CDT\, April 18\, 2017 This is also the deadline for cancellation without penalty\, and any entries submitted after this date (by mail or at the track) are subject to a $40 late fee. \nCenDiv Reserved Numbers held until NOON April 8\, 2017. \nDeferred billing!  Credit card payments will not be processed before April 20th\, 2017 \nBlackhawk Farms Raceway Pit Vehicle Registration
URL:https://scca-milwaukee.org/event/central-division-drivers-school-2017/
LOCATION:Blackhawk Farms Raceway\, 15538 Prairie Road\, South Beloit\, IL\, 61080\, United States
CATEGORIES:Road Racing
GEO:42.4845542;-89.0989446
X-APPLE-STRUCTURED-LOCATION;VALUE=URI;X-ADDRESS=Blackhawk Farms Raceway 15538 Prairie Road South Beloit IL 61080 United States;X-APPLE-RADIUS=500;X-TITLE=15538 Prairie Road:geo:-89.0989446,42.4845542
END:VEVENT
END:VCALENDAR