BEGIN:VCALENDAR
VERSION:2.0
PRODID:-//Milwaukee Region SCCA - ECPv6.15.16.1//NONSGML v1.0//EN
CALSCALE:GREGORIAN
METHOD:PUBLISH
X-WR-CALNAME:Milwaukee Region SCCA
X-ORIGINAL-URL:https://scca-milwaukee.org
X-WR-CALDESC:Events for Milwaukee Region SCCA
REFRESH-INTERVAL;VALUE=DURATION:PT1H
X-Robots-Tag:noindex
X-PUBLISHED-TTL:PT1H
BEGIN:VTIMEZONE
TZID:America/Chicago
BEGIN:DAYLIGHT
TZOFFSETFROM:-0600
TZOFFSETTO:-0500
TZNAME:CDT
DTSTART:20230312T080000
END:DAYLIGHT
BEGIN:STANDARD
TZOFFSETFROM:-0500
TZOFFSETTO:-0600
TZNAME:CST
DTSTART:20231105T070000
END:STANDARD
BEGIN:DAYLIGHT
TZOFFSETFROM:-0600
TZOFFSETTO:-0500
TZNAME:CDT
DTSTART:20240310T080000
END:DAYLIGHT
BEGIN:STANDARD
TZOFFSETFROM:-0500
TZOFFSETTO:-0600
TZNAME:CST
DTSTART:20241103T070000
END:STANDARD
BEGIN:DAYLIGHT
TZOFFSETFROM:-0600
TZOFFSETTO:-0500
TZNAME:CDT
DTSTART:20250309T080000
END:DAYLIGHT
BEGIN:STANDARD
TZOFFSETFROM:-0500
TZOFFSETTO:-0600
TZNAME:CST
DTSTART:20251102T070000
END:STANDARD
END:VTIMEZONE
BEGIN:VEVENT
DTSTART;TZID=America/Chicago:20240921T080000
DTEND;TZID=America/Chicago:20240921T164500
DTSTAMP:20260425T215343
CREATED:20240613T160131Z
LAST-MODIFIED:20240613T160131Z
UID:10000988-1726905600-1726937100@scca-milwaukee.org
SUMMARY:OKTOBERALLY National Course Road Rally
DESCRIPTION:Join your fellow RoadRally enthusiasts for this 180 mile time-speed-distance National Course RoadRally in the beautiful Wisconsin countryside.  You and your rally partner will enjoy a scenic rally adventure through the marvelous country roads of central Wisconsin’s driftless area.  You’ll be tested on your ability to observe\, reason\, maintain the assigned average speeds\, and follow explicit directions. This year’s event will use both Numbered and Lettered Route Instructions.  There will be a variable Main Road rule.  Experienced rallyists will find this rally to be one of the more difficult National Course rallies of the year.  It is not recommended for people who have never rallied before. \n  \nFind all of the event information on MotorsportReg at http://msreg.com/OKTRally24
URL:https://scca-milwaukee.org/event/oktoberally-national-course-road-2024-rally/
CATEGORIES:Road Rally
END:VEVENT
BEGIN:VEVENT
DTSTART;TZID=America/Chicago:20240922T070000
DTEND;TZID=America/Chicago:20240922T164500
DTSTAMP:20260425T215343
CREATED:20240613T161113Z
LAST-MODIFIED:20240613T161113Z
UID:10000995-1726988400-1727023500@scca-milwaukee.org
SUMMARY:Badger Coulees National Tour Road Rally
DESCRIPTION:Join your fellow RoadRally enthusiasts for this 180 mile time-speed-distance National Tour RoadRally.  You and your rally partner will enjoy a scenic rally adventure through the marvelous country roads of  Wisconsin’s driftless area.  You’ll be tested on your ability to observe\, and maintain the assigned average speeds\, and follow explicit directions.  Experienced rallyists will find this rally to be challenging\, with hidden control locations requiring the contestant to always be on time. \n  \nFind complete event information on MotorsportReg at http://msreg.com/BadgerCoulees24
URL:https://scca-milwaukee.org/event/badger-coulees-national-tour-road-rally/
CATEGORIES:Road Rally
END:VEVENT
END:VCALENDAR