BEGIN:VCALENDAR
VERSION:2.0
PRODID:-//Milwaukee Region SCCA - ECPv6.15.16.1//NONSGML v1.0//EN
CALSCALE:GREGORIAN
METHOD:PUBLISH
X-WR-CALNAME:Milwaukee Region SCCA
X-ORIGINAL-URL:https://scca-milwaukee.org
X-WR-CALDESC:Events for Milwaukee Region SCCA
REFRESH-INTERVAL;VALUE=DURATION:PT1H
X-Robots-Tag:noindex
X-PUBLISHED-TTL:PT1H
BEGIN:VTIMEZONE
TZID:America/Chicago
BEGIN:DAYLIGHT
TZOFFSETFROM:-0600
TZOFFSETTO:-0500
TZNAME:CDT
DTSTART:20240310T080000
END:DAYLIGHT
BEGIN:STANDARD
TZOFFSETFROM:-0500
TZOFFSETTO:-0600
TZNAME:CST
DTSTART:20241103T070000
END:STANDARD
BEGIN:DAYLIGHT
TZOFFSETFROM:-0600
TZOFFSETTO:-0500
TZNAME:CDT
DTSTART:20250309T080000
END:DAYLIGHT
BEGIN:STANDARD
TZOFFSETFROM:-0500
TZOFFSETTO:-0600
TZNAME:CST
DTSTART:20251102T070000
END:STANDARD
BEGIN:DAYLIGHT
TZOFFSETFROM:-0600
TZOFFSETTO:-0500
TZNAME:CDT
DTSTART:20260308T080000
END:DAYLIGHT
BEGIN:STANDARD
TZOFFSETFROM:-0500
TZOFFSETTO:-0600
TZNAME:CST
DTSTART:20261101T070000
END:STANDARD
END:VTIMEZONE
BEGIN:VEVENT
DTSTART;TZID=America/Chicago:20250613T080000
DTEND;TZID=America/Chicago:20250613T170000
DTSTAMP:20260425T073611
CREATED:20250305T174114Z
LAST-MODIFIED:20250305T221951Z
UID:10001127-1749801600-1749834000@scca-milwaukee.org
SUMMARY:DRIVE Track Day
DESCRIPTION:Link to Registration \nWelcome to the Milwaukee Track Day.  The Milwaukee Track Day series is a great way to enjoy performance driving in your street car on real racing tracks in a controlled environment.  This is our annual DRIVE fund raising event at the world famous Road America in Elkhart Lake\, Wisconsin. \nTrack Day\nWith close personal driving instruction\, and restricted passing conditions\, the Milwaukee Track Day series is a great way to legally test the limits of your car without worrying about contact with other vehicles on the track. \nYou can find more information at http://milwaukeetrackdays.com.
URL:https://scca-milwaukee.org/event/drive-track-day-2025/
LOCATION:Road America\, N7390 State Highway 67\, Plymouth\, WI\, 53073\, United States
CATEGORIES:Track Days
GEO:43.8054562;-87.9917225
X-APPLE-STRUCTURED-LOCATION;VALUE=URI;X-ADDRESS=Road America N7390 State Highway 67 Plymouth WI 53073 United States;X-APPLE-RADIUS=500;X-TITLE=N7390 State Highway 67:geo:-87.9917225,43.8054562
END:VEVENT
BEGIN:VEVENT
DTSTART;TZID=America/Chicago:20250626T190000
DTEND;TZID=America/Chicago:20250626T210000
DTSTAMP:20260425T073611
CREATED:20240829T212406Z
LAST-MODIFIED:20250305T221823Z
UID:10001120-1750964400-1750971600@scca-milwaukee.org
SUMMARY:AutoX Committee Meeting
DESCRIPTION:This meeting with discuss on-goings with regards to the Autocross program; anyone and everyone is encouraged to attend committee meetings.  It’s your club\, get involved. Besides dinner\, drinks\, and bench racing is a good time for car folks. \n 
URL:https://scca-milwaukee.org/event/autox-committee-meeting-7/
LOCATION:Cleveland Pub & Grill\, 14000 W. Cleveland Avenue\, New Berlin\, WI\, 53151\, United States
CATEGORIES:AutoX,Meeting,Meetings
GEO:42.9960329;-88.0887404
X-APPLE-STRUCTURED-LOCATION;VALUE=URI;X-ADDRESS=Cleveland Pub & Grill 14000 W. Cleveland Avenue New Berlin WI 53151 United States;X-APPLE-RADIUS=500;X-TITLE=14000 W. Cleveland Avenue:geo:-88.0887404,42.9960329
END:VEVENT
END:VCALENDAR