BEGIN:VCALENDAR
VERSION:2.0
PRODID:-//Milwaukee Region SCCA - ECPv6.15.16.1//NONSGML v1.0//EN
CALSCALE:GREGORIAN
METHOD:PUBLISH
X-ORIGINAL-URL:https://scca-milwaukee.org
X-WR-CALDESC:Events for Milwaukee Region SCCA
REFRESH-INTERVAL;VALUE=DURATION:PT1H
X-Robots-Tag:noindex
X-PUBLISHED-TTL:PT1H
BEGIN:VTIMEZONE
TZID:America/Chicago
BEGIN:DAYLIGHT
TZOFFSETFROM:-0600
TZOFFSETTO:-0500
TZNAME:CDT
DTSTART:20240310T080000
END:DAYLIGHT
BEGIN:STANDARD
TZOFFSETFROM:-0500
TZOFFSETTO:-0600
TZNAME:CST
DTSTART:20241103T070000
END:STANDARD
BEGIN:DAYLIGHT
TZOFFSETFROM:-0600
TZOFFSETTO:-0500
TZNAME:CDT
DTSTART:20250309T080000
END:DAYLIGHT
BEGIN:STANDARD
TZOFFSETFROM:-0500
TZOFFSETTO:-0600
TZNAME:CST
DTSTART:20251102T070000
END:STANDARD
BEGIN:DAYLIGHT
TZOFFSETFROM:-0600
TZOFFSETTO:-0500
TZNAME:CDT
DTSTART:20260308T080000
END:DAYLIGHT
BEGIN:STANDARD
TZOFFSETFROM:-0500
TZOFFSETTO:-0600
TZNAME:CST
DTSTART:20261101T070000
END:STANDARD
END:VTIMEZONE
BEGIN:VEVENT
DTSTART;TZID=America/Chicago:20250503T080000
DTEND;TZID=America/Chicago:20250503T163000
DTSTAMP:20260425T090830
CREATED:20170108T210528Z
LAST-MODIFIED:20250414T142248Z
UID:10000582-1746259200-1746289800@scca-milwaukee.org
SUMMARY:AutoX Test & Tune
DESCRIPTION:Link to Registration – http://msreg.com/MKE-2025-TT \nFor those not familiar\, a test and tune is an opportunity to test your car and dial in those tire pressures\, shock and sway bar settings\, alignment\, and even ride height and spring changes. \nWe will have timed courses setup with different types of course elements to allow you to experiment with car setup or driver development.  Either way there is lots seat time and only 45 spots available\, this assures more than enough time to work on things.
URL:https://scca-milwaukee.org/event/autox-2025-tt/
LOCATION:Madison College Public Safety Training Center\, W2140 Krause Rd\, Columbus\, WI\, 53925\, United States
CATEGORIES:AutoX
GEO:43.2832932;-89.1048098
X-APPLE-STRUCTURED-LOCATION;VALUE=URI;X-ADDRESS=Madison College Public Safety Training Center W2140 Krause Rd Columbus WI 53925 United States;X-APPLE-RADIUS=500;X-TITLE=W2140 Krause Rd:geo:-89.1048098,43.2832932
END:VEVENT
BEGIN:VEVENT
DTSTART;TZID=America/Chicago:20250504T080000
DTEND;TZID=America/Chicago:20250504T173000
DTSTAMP:20260425T090830
CREATED:20250414T140347Z
LAST-MODIFIED:20250414T140347Z
UID:10001132-1746345600-1746379800@scca-milwaukee.org
SUMMARY:AutoX 1
DESCRIPTION:Link to Registration – http://msreg.com/MKE-2025-AX1 \nCome join us as we host an event at Madison College Public Safety Training Center\, formally the Columbus 151 Speedway. \n“Solo®” is the brand name for SCCA® Autocrossing and on paper it seems very simple – use traffic cones to make a mini-roadcourse in a large parking lot\, unused airport tarmac\, or portions of racetracks and see who can drive it the quickest without hitting any cones or going off course. Autocross is an affordable entry-level form of Motorsports for racing enthusiasts of all ages.  Autocross teaches car control that will make you a better\, safer and more confident driver. \nFor more information including classes\, waivers\, and tech procedures head to our What is Autocross? page. \n 
URL:https://scca-milwaukee.org/event/autox-2025-1/
LOCATION:Madison College Public Safety Training Center\, W2140 Krause Rd\, Columbus\, WI\, 53925\, United States
CATEGORIES:AutoX
GEO:43.2832932;-89.1048098
X-APPLE-STRUCTURED-LOCATION;VALUE=URI;X-ADDRESS=Madison College Public Safety Training Center W2140 Krause Rd Columbus WI 53925 United States;X-APPLE-RADIUS=500;X-TITLE=W2140 Krause Rd:geo:-89.1048098,43.2832932
END:VEVENT
BEGIN:VEVENT
DTSTART;VALUE=DATE:20250510
DTEND;VALUE=DATE:20250511
DTSTAMP:20260425T090830
CREATED:20250225T191402Z
LAST-MODIFIED:20250225T191402Z
UID:10001126-1746835200-1746921599@scca-milwaukee.org
SUMMARY:Street Survival - Teen Driving School
DESCRIPTION:The primary emphasis of the Tire Rack Street Survival® is a “hands-on” driving experience in real-world situations! We use your own car to teach you about its handling limits and how you can control them. The students will become more observant of the traffic situation they find themselves in. They will learn to look far enough ahead to anticipate unwise actions of other drivers. As the students master the application of physics to drive their cars\, they will make fewer unwise driving actions themselves. They will understand why they should always wear their own seat belts\, and why they should insist that their passengers wear seat belts\, too. \nIt’s about more than driving – it’s about LIVING! \nThree parents\, including Scott Goodyear\, former Indy Car Champion\, share their perspectives in this video. \nSee our FAQ page at: https://streetsurvival.org/schools/frequently-asked-questions/ \n  \nStudent Registration \nhttps://streetsurvival.org/ \nVolunteer Registration\nhttp://msreg.com/MilwTRSS2025 \nBecome a Coach for Street Survival (Online Course)\nhttps://streetsurvival.org/schools/become-a-coach/
URL:https://scca-milwaukee.org/event/street-survival-teen-driving-school/
LOCATION:Milwaukee Area Technical College – Oak Creek Campus\, 6665 South Howell Avenue\, Oak Creek\, WI\, 53154\, United States
CATEGORIES:Street Survival
GEO:42.9227244;-87.9105952
X-APPLE-STRUCTURED-LOCATION;VALUE=URI;X-ADDRESS=Milwaukee Area Technical College – Oak Creek Campus 6665 South Howell Avenue Oak Creek WI 53154 United States;X-APPLE-RADIUS=500;X-TITLE=6665 South Howell Avenue:geo:-87.9105952,42.9227244
END:VEVENT
BEGIN:VEVENT
DTSTART;TZID=America/Chicago:20250529T190000
DTEND;TZID=America/Chicago:20250529T210000
DTSTAMP:20260425T090830
CREATED:20240829T212355Z
LAST-MODIFIED:20250305T221746Z
UID:10001119-1748545200-1748552400@scca-milwaukee.org
SUMMARY:AutoX Committee Meeting
DESCRIPTION:This meeting with discuss on-goings with regards to the Autocross program; anyone and everyone is encouraged to attend committee meetings.  It’s your club\, get involved. Besides dinner\, drinks\, and bench racing is a good time for car folks. \n 
URL:https://scca-milwaukee.org/event/autox-committee-meeting-6/
LOCATION:Cleveland Pub & Grill\, 14000 W. Cleveland Avenue\, New Berlin\, WI\, 53151\, United States
CATEGORIES:AutoX,Meeting,Meetings
GEO:42.9960329;-88.0887404
X-APPLE-STRUCTURED-LOCATION;VALUE=URI;X-ADDRESS=Cleveland Pub & Grill 14000 W. Cleveland Avenue New Berlin WI 53151 United States;X-APPLE-RADIUS=500;X-TITLE=14000 W. Cleveland Avenue:geo:-88.0887404,42.9960329
END:VEVENT
BEGIN:VEVENT
DTSTART;TZID=America/Chicago:20250531T080000
DTEND;TZID=America/Chicago:20250531T173000
DTSTAMP:20260425T090830
CREATED:20250414T140908Z
LAST-MODIFIED:20250414T140908Z
UID:10001138-1748678400-1748712600@scca-milwaukee.org
SUMMARY:AutoX 2
DESCRIPTION:Link to Registration – http://msreg.com/MKE-2025-AX2 \nCome join us as we host an event at Alliant Energy Center in Madison. \n“Solo®” is the brand name for SCCA® Autocrossing and on paper it seems very simple – use traffic cones to make a mini-roadcourse in a large parking lot\, unused airport tarmac\, or portions of racetracks and see who can drive it the quickest without hitting any cones or going off course. Autocross is an affordable entry-level form of Motorsports for racing enthusiasts of all ages.  Autocross teaches car control that will make you a better\, safer and more confident driver. \nFor more information including classes\, waivers\, and tech procedures head to our What is Autocross? page. \n 
URL:https://scca-milwaukee.org/event/autox-2025-2/
LOCATION:Alliant Energy Center\, 1919 Alliant Energy Center Way\, Madison\, WI\, 53713\, United States
CATEGORIES:AutoX
GEO:43.0442288;-89.3804718
X-APPLE-STRUCTURED-LOCATION;VALUE=URI;X-ADDRESS=Alliant Energy Center 1919 Alliant Energy Center Way Madison WI 53713 United States;X-APPLE-RADIUS=500;X-TITLE=1919 Alliant Energy Center Way:geo:-89.3804718,43.0442288
END:VEVENT
END:VCALENDAR