BEGIN:VCALENDAR
VERSION:2.0
PRODID:-//Milwaukee Region SCCA - ECPv6.15.16.1//NONSGML v1.0//EN
CALSCALE:GREGORIAN
METHOD:PUBLISH
X-WR-CALNAME:Milwaukee Region SCCA
X-ORIGINAL-URL:https://scca-milwaukee.org
X-WR-CALDESC:Events for Milwaukee Region SCCA
REFRESH-INTERVAL;VALUE=DURATION:PT1H
X-Robots-Tag:noindex
X-PUBLISHED-TTL:PT1H
BEGIN:VTIMEZONE
TZID:America/Chicago
BEGIN:DAYLIGHT
TZOFFSETFROM:-0600
TZOFFSETTO:-0500
TZNAME:CDT
DTSTART:20160313T080000
END:DAYLIGHT
BEGIN:STANDARD
TZOFFSETFROM:-0500
TZOFFSETTO:-0600
TZNAME:CST
DTSTART:20161106T070000
END:STANDARD
BEGIN:DAYLIGHT
TZOFFSETFROM:-0600
TZOFFSETTO:-0500
TZNAME:CDT
DTSTART:20170312T080000
END:DAYLIGHT
BEGIN:STANDARD
TZOFFSETFROM:-0500
TZOFFSETTO:-0600
TZNAME:CST
DTSTART:20171105T070000
END:STANDARD
BEGIN:DAYLIGHT
TZOFFSETFROM:-0600
TZOFFSETTO:-0500
TZNAME:CDT
DTSTART:20180311T080000
END:DAYLIGHT
BEGIN:STANDARD
TZOFFSETFROM:-0500
TZOFFSETTO:-0600
TZNAME:CST
DTSTART:20181104T070000
END:STANDARD
BEGIN:DAYLIGHT
TZOFFSETFROM:-0600
TZOFFSETTO:-0500
TZNAME:CDT
DTSTART:20190310T080000
END:DAYLIGHT
BEGIN:STANDARD
TZOFFSETFROM:-0500
TZOFFSETTO:-0600
TZNAME:CST
DTSTART:20191103T070000
END:STANDARD
BEGIN:DAYLIGHT
TZOFFSETFROM:-0600
TZOFFSETTO:-0500
TZNAME:CDT
DTSTART:20200308T080000
END:DAYLIGHT
BEGIN:STANDARD
TZOFFSETFROM:-0500
TZOFFSETTO:-0600
TZNAME:CST
DTSTART:20201101T070000
END:STANDARD
BEGIN:DAYLIGHT
TZOFFSETFROM:-0600
TZOFFSETTO:-0500
TZNAME:CDT
DTSTART:20210314T080000
END:DAYLIGHT
BEGIN:STANDARD
TZOFFSETFROM:-0500
TZOFFSETTO:-0600
TZNAME:CST
DTSTART:20211107T070000
END:STANDARD
BEGIN:DAYLIGHT
TZOFFSETFROM:-0600
TZOFFSETTO:-0500
TZNAME:CDT
DTSTART:20220313T080000
END:DAYLIGHT
BEGIN:STANDARD
TZOFFSETFROM:-0500
TZOFFSETTO:-0600
TZNAME:CST
DTSTART:20221106T070000
END:STANDARD
END:VTIMEZONE
BEGIN:VEVENT
DTSTART;TZID=America/Chicago:20211113T180000
DTEND;TZID=America/Chicago:20211113T220000
DTSTAMP:20260424T182550
CREATED:20211008T143944Z
LAST-MODIFIED:20211029T025643Z
UID:10000906-1636826400-1636840800@scca-milwaukee.org
SUMMARY:Annual Banquet 2021
DESCRIPTION:Please save the date for the Milwaukee Region Annual Meeting and Awards Ceremony\, details are below. \nDate:\nSaturday\, November 13\, 2021\n \nDetails:\nCash Bar beginning at 6:00 pm\nBuffet Dinner  at 7:00 pm\nAnnual Meeting and Awards Ceremony to follow\n \nLocation:\nThe Delafield Brewhaus\n3832 Hillside Drive\nDelafield WI 53018
URL:https://scca-milwaukee.org/event/annual-banquet-2021/
LOCATION:Delafield Brewhaus\, 3832 Hillside Dr\, Delafield\, WI\, 53018\, United States
CATEGORIES:AutoX,Meetings,RallyX,Road Racing,Road Rally,Street Survival,Track Days
GEO:43.048083;-88.3552349
X-APPLE-STRUCTURED-LOCATION;VALUE=URI;X-ADDRESS=Delafield Brewhaus 3832 Hillside Dr Delafield WI 53018 United States;X-APPLE-RADIUS=500;X-TITLE=3832 Hillside Dr:geo:-88.3552349,43.048083
END:VEVENT
BEGIN:VEVENT
DTSTART;VALUE=DATE:20210918
DTEND;VALUE=DATE:20210919
DTSTAMP:20260424T182550
CREATED:20210521T182717Z
LAST-MODIFIED:20210521T182845Z
UID:10000899-1631923200-1632009599@scca-milwaukee.org
SUMMARY:Street Survival - Teen Driving School
DESCRIPTION:The primary emphasis of the Tire Rack Street Survival® is a “hands-on” driving experience in real-world situations! We use your own car to teach you about its handling limits and how you can control them. The students will become more observant of the traffic situation they find themselves in. They will learn to look far enough ahead to anticipate unwise actions of other drivers. As the students master the application of physics to drive their cars\, they will make fewer unwise driving actions themselves. They will understand why they should always wear their own seat belts\, and why they should insist that their passengers wear seat belts\, too. \nIt’s about more than driving – it’s about LIVING! \nThree parents\, including Scott Goodyear\, former Indy Car Champion\, share their perspectives in this video. \nSee our FAQ page at: https://streetsurvival.org/schools/frequently-asked-questions/ \n  \nAny questions after reviewing the FAQ page call Tim Beechuk\, Program Manager\, @ 684-438-2060 (8 am – 8 pm EST) \n  \nStudent Registration \nhttps://streetsurvival.org/ \nVolunteer Registration\nhttp://msreg.com/MilwTRSS2021
URL:https://scca-milwaukee.org/event/teen-driving-school-tire-rack-street-survival-2021/
LOCATION:Milwaukee Area Technical College – Oak Creek Campus\, 6665 South Howell Avenue\, Oak Creek\, WI\, 53154\, United States
CATEGORIES:Street Survival
GEO:42.9227244;-87.9105952
X-APPLE-STRUCTURED-LOCATION;VALUE=URI;X-ADDRESS=Milwaukee Area Technical College – Oak Creek Campus 6665 South Howell Avenue Oak Creek WI 53154 United States;X-APPLE-RADIUS=500;X-TITLE=6665 South Howell Avenue:geo:-87.9105952,42.9227244
END:VEVENT
BEGIN:VEVENT
DTSTART;TZID=America/Chicago:20210320T080000
DTEND;TZID=America/Chicago:20210320T150000
DTSTAMP:20260424T182550
CREATED:20210313T195607Z
LAST-MODIFIED:20210313T195723Z
UID:10000746-1616227200-1616252400@scca-milwaukee.org
SUMMARY:2021 Virtual CenDiv Spring Training
DESCRIPTION:  \n \n  \nHello\, and thank you for your interest in our first ever CenDiv virtual Spring Training. We thank you for taking time out of your Saturday to join us. While this isn’t how we wanted to get together\, as the SCCA National Convention showed\, it can be fun and informative-just different. \nWe will begin on Saturday\, March 20 at 8:00AM\, with a general session for everyone\, that will include updates from us\, an update on 2022 Spring Training from Paula Spencer\, and a presentation from Chris Robbins from the national staff. \nAround 9:30ish (not time certain)\, we will separate into different “rooms”: F&C\, Registration\, Tech\, Timing & Scoring\, Stewards\, Solo (including a solo safety steward training from Aruch)\, and Track Days/Trials. The CenDiv\, Inc. board meeting (open to all) will begin at Noon in it’s own room. If there is a desire for any more rooms\, please let Kevin know at kcoulter@comcast.net by Wednesday night. Note that you can change what room you are in whenever you would like. We anticipate most sessions will be done by Noon. \nThe Zoom connection information is at the end of this message. If you have not installed Zoom before\, downloads for almost any device are available at https://zoom.us/download. If you have Zoom installed already\, please be sure it is the latest version by updating apps on your device\, or\, if the PC version\, start Zoom\, click on your initials in the upper right hand corner\, and then select Check for Updates. Being current is needed to join rooms. To pick or change a room\, on the bottom of your Zoom window\, is a button labelled “Breakout rooms”. Go there\, and pick the room you want. You go back there if you want to leave that room\, and then join another. Finally\, if you are wanting to join by phone\, it will put you automatically into the main meeting. You can then be “assigned” rooms for the breakouts. Again\, please email Kevin if you would like to do this no later than Wednesday. \nThank you. Please let us know if you have any questions. \nKevin Coulter\nCentral Division\nExecutive Steward\nkcoulter@comcast.net \nPeter Jankovskis\nArea 5 Director\nSCCA\, Inc. Chairman of the Board\npeterjank@yahoo.com \nJoin Zoom Meeting\nhttps://scca.zoom.us/j/89205258869?pwd=MTNBcmpuS25YQUhpTTdiNE1BSzZYQT09\nMeeting ID: 892 0525 8869\nPasscode: CD2021\nOne tap mobile\n+13462487799\,\,89205258869#\,\,\,\,*498533# US (Houston)\n+16699006833\,\,89205258869#\,\,\,\,*498533# US (San Jose)\nDial by your location\n+1 346 248 7799 US (Houston)\n+1 669 900 6833 US (San Jose)\n+1 312 626 6799 US (Chicago)\n+1 929 205 6099 US (New York)\nMeeting ID: 892 0525 8869\nPasscode: 498533\nFind your local number: https://scca.zoom.us/u/kd9pOACYwg
URL:https://scca-milwaukee.org/event/2021-virtual-cendiv-spring-training/
LOCATION:WI
CATEGORIES:AutoX,Meetings,RallyX,Road Racing,Road Rally,Street Survival,Track Days
END:VEVENT
BEGIN:VEVENT
DTSTART;TZID=America/Chicago:20210319T193000
DTEND;TZID=America/Chicago:20210319T210000
DTSTAMP:20260424T182550
CREATED:20210305T224417Z
LAST-MODIFIED:20210308T191643Z
UID:10000744-1616182200-1616187600@scca-milwaukee.org
SUMMARY:Awards Ceremony 2020
DESCRIPTION:The 2020 season was unique and challenging\, our annual awards ceremony is no different\, due to concerns of a large gathering we will not be holding our normal in-person awards banquet.  However\, that doesn’t mean we aren’t going to recognize the accomplishments of our members.  Join us for the first virtual Milwaukee Region SCCA Awards Ceremony on Friday March 19th\, 2021 via Microsoft Teams.  The meeting starts at 7:30 PM\, however\, the virtual meeting will be open if you want to join sooner and do some bench racing with friends. \nAll members\, friends and family are invited to join us online. \nAwards typically handed out at the banquet will be distributed at events in 2021. \n—– \nYou’re invited to join a Microsoft Teams meeting \nJoin on your computer or mobile app\nClick here to join the meeting
URL:https://scca-milwaukee.org/event/awards-ceremony-2020/
LOCATION:Virtual Meeting – BOD Via Microsoft Teams
CATEGORIES:AutoX,Meetings,RallyX,Road Racing,Road Rally,Street Survival,Track Days
END:VEVENT
BEGIN:VEVENT
DTSTART;VALUE=DATE:20200926
DTEND;VALUE=DATE:20200927
DTSTAMP:20260424T182550
CREATED:20200317T215819Z
LAST-MODIFIED:20200317T215819Z
UID:10000859-1601078400-1601164799@scca-milwaukee.org
SUMMARY:Teen Driving School - Tire Rack Street Survival
DESCRIPTION:The primary emphasis of the Tire Rack Street Survival® is a “hands-on” driving experience in real-world situations! We use your own car to teach you about its handling limits and how you can control them. The students will become more observant of the traffic situation they find themselves in. They will learn to look far enough ahead to anticipate unwise actions of other drivers. As the students master the application of physics to drive their cars\, they will make fewer unwise driving actions themselves. They will understand why they should always wear their own seat belts\, and why they should insist that their passengers wear seat belts\, too. \nIt’s about more than driving – it’s about LIVING! \nThree parents\, including Scott Goodyear\, former Indy Car Champion\, share their perspectives in this video. \nSee our FAQ page at: www.streetsurvival.org/frequently-asked-questions.php
URL:https://scca-milwaukee.org/event/teen-driving-school-tire-rack-street-survival-2020/
LOCATION:Milwaukee Area Technical College – Oak Creek Campus\, 6665 South Howell Avenue\, Oak Creek\, WI\, 53154\, United States
CATEGORIES:Street Survival
GEO:42.9227244;-87.9105952
X-APPLE-STRUCTURED-LOCATION;VALUE=URI;X-ADDRESS=Milwaukee Area Technical College – Oak Creek Campus 6665 South Howell Avenue Oak Creek WI 53154 United States;X-APPLE-RADIUS=500;X-TITLE=6665 South Howell Avenue:geo:-87.9105952,42.9227244
END:VEVENT
BEGIN:VEVENT
DTSTART;TZID=America/Chicago:20200329T110000
DTEND;TZID=America/Chicago:20200329T150000
DTSTAMP:20260424T182550
CREATED:20200127T201951Z
LAST-MODIFIED:20200314T150838Z
UID:10000708-1585479600-1585494000@scca-milwaukee.org
SUMMARY:Open House POSTPONED!
DESCRIPTION:Join the Milwaukee Region SCCA for our Annual Open House hosted by Schlossmann Honda City. If you’re new to the SCCA (Sports Car Club of America) learn how to become a driver or race official. If you’re a member stop by and catch up with your friends. If you have a teen that is starting to drive stop by to learn about our Street Survival program. \nActivities Include: \n\nLearn how to get involved in motorsports and join the Sports Car Club of America\nTalk with drivers and workers for Street Survival\, Road Rally\, RallyCross\, Autocross\, Track Days\, Time Trials\, and Road Racing.\nAnnual Inspection for Road Racing Cars & Driver’s Gear\n\nThank you to Schlossmann Honda City for being our host.
URL:https://scca-milwaukee.org/event/open-house-2020/
LOCATION:Schlossmann Honda City\, 3450 South 108th Street\, Milwaukee\, WI\, 53227\, United States
CATEGORIES:AutoX,Meetings,RallyX,Road Racing,Road Rally,Street Survival,Track Days
GEO:42.9813264;-88.0462614
X-APPLE-STRUCTURED-LOCATION;VALUE=URI;X-ADDRESS=Schlossmann Honda City 3450 South 108th Street Milwaukee WI 53227 United States;X-APPLE-RADIUS=500;X-TITLE=3450 South 108th Street:geo:-88.0462614,42.9813264
END:VEVENT
BEGIN:VEVENT
DTSTART;TZID=America/Chicago:20200215T080000
DTEND;TZID=America/Chicago:20200215T190000
DTSTAMP:20260424T182550
CREATED:20200127T201151Z
LAST-MODIFIED:20200127T201151Z
UID:10000707-1581753600-1581793200@scca-milwaukee.org
SUMMARY:Chicago Auto Show Trip
DESCRIPTION:Interested in going to the Chicago Auto Show?  JOIN US!  Milwaukee Region SCCA has chartered a bus for transporation to/from the Chicago Auto Show on Saturday\, February 15.  Save time\, money\, and the hassle of  driving\, all while enjoying the company of friends! \nYou will receive transportation and admission into the show!  Registration is open to SCCA members (and one guest) through February 9th.  If there are still seats available\, we will open registration to non-members on February 10th.  REGISTER HERE on MotorsportReg. \nCOST: \n  $40 each for Annual SCCA Members and Guest \n  $45 each for Non-Member and Guest \nDeparture Times: \n  8:00am – Promptly from Goerke’s Corner Park & Ride (Bluemound & Barker Road) for the College Ave Park & Ride. \n  8:45am – West College Avenue Park & Ride (1909 College Ave. Milwaukee\, WI) for McCormick Place (~10:15am arrival time). \n  4:30pm – Depart promptly from McCormick Place\, approximate return times are 6pm at College Ave and 6:45pm at Goerke’s Corner. \n  \nSpaces are limited\, so register soon to allow us to get an accurate count for the bus. \nSmall coolers are allowed on the bus.  No carry-ins at the show allowed and all bags are subject to search. Visit www.chicagoautoshow.com for floor plan\, list of displays and more show information.
URL:https://scca-milwaukee.org/event/chicago-auto-show-trip/
LOCATION:WI
CATEGORIES:AutoX,Meetings,RallyX,Road Racing,Road Rally,Street Survival,Track Days
END:VEVENT
BEGIN:VEVENT
DTSTART;TZID=America/Chicago:20190914T063000
DTEND;TZID=America/Chicago:20190914T170000
DTSTAMP:20260424T182550
CREATED:20190806T174636Z
LAST-MODIFIED:20190806T174636Z
UID:10000815-1568442600-1568480400@scca-milwaukee.org
SUMMARY:Teen Driving School - Tire Rack Street Survival
DESCRIPTION:The primary emphasis of the Tire Rack Street Survival® is a “hands-on” driving experience in real-world situations! We use your own car to teach you about its handling limits and how you can control them. The students will become more observant of the traffic situation they find themselves in. They will learn to look far enough ahead to anticipate unwise actions of other drivers. As the students master the application of physics to drive their cars\, they will make fewer unwise driving actions themselves. They will understand why they should always wear their own seat belts\, and why they should insist that their passengers wear seat belts\, too. \nIt’s about more than driving – it’s about LIVING! \nThree parents\, including Scott Goodyear\, former Indy Car Champion\, share their perspectives in this video. \nSee our FAQ page at: www.streetsurvival.org/frequently-asked-questions.php \nAny questions after reviewing the FAQ page call Tim Beechuk\, Program Manager\, @ 684-438-2060 (8 am – 8 pm EST) \n  \nStudent Registration \nLink to TBD \nVolunteer Registration\nhttp://msreg.com/MilwTRSS2019
URL:https://scca-milwaukee.org/event/teen-driving-school-tire-rack-street-survival-3/
LOCATION:Milwaukee Area Technical College – Oak Creek Campus\, 6665 South Howell Avenue\, Oak Creek\, WI\, 53154\, United States
CATEGORIES:Street Survival
GEO:42.9227244;-87.9105952
X-APPLE-STRUCTURED-LOCATION;VALUE=URI;X-ADDRESS=Milwaukee Area Technical College – Oak Creek Campus 6665 South Howell Avenue Oak Creek WI 53154 United States;X-APPLE-RADIUS=500;X-TITLE=6665 South Howell Avenue:geo:-87.9105952,42.9227244
END:VEVENT
BEGIN:VEVENT
DTSTART;TZID=America/Chicago:20190407T110000
DTEND;TZID=America/Chicago:20190407T160000
DTSTAMP:20260424T182550
CREATED:20190222T150230Z
LAST-MODIFIED:20190314T154544Z
UID:10000807-1554634800-1554652800@scca-milwaukee.org
SUMMARY:Open House
DESCRIPTION:Join the Milwaukee Region SCCA for our Annual Open House hosted by Schlossmann Honda City. If you’re new to the SCCA (Sports Car Club of America) learn how to become a driver or race official. If you’re a member stop by and catch up with your friends. If you have a teen that is starting to drive stop by to learn about our Street Survival program. \nActivities Include: \n\nLearn how to get involved in motorsports and join the Sports Car Club of America\nTalk with drivers and workers for Street Survival\, Road Rally\, RallyCross\, Autocross\, Track Days\, Time Trials\, and Road Racing.\nAnnual Inspection for Road Racing Cars & Driver’s Gear\n\nThank you to Schlossmann Honda City for being our host.
URL:https://scca-milwaukee.org/event/open-house-2019/
LOCATION:Schlossmann Honda City\, 3450 South 108th Street\, Milwaukee\, WI\, 53227\, United States
CATEGORIES:AutoX,RallyX,Road Racing,Road Rally,Street Survival,Track Days
ATTACH;FMTTYPE=image/png:https://scca-milwaukee.org/wp-content/uploads/2018/03/Schlossmann-Honda-2017.png
GEO:42.9813264;-88.0462614
X-APPLE-STRUCTURED-LOCATION;VALUE=URI;X-ADDRESS=Schlossmann Honda City 3450 South 108th Street Milwaukee WI 53227 United States;X-APPLE-RADIUS=500;X-TITLE=3450 South 108th Street:geo:-88.0462614,42.9813264
END:VEVENT
BEGIN:VEVENT
DTSTART;TZID=America/Chicago:20181117T180000
DTEND;TZID=America/Chicago:20181117T220000
DTSTAMP:20260424T182550
CREATED:20180314T174818Z
LAST-MODIFIED:20181023T212512Z
UID:10000571-1542477600-1542492000@scca-milwaukee.org
SUMMARY:Annual Meeting & Awards Ceremony 2018
DESCRIPTION:Date:\nSaturday\, November 17\, 2018\n \nDetails:\nCash Bar beginning at 6:00 pm\nBuffet Dinner  at 7:00 pm\nAnnual Meeting and Awards Ceremony to follow\n \nLocation:\nThe Delafield Brewhaus\n3832 Hillside Drive\nDelafield WI 53018
URL:https://scca-milwaukee.org/event/annual-meeting-2018/
LOCATION:Delafield Brewhaus\, 3832 Hillside Dr\, Delafield\, WI\, 53018\, United States
CATEGORIES:AutoX,Meetings,RallyX,Road Racing,Road Rally,Street Survival,Track Days
ATTACH;FMTTYPE=image/png:https://scca-milwaukee.org/wp-content/uploads/2017/10/Delafield-Brewhaus-2017.png
GEO:43.048083;-88.3552349
X-APPLE-STRUCTURED-LOCATION;VALUE=URI;X-ADDRESS=Delafield Brewhaus 3832 Hillside Dr Delafield WI 53018 United States;X-APPLE-RADIUS=500;X-TITLE=3832 Hillside Dr:geo:-88.3552349,43.048083
END:VEVENT
BEGIN:VEVENT
DTSTART;VALUE=DATE:20180922
DTEND;VALUE=DATE:20180923
DTSTAMP:20260424T182550
CREATED:20180607T002436Z
LAST-MODIFIED:20180816T170455Z
UID:10000581-1537574400-1537660799@scca-milwaukee.org
SUMMARY:Teen Driving School - Tire Rack Street Survival
DESCRIPTION:The primary emphasis of the Tire Rack Street Survival® is a “hands-on” driving experience in real-world situations! We use your own car to teach you about its handling limits and how you can control them. The students will become more observant of the traffic situation they find themselves in. They will learn to look far enough ahead to anticipate unwise actions of other drivers. As the students master the application of physics to drive their cars\, they will make fewer unwise driving actions themselves. They will understand why they should always wear their own seatbelts\, and why they should insist that their passengers wear seatbelts\, too. \nIt’s about more than driving – it’s about LIVING! \nThree parents\, including Scott Goodyear\, former Indy Car Champion\, share their perspectives in this video. \nSee our FAQ page at: www.streetsurvival.org/frequently-asked-questions.php \nAny questions after reviewing the FAQ page call Tim Beechuk\, Program Manager\, @ 684-438-2060 (8 am – 8 pm EST) \n  \nStudent Registration \nhttps://www.motorsportreg.com/events/milwaukee-scca-18-1-area-technical-college-tire-rack-street-survival-338090 \nVolunteer Registration \nmsreg.com/2018TRSSVolunteer
URL:https://scca-milwaukee.org/event/teen-driving-school-tire-rack-street-survival-2/
LOCATION:Milwaukee Area Technical College – Oak Creek Campus\, 6665 South Howell Avenue\, Oak Creek\, WI\, 53154\, United States
CATEGORIES:Street Survival
GEO:42.9227244;-87.9105952
X-APPLE-STRUCTURED-LOCATION;VALUE=URI;X-ADDRESS=Milwaukee Area Technical College – Oak Creek Campus 6665 South Howell Avenue Oak Creek WI 53154 United States;X-APPLE-RADIUS=500;X-TITLE=6665 South Howell Avenue:geo:-87.9105952,42.9227244
END:VEVENT
BEGIN:VEVENT
DTSTART;TZID=America/Chicago:20180408T110000
DTEND;TZID=America/Chicago:20180408T150000
DTSTAMP:20260424T182550
CREATED:20180317T195247Z
LAST-MODIFIED:20180319T191120Z
UID:10000573-1523185200-1523199600@scca-milwaukee.org
SUMMARY:Open House 2018
DESCRIPTION:Join the Milwaukee Region SCCA for our Annual Open House hosted by Schlossmann Honda City. If you’re new to the SCCA (Sports Car Club of America) learn how to become a driver or race official. If you’re a member stop by and catch up with your friends. If you have a teen that is starting to drive stop by to learn about our Street Survival program. \nActivities Include: \n\nLearn how to get involved in motorsports and join the Sports Car Club of America\nTalk with drivers and workers for Autocross\, RallyCross\, Road Rally\, Road Racing\, Milwaukee Track Days\, Time Trials\, and Street Survival\nAnnual Inspection for Road Racing Cars & Driver’s Gear\n\nThank you to Schlossmann Honda City for being our host.
URL:https://scca-milwaukee.org/event/open-house-2018/
LOCATION:Schlossmann Honda City\, 3450 South 108th Street\, Milwaukee\, WI\, 53227\, United States
CATEGORIES:AutoX,Road Racing,Road Rally,Street Survival,Track Days
ATTACH;FMTTYPE=image/png:https://scca-milwaukee.org/wp-content/uploads/2018/03/Schlossmann-Honda-2017.png
GEO:42.9813264;-88.0462614
X-APPLE-STRUCTURED-LOCATION;VALUE=URI;X-ADDRESS=Schlossmann Honda City 3450 South 108th Street Milwaukee WI 53227 United States;X-APPLE-RADIUS=500;X-TITLE=3450 South 108th Street:geo:-88.0462614,42.9813264
END:VEVENT
BEGIN:VEVENT
DTSTART;TZID=America/Chicago:20171118T180000
DTEND;TZID=America/Chicago:20171118T220000
DTSTAMP:20260424T182550
CREATED:20170305T002041Z
LAST-MODIFIED:20171025T172231Z
UID:10000525-1511028000-1511042400@scca-milwaukee.org
SUMMARY:Annual Banquet 2017
DESCRIPTION:           \nPlease save the date for the Milwaukee Region Annual Meeting and Awards Ceremony\, details are below- Registration on MSR is open. \nDate:\nSaturday\, November 18\, 2017\n \nDetails:\nCash Bar beginning at 6:00 pm\nBuffet Dinner  at 7:00 pm\nAnnual Meeting and Awards Ceremony to follow\n \nLocation:\nThe Delafield Brewhaus\n3832 Hillside Drive\nDelafield WI 53018
URL:https://scca-milwaukee.org/event/2017-annual-banquet/
LOCATION:Delafield Brewhaus\, 3832 Hillside Dr\, Delafield\, WI\, 53018\, United States
CATEGORIES:AutoX,Meetings,Road Racing,Road Rally,Street Survival,Track Days
GEO:43.048083;-88.3552349
X-APPLE-STRUCTURED-LOCATION;VALUE=URI;X-ADDRESS=Delafield Brewhaus 3832 Hillside Dr Delafield WI 53018 United States;X-APPLE-RADIUS=500;X-TITLE=3832 Hillside Dr:geo:-88.3552349,43.048083
END:VEVENT
BEGIN:VEVENT
DTSTART;TZID=America/Chicago:20170513T073000
DTEND;TZID=America/Chicago:20170513T163000
DTSTAMP:20260424T182550
CREATED:20170324T212726Z
LAST-MODIFIED:20170424T174029Z
UID:10000527-1494660600-1494693000@scca-milwaukee.org
SUMMARY:Teen Driving School - Tire Rack Street Survival
DESCRIPTION:The primary emphasis of the Tire Rack Street Survival® is a “hands-on” driving experience in real-world situations! We use your own car to teach you about its handling limits and how you can control them. The students will become more observant of the traffic situation they find themselves in. They will learn to look far enough ahead to anticipate unwise actions of other drivers. As the students master the application of physics to drive their cars\, they will make fewer unwise driving actions themselves. They will understand why they should always wear their own seatbelts\, and why they should insist that their passengers wear seatbelts\, too. \nIt’s about more than driving – it’s about LIVING! \nThree parents\, including Scott Goodyear\, former Indy Car Champion\, share their perspectives in this video. \nSee our FAQ page at: www.streetsurvival.org/frequently-asked-questions.php \nAny questions after reviewing the FAQ page call Tim Beechuk\, Program Manager\, @ 684-438-2060 (8 am – 8 pm EST)
URL:https://scca-milwaukee.org/event/teen-driving-school-tire-rack-street-survival/
LOCATION:Milwaukee Area Technical College – Oak Creek Campus\, 6665 South Howell Avenue\, Oak Creek\, WI\, 53154\, United States
CATEGORIES:Street Survival
GEO:42.9227244;-87.9105952
X-APPLE-STRUCTURED-LOCATION;VALUE=URI;X-ADDRESS=Milwaukee Area Technical College – Oak Creek Campus 6665 South Howell Avenue Oak Creek WI 53154 United States;X-APPLE-RADIUS=500;X-TITLE=6665 South Howell Avenue:geo:-87.9105952,42.9227244
END:VEVENT
BEGIN:VEVENT
DTSTART;TZID=America/Chicago:20170402T110000
DTEND;TZID=America/Chicago:20170402T150000
DTSTAMP:20260424T182550
CREATED:20170108T202453Z
LAST-MODIFIED:20170402T175308Z
UID:10000561-1491130800-1491145200@scca-milwaukee.org
SUMMARY:Milwaukee Region SCCA Open House 2017
DESCRIPTION:Join the Milwaukee Region SCCA for our Annual Open House hosted by Schlossmann’s Honda City. If you’re new to the SCCA (Sports Car Club of America) learn how to become a driver or race official. If you’re a member stop by and catch up with your friends. If you have a teen that is starting to drive stop by to learn about our Street Survival program. \nActivities Include: \n\nLearn how to get involved in motorsports and join the Sports Car Club of America\nTalk with drivers and workers for Solo\, Rally\, Club Racing\, Milwaukee Track Days\, and Street Survival\nAnnual Inspection for Solo Cars & Driver’s Helmets\nAnnual Inspection for Club Racing Cars & Driver’s Gear\n\nThank you to Schlossmann’s Honda City for being our host.
URL:https://scca-milwaukee.org/event/2017-milwaukee-region-scca-open-house/
LOCATION:Schlossmann Honda City\, 3450 South 108th Street\, Milwaukee\, WI\, 53227\, United States
CATEGORIES:AutoX,Road Racing,Road Rally,Street Survival,Track Days
ATTACH;FMTTYPE=image/png:https://scca-milwaukee.org/wp-content/uploads/2017/03/Schlossmann2017.png
GEO:42.9813264;-88.0462614
X-APPLE-STRUCTURED-LOCATION;VALUE=URI;X-ADDRESS=Schlossmann Honda City 3450 South 108th Street Milwaukee WI 53227 United States;X-APPLE-RADIUS=500;X-TITLE=3450 South 108th Street:geo:-88.0462614,42.9813264
END:VEVENT
END:VCALENDAR