BEGIN:VCALENDAR
VERSION:2.0
PRODID:-//Milwaukee Region SCCA - ECPv6.15.16.1//NONSGML v1.0//EN
CALSCALE:GREGORIAN
METHOD:PUBLISH
X-ORIGINAL-URL:https://scca-milwaukee.org
X-WR-CALDESC:Events for Milwaukee Region SCCA
REFRESH-INTERVAL;VALUE=DURATION:PT1H
X-Robots-Tag:noindex
X-PUBLISHED-TTL:PT1H
BEGIN:VTIMEZONE
TZID:America/Chicago
BEGIN:DAYLIGHT
TZOFFSETFROM:-0600
TZOFFSETTO:-0500
TZNAME:CDT
DTSTART:20160313T080000
END:DAYLIGHT
BEGIN:STANDARD
TZOFFSETFROM:-0500
TZOFFSETTO:-0600
TZNAME:CST
DTSTART:20161106T070000
END:STANDARD
BEGIN:DAYLIGHT
TZOFFSETFROM:-0600
TZOFFSETTO:-0500
TZNAME:CDT
DTSTART:20170312T080000
END:DAYLIGHT
BEGIN:STANDARD
TZOFFSETFROM:-0500
TZOFFSETTO:-0600
TZNAME:CST
DTSTART:20171105T070000
END:STANDARD
BEGIN:DAYLIGHT
TZOFFSETFROM:-0600
TZOFFSETTO:-0500
TZNAME:CDT
DTSTART:20180311T080000
END:DAYLIGHT
BEGIN:STANDARD
TZOFFSETFROM:-0500
TZOFFSETTO:-0600
TZNAME:CST
DTSTART:20181104T070000
END:STANDARD
BEGIN:DAYLIGHT
TZOFFSETFROM:-0600
TZOFFSETTO:-0500
TZNAME:CDT
DTSTART:20190310T080000
END:DAYLIGHT
BEGIN:STANDARD
TZOFFSETFROM:-0500
TZOFFSETTO:-0600
TZNAME:CST
DTSTART:20191103T070000
END:STANDARD
END:VTIMEZONE
BEGIN:VEVENT
DTSTART;TZID=America/Chicago:20180904T183000
DTEND;TZID=America/Chicago:20180904T210000
DTSTAMP:20260424T181645
CREATED:20170325T052403Z
LAST-MODIFIED:20180129T145520Z
UID:10000659-1536085800-1536094800@scca-milwaukee.org
SUMMARY:Road Racing Committee Meeting - Cancelled
DESCRIPTION:The Road Racing Committee oversees all Road Racing events in the region\, as well as the Worker Incentive Program. \nIf you would like to attend a meeting please contact one of the Road Racing Committee Chairpersons\, you can find their contact information on the Region Contacts page.
URL:https://scca-milwaukee.org/event/road-racing-committee-meeting-2018-09-04-2/
CATEGORIES:Meeting,Meetings
ATTACH;FMTTYPE=image/png:https://scca-milwaukee.org/wp-content/uploads/2017/05/meeting_cancelled.png
END:VEVENT
BEGIN:VEVENT
DTSTART;TZID=America/Chicago:20180814T183000
DTEND;TZID=America/Chicago:20180814T210000
DTSTAMP:20260424T181645
CREATED:20170325T052403Z
LAST-MODIFIED:20180129T145405Z
UID:10000658-1534271400-1534280400@scca-milwaukee.org
SUMMARY:Road Racing Committee Meeting
DESCRIPTION:Moved from August 7th to August 14th \nThe Road Racing Committee oversees all Road Racing events in the region\, as well as the Worker Incentive Program. \nIf you would like to attend a meeting please contact one of the Road Racing Committee Chairpersons\, you can find their contact information on the Region Contacts page.
URL:https://scca-milwaukee.org/event/road-racing-committee-meeting-2018-08-07/
CATEGORIES:Meeting,Meetings
END:VEVENT
BEGIN:VEVENT
DTSTART;TZID=America/Chicago:20180626T183000
DTEND;TZID=America/Chicago:20180626T210000
DTSTAMP:20260424T181645
CREATED:20170325T052403Z
LAST-MODIFIED:20180129T145245Z
UID:10000657-1530037800-1530046800@scca-milwaukee.org
SUMMARY:Road Racing Committee Meeting
DESCRIPTION:Moved from July 3rd to June 26th due to the 4th of July Holiday \nThe Road Racing Committee oversees all Road Racing events in the region\, as well as the Worker Incentive Program. \nIf you would like to attend a meeting please contact one of the Road Racing Committee Chairpersons\, you can find their contact information on the Region Contacts page.
URL:https://scca-milwaukee.org/event/road-racing-committee-meeting-2018-07-03/
CATEGORIES:Meeting,Meetings
END:VEVENT
BEGIN:VEVENT
DTSTART;VALUE=DATE:20180316
DTEND;VALUE=DATE:20180319
DTSTAMP:20260424T181645
CREATED:20180111T170036Z
LAST-MODIFIED:20180306T181130Z
UID:10000685-1521158400-1521417599@scca-milwaukee.org
SUMMARY:CenDiv Spring Training 2018
DESCRIPTION:Spring training registration is now open on MSR (motorsportreg.com)\nwww.msreg.com/AWT2018 \n  \nMichael Cobb\, SCCA President\, is tentatively scheduled to be our guest speaker at the general meeting on Saturday. \nSunday will include a CenDiv Board of Directors and Regional Executives breakfast meeting (open to all who may be interested)\, a presentation on Leadership (by Jeff Luckritz\, Dean of  SCCA Leadership Academy)\, and Road Racing Stewards training session afterwards. \nHope to see you all there\, \nYour planning team\,\nPaula\, Chrissy\, Sue and Tracey \nHotel Block: \nThe hotel guest rooms for CenDiv Spring Training/AWT are available for reserving at this time. The dates of training are Saturday and Sunday\, March 17-18\, 2018 (Road Racing Stewards only on Sunday at this time\, subject to change). The hotel has again offered a direct online link to the event in order to assist you in making a reservation: https://www.bestwestern.com/en_US/book/hotel-rooms.50056.html?groupId=3S2HV7X8. You must use this link to reserve online as the regular Best Western website will not honor the group rate.  If you prefer you may call the hotel directly and identify yourself as part of the Sports Car Club or offer the group ID #3S2HV7X8. \nBest Western Plus Milwaukee Airport Hotel & Conference Center\n5105 S Howell Ave\, Milwaukee\, WI  53207\n414-769-2100 \nThe rate is $95.00 per night plus taxes and incidentals; King or 2 Queens for 1-2 people.  Additional guests are $10.00 per night\, per person plus tax. \nThe BW hotel no longer has an affiliation with the nearby Super 8.  Other lodging options are on your own. \nThe room block expires on February 18\, 2018.  After that date if there are still rooms available the hotel may honor the contracted rate at their total discretion.  A major credit card will be needed to secure the reservation. \nWe are anticipating opening online registration on MSR for event around January 29\, 2018. \nThank you for your anticipated attendance at our annual start-up event. \nPaula Spencer\nFacilities Coordinator
URL:https://scca-milwaukee.org/event/cendiv-spring-training-2018/
LOCATION:Best Western Airport Hotel\, 5105 S Howell Ave\, Milwaukee\, WI\, 53207\, United States
CATEGORIES:Meeting,Meeting,Meeting,Meetings
GEO:42.9514281;-87.9115836
X-APPLE-STRUCTURED-LOCATION;VALUE=URI;X-ADDRESS=Best Western Airport Hotel 5105 S Howell Ave Milwaukee WI 53207 United States;X-APPLE-RADIUS=500;X-TITLE=5105 S Howell Ave:geo:-87.9115836,42.9514281
END:VEVENT
BEGIN:VEVENT
DTSTART;TZID=America/Chicago:20180217T083000
DTEND;TZID=America/Chicago:20180217T120000
DTSTAMP:20260424T181645
CREATED:20180111T174530Z
LAST-MODIFIED:20180129T190912Z
UID:10000697-1518856200-1518868800@scca-milwaukee.org
SUMMARY:Road Racing Annual Meeting 2018
DESCRIPTION:Annual meeting of the Road Racing Committee\, Regional Administrators\, and other interested and involved members to begin planning the 2018 season. \nPlease let Chris Cwiklinski know if you plan to attend in order to make sure we have adequate space and seating for the meeting.
URL:https://scca-milwaukee.org/event/road-racing-annual-meeting-2018/
LOCATION:Best Western Airport Hotel – Flight Room\, 5105 S Howell Ave\, Milwaukee\, WI\, 53207\, United States
CATEGORIES:Meeting,Road Racing
GEO:42.9514281;-87.9115836
X-APPLE-STRUCTURED-LOCATION;VALUE=URI;X-ADDRESS=Best Western Airport Hotel – Flight Room 5105 S Howell Ave Milwaukee WI 53207 United States;X-APPLE-RADIUS=500;X-TITLE=5105 S Howell Ave:geo:-87.9115836,42.9514281
END:VEVENT
BEGIN:VEVENT
DTSTART;TZID=America/Chicago:20180123T183000
DTEND;TZID=America/Chicago:20180123T210000
DTSTAMP:20260424T181645
CREATED:20180111T183149Z
LAST-MODIFIED:20180111T183149Z
UID:10000699-1516732200-1516741200@scca-milwaukee.org
SUMMARY:Road Racing Committee Meeting
DESCRIPTION:This is a combination / rescheduling of January and February meetings in order to prepare for the Annual Road Racing Meeting. \nThe Road Racing Committee oversees all Road Racing events in the region\, as well as the Worker Incentive Program. \nIf you would like to attend a meeting please contact one of the Road Racing Committee Chairpersons\, you can find their contact information on the Region Contacts page.
URL:https://scca-milwaukee.org/event/road-racing-committee-meeting-2/
CATEGORIES:Meeting,Meetings
END:VEVENT
BEGIN:VEVENT
DTSTART;TZID=America/Chicago:20170815T183000
DTEND;TZID=America/Chicago:20170815T203000
DTSTAMP:20260424T181645
CREATED:20170325T052403Z
LAST-MODIFIED:20170630T131325Z
UID:10000656-1502821800-1502829000@scca-milwaukee.org
SUMMARY:Road Racing Committee Meeting
DESCRIPTION:Meeting has been moved from Tuesday\, August 1\, to Tuesday\, August 15. \nThe Road Racing Commmittee oversees all Road Racing events in the region\, as well as the Worker Incentive Program. \nIf you would like to attend a meeting please contact one of the Road Racing Committee Chairpersons\, you can find their contact information on the Region Contacts page.
URL:https://scca-milwaukee.org/event/road-racing-committee-meeting-2017-08-15/
CATEGORIES:Meeting,Meetings
END:VEVENT
BEGIN:VEVENT
DTSTART;TZID=America/Chicago:20170627T183000
DTEND;TZID=America/Chicago:20170627T203000
DTSTAMP:20260424T181645
CREATED:20170325T052403Z
LAST-MODIFIED:20170511T161912Z
UID:10000655-1498588200-1498595400@scca-milwaukee.org
SUMMARY:Road Racing Committee Meeting
DESCRIPTION:The Road Racing Commmittee oversees all Road Racing events in the region\, as well as the Worker Incentive Program. \nIf you would like to attend a meeting please contact one of the Road Racing Committee Chairpersons\, you can find their contact information on the Region Contacts page. \nThe July meeting was moved to June 27th due to the 4th of July holiday.
URL:https://scca-milwaukee.org/event/road-racing-committee-meeting-2017-07-04/
CATEGORIES:Meeting,Meetings
END:VEVENT
END:VCALENDAR