BEGIN:VCALENDAR
VERSION:2.0
PRODID:-//Milwaukee Region SCCA - ECPv6.15.16.1//NONSGML v1.0//EN
CALSCALE:GREGORIAN
METHOD:PUBLISH
X-WR-CALNAME:Milwaukee Region SCCA
X-ORIGINAL-URL:https://scca-milwaukee.org
X-WR-CALDESC:Events for Milwaukee Region SCCA
REFRESH-INTERVAL;VALUE=DURATION:PT1H
X-Robots-Tag:noindex
X-PUBLISHED-TTL:PT1H
BEGIN:VTIMEZONE
TZID:America/Chicago
BEGIN:DAYLIGHT
TZOFFSETFROM:-0600
TZOFFSETTO:-0500
TZNAME:CDT
DTSTART:20230312T080000
END:DAYLIGHT
BEGIN:STANDARD
TZOFFSETFROM:-0500
TZOFFSETTO:-0600
TZNAME:CST
DTSTART:20231105T070000
END:STANDARD
BEGIN:DAYLIGHT
TZOFFSETFROM:-0600
TZOFFSETTO:-0500
TZNAME:CDT
DTSTART:20240310T080000
END:DAYLIGHT
BEGIN:STANDARD
TZOFFSETFROM:-0500
TZOFFSETTO:-0600
TZNAME:CST
DTSTART:20241103T070000
END:STANDARD
BEGIN:DAYLIGHT
TZOFFSETFROM:-0600
TZOFFSETTO:-0500
TZNAME:CDT
DTSTART:20250309T080000
END:DAYLIGHT
BEGIN:STANDARD
TZOFFSETFROM:-0500
TZOFFSETTO:-0600
TZNAME:CST
DTSTART:20251102T070000
END:STANDARD
END:VTIMEZONE
BEGIN:VEVENT
DTSTART;TZID=America/Chicago:20241027T090000
DTEND;TZID=America/Chicago:20241027T163000
DTSTAMP:20260425T163441
CREATED:20240916T150102Z
LAST-MODIFIED:20240916T150102Z
UID:10001124-1730019600-1730046600@scca-milwaukee.org
SUMMARY:Kettle Moraine Colors Divisional Tour Road Rallye
DESCRIPTION:Johnson Creek\, WI\nSanction# 24-RRDT-63235\nMilwaukee Region SCCA invites you to run the annual Kettle Moraine Colors Tour Rally. The event is a brisk run through Wisconsin’s moraine region\, mainly in Jefferson and Walworth counties. Expect interesting roads\, and lots of curves. Many say these are among the best sports car roads in the country.\nWe will be using the Richta automatic timing and scoring system. Contestants are expected to provide an Android or Apple smart phone capable of running this app. The Richta app times you into the hidden controls and automatically provides you with a running score. Expect more than 60 timed controls over the approximately 110-mile course. Contestants can relax and tell rally tales during the breaks in the 4 hour event. We hope to see you there.\nStart Location: Kohl’s Department Store 570 Wright Road\, Johnson Creek\, WI 53038\nFinish Location: Ann’s Farmington Inn\, Hellenville WI 53137 (about 4 miles from Johnson Creek)\nSchedule:\nCheck-in opens: 9:00 AM\nFirst Car Off: 11:01 AM\nFirst Car Finished: about 4:00 PM\nCost: $55.00/car\, a minimum of 2 people per car is required.($15 discount if a least 1 person is a SCCA member)\nPre-registration is required for this event at www.msreg.com/kmcrally24\nFor more info contact Fred Rosevear at Rosevearf@gmail.com 608 231-2333
URL:https://scca-milwaukee.org/event/kettle-moraine-colors-divisional-tour-road-rallye/
LOCATION:WI
CATEGORIES:Road Rally
END:VEVENT
END:VCALENDAR