BEGIN:VCALENDAR
VERSION:2.0
PRODID:-//Milwaukee Region SCCA - ECPv6.15.16.1//NONSGML v1.0//EN
CALSCALE:GREGORIAN
METHOD:PUBLISH
X-WR-CALNAME:Milwaukee Region SCCA
X-ORIGINAL-URL:https://scca-milwaukee.org
X-WR-CALDESC:Events for Milwaukee Region SCCA
REFRESH-INTERVAL;VALUE=DURATION:PT1H
X-Robots-Tag:noindex
X-PUBLISHED-TTL:PT1H
BEGIN:VTIMEZONE
TZID:America/Chicago
BEGIN:DAYLIGHT
TZOFFSETFROM:-0600
TZOFFSETTO:-0500
TZNAME:CDT
DTSTART:20250309T080000
END:DAYLIGHT
BEGIN:STANDARD
TZOFFSETFROM:-0500
TZOFFSETTO:-0600
TZNAME:CST
DTSTART:20251102T070000
END:STANDARD
BEGIN:DAYLIGHT
TZOFFSETFROM:-0600
TZOFFSETTO:-0500
TZNAME:CDT
DTSTART:20260308T080000
END:DAYLIGHT
BEGIN:STANDARD
TZOFFSETFROM:-0500
TZOFFSETTO:-0600
TZNAME:CST
DTSTART:20261101T070000
END:STANDARD
BEGIN:DAYLIGHT
TZOFFSETFROM:-0600
TZOFFSETTO:-0500
TZNAME:CDT
DTSTART:20270314T080000
END:DAYLIGHT
BEGIN:STANDARD
TZOFFSETFROM:-0500
TZOFFSETTO:-0600
TZNAME:CST
DTSTART:20271107T070000
END:STANDARD
END:VTIMEZONE
BEGIN:VEVENT
DTSTART;VALUE=DATE:20260314
DTEND;VALUE=DATE:20260316
DTSTAMP:20260424T201339
CREATED:20251118T210334Z
LAST-MODIFIED:20251118T210334Z
UID:10001146-1773446400-1773619199@scca-milwaukee.org
SUMMARY:CenDiv Convention
DESCRIPTION:https://www.motorsportreg.com/events/cendiv-convention-2026-milwaukee-area-technical-college-scca-224258
URL:https://scca-milwaukee.org/event/cendiv-convention/
LOCATION:Milwaukee Area Technical College – Mequon Campus\, 5555 Highland Rd\, Mequon\, WI\, 53092\, United States
CATEGORIES:Meeting,Meeting,Meeting,Meetings,Meetings,Road Rally,Street Survival
GEO:43.2490697;-87.980496
X-APPLE-STRUCTURED-LOCATION;VALUE=URI;X-ADDRESS=Milwaukee Area Technical College – Mequon Campus 5555 Highland Rd Mequon WI 53092 United States;X-APPLE-RADIUS=500;X-TITLE=5555 Highland Rd:geo:-87.980496,43.2490697
END:VEVENT
END:VCALENDAR