BEGIN:VCALENDAR
VERSION:2.0
PRODID:-//Milwaukee Region SCCA - ECPv6.15.16.1//NONSGML v1.0//EN
CALSCALE:GREGORIAN
METHOD:PUBLISH
X-WR-CALNAME:Milwaukee Region SCCA
X-ORIGINAL-URL:https://scca-milwaukee.org
X-WR-CALDESC:Events for Milwaukee Region SCCA
REFRESH-INTERVAL;VALUE=DURATION:PT1H
X-Robots-Tag:noindex
X-PUBLISHED-TTL:PT1H
BEGIN:VTIMEZONE
TZID:America/Chicago
BEGIN:DAYLIGHT
TZOFFSETFROM:-0600
TZOFFSETTO:-0500
TZNAME:CDT
DTSTART:20240310T080000
END:DAYLIGHT
BEGIN:STANDARD
TZOFFSETFROM:-0500
TZOFFSETTO:-0600
TZNAME:CST
DTSTART:20241103T070000
END:STANDARD
BEGIN:DAYLIGHT
TZOFFSETFROM:-0600
TZOFFSETTO:-0500
TZNAME:CDT
DTSTART:20250309T080000
END:DAYLIGHT
BEGIN:STANDARD
TZOFFSETFROM:-0500
TZOFFSETTO:-0600
TZNAME:CST
DTSTART:20251102T070000
END:STANDARD
BEGIN:DAYLIGHT
TZOFFSETFROM:-0600
TZOFFSETTO:-0500
TZNAME:CDT
DTSTART:20260308T080000
END:DAYLIGHT
BEGIN:STANDARD
TZOFFSETFROM:-0500
TZOFFSETTO:-0600
TZNAME:CST
DTSTART:20261101T070000
END:STANDARD
END:VTIMEZONE
BEGIN:VEVENT
DTSTART;TZID=America/Chicago:20250330T110000
DTEND;TZID=America/Chicago:20250330T150000
DTSTAMP:20260425T085232
CREATED:20250306T172334Z
LAST-MODIFIED:20250324T181000Z
UID:10001130-1743332400-1743346800@scca-milwaukee.org
SUMMARY:Open House
DESCRIPTION:Join the Milwaukee Region SCCA for our Annual Open House hosted by Schlossmann Honda City. If you’re new to the SCCA (Sports Car Club of America) learn how to become a driver or race official. If you’re a member stop by and catch up with your friends. If you have a teen that is starting to drive stop by to learn about our Street Survival program. \nActivities Include: \n\nLearn how to get involved in motorsports and join the Sports Car Club of America\nTalk with drivers and workers for Street Survival\, Road Rally\, RallyCross\, Autocross\, Track Days\, Time Trials\, and Road Racing.\nAnnual Inspection for Road Racing Cars & Driver’s Gear\n\nThank you to Schlossmann Honda City for being our host. .  \n 
URL:https://scca-milwaukee.org/event/open-house-2025/
LOCATION:Schlossmann Honda City\, 3450 South 108th Street\, Milwaukee\, WI\, 53227\, United States
CATEGORIES:AutoX,RallyX,Road Racing,Road Rally,Street Survival,Track Days
GEO:42.9813264;-88.0462614
X-APPLE-STRUCTURED-LOCATION;VALUE=URI;X-ADDRESS=Schlossmann Honda City 3450 South 108th Street Milwaukee WI 53227 United States;X-APPLE-RADIUS=500;X-TITLE=3450 South 108th Street:geo:-88.0462614,42.9813264
END:VEVENT
END:VCALENDAR