BEGIN:VCALENDAR
VERSION:2.0
PRODID:-//Milwaukee Region SCCA - ECPv6.15.16.1//NONSGML v1.0//EN
CALSCALE:GREGORIAN
METHOD:PUBLISH
X-ORIGINAL-URL:https://scca-milwaukee.org
X-WR-CALDESC:Events for Milwaukee Region SCCA
REFRESH-INTERVAL;VALUE=DURATION:PT1H
X-Robots-Tag:noindex
X-PUBLISHED-TTL:PT1H
BEGIN:VTIMEZONE
TZID:America/Chicago
BEGIN:DAYLIGHT
TZOFFSETFROM:-0600
TZOFFSETTO:-0500
TZNAME:CDT
DTSTART:20230312T080000
END:DAYLIGHT
BEGIN:STANDARD
TZOFFSETFROM:-0500
TZOFFSETTO:-0600
TZNAME:CST
DTSTART:20231105T070000
END:STANDARD
BEGIN:DAYLIGHT
TZOFFSETFROM:-0600
TZOFFSETTO:-0500
TZNAME:CDT
DTSTART:20240310T080000
END:DAYLIGHT
BEGIN:STANDARD
TZOFFSETFROM:-0500
TZOFFSETTO:-0600
TZNAME:CST
DTSTART:20241103T070000
END:STANDARD
BEGIN:DAYLIGHT
TZOFFSETFROM:-0600
TZOFFSETTO:-0500
TZNAME:CDT
DTSTART:20250309T080000
END:DAYLIGHT
BEGIN:STANDARD
TZOFFSETFROM:-0500
TZOFFSETTO:-0600
TZNAME:CST
DTSTART:20251102T070000
END:STANDARD
END:VTIMEZONE
BEGIN:VEVENT
DTSTART;TZID=America/Chicago:20240912T140000
DTEND;TZID=America/Chicago:20240912T193000
DTSTAMP:20260425T174526
CREATED:20240808T163018Z
LAST-MODIFIED:20240808T163049Z
UID:10000996-1726149600-1726169400@scca-milwaukee.org
SUMMARY:Track Day - Thursday Night Thunder
DESCRIPTION:Registration Link – https://www.motorsportreg.com/events/milwaukee-scca-thursday-night-thunder-track-day-mile-562975 \nWelcome to the Milwaukee Track Day / Time Trial series. The Milwaukee Track Days series is a great way to enjoy performance driving in your street car on real racing tracks in a controlled environment. The Milwaukee Track Day / Time Trial series events are held at locations such as Blackhawk Farms Raceway in South Beloit\, IL\, the road course at the Historic Milwaukee Mile\, and the world famous Road America in Elkhart Lake\, Wisconsin. \nTrack Day\nWith close personal driving instruction\, and restricted passing conditions\, the Milwaukee Track Day series is a great way to legally test the limits of your car without worrying about contact with other vehicles on the track. \nYou can find more information at http://milwaukeetrackdays.com.
URL:https://scca-milwaukee.org/event/track-day-thursday-night-thunder-2024/
LOCATION:The Milwaukee Mile\, 7722 W. Greenfield Avenue\, West Allis\, WI\, 53214\, United States
CATEGORIES:Track Days
GEO:43.0166299;-88.0084904
X-APPLE-STRUCTURED-LOCATION;VALUE=URI;X-ADDRESS=The Milwaukee Mile 7722 W. Greenfield Avenue West Allis WI 53214 United States;X-APPLE-RADIUS=500;X-TITLE=7722 W. Greenfield Avenue:geo:-88.0084904,43.0166299
END:VEVENT
END:VCALENDAR