BEGIN:VCALENDAR
VERSION:2.0
PRODID:-//Milwaukee Region SCCA - ECPv6.15.16.1//NONSGML v1.0//EN
CALSCALE:GREGORIAN
METHOD:PUBLISH
X-WR-CALNAME:Milwaukee Region SCCA
X-ORIGINAL-URL:https://scca-milwaukee.org
X-WR-CALDESC:Events for Milwaukee Region SCCA
REFRESH-INTERVAL;VALUE=DURATION:PT1H
X-Robots-Tag:noindex
X-PUBLISHED-TTL:PT1H
BEGIN:VTIMEZONE
TZID:America/Chicago
BEGIN:DAYLIGHT
TZOFFSETFROM:-0600
TZOFFSETTO:-0500
TZNAME:CDT
DTSTART:20230312T080000
END:DAYLIGHT
BEGIN:STANDARD
TZOFFSETFROM:-0500
TZOFFSETTO:-0600
TZNAME:CST
DTSTART:20231105T070000
END:STANDARD
BEGIN:DAYLIGHT
TZOFFSETFROM:-0600
TZOFFSETTO:-0500
TZNAME:CDT
DTSTART:20240310T080000
END:DAYLIGHT
BEGIN:STANDARD
TZOFFSETFROM:-0500
TZOFFSETTO:-0600
TZNAME:CST
DTSTART:20241103T070000
END:STANDARD
BEGIN:DAYLIGHT
TZOFFSETFROM:-0600
TZOFFSETTO:-0500
TZNAME:CDT
DTSTART:20250309T080000
END:DAYLIGHT
BEGIN:STANDARD
TZOFFSETFROM:-0500
TZOFFSETTO:-0600
TZNAME:CST
DTSTART:20251102T070000
END:STANDARD
END:VTIMEZONE
BEGIN:VEVENT
DTSTART;TZID=America/Chicago:20240706T080000
DTEND;TZID=America/Chicago:20240706T170000
DTSTAMP:20260425T204007
CREATED:20240430T202203Z
LAST-MODIFIED:20240613T161209Z
UID:10000985-1720252800-1720285200@scca-milwaukee.org
SUMMARY:Time Trial Firecracker
DESCRIPTION:Link to Registration – Stay Tuned! \nWelcome to the Milwaukee Track Day / Time Trial series. The Milwaukee Track Days series is a great way to enjoy performance driving in your street car on real racing tracks in a controlled environment. The Milwaukee Track Day / Time Trial series events are held at locations such as Blackhawk Farms Raceway in South Beloit\, IL\, the road course at the Historic Milwaukee Mile\, and the world famous Road America in Elkhart Lake\, Wisconsin. \nTrack Day\nWith close personal driving instruction\, and restricted passing conditions\, the Milwaukee Track Day series is a great way to legally test the limits of your car without worrying about contact with other vehicles on the track. \nTime Trial\nIf you are looking for a more competitive experience our Time Trial program is for you\, this expands on our Track Day model to include classing and timing of laps. There are classes to fit a variety of vehicle preparation levels. \nYou can find more information at http://milwaukeetrackdays.com.
URL:https://scca-milwaukee.org/event/track-day-2024-2/
LOCATION:Blackhawk Farms Raceway\, 15538 Prairie Road\, South Beloit\, IL\, 61080\, United States
CATEGORIES:Track Days
GEO:42.4845542;-89.0989446
X-APPLE-STRUCTURED-LOCATION;VALUE=URI;X-ADDRESS=Blackhawk Farms Raceway 15538 Prairie Road South Beloit IL 61080 United States;X-APPLE-RADIUS=500;X-TITLE=15538 Prairie Road:geo:-89.0989446,42.4845542
END:VEVENT
END:VCALENDAR