BEGIN:VCALENDAR
VERSION:2.0
PRODID:-//Milwaukee Region SCCA - ECPv6.15.16.1//NONSGML v1.0//EN
CALSCALE:GREGORIAN
METHOD:PUBLISH
X-WR-CALNAME:Milwaukee Region SCCA
X-ORIGINAL-URL:http://scca-milwaukee.org
X-WR-CALDESC:Events for Milwaukee Region SCCA
REFRESH-INTERVAL;VALUE=DURATION:PT1H
X-Robots-Tag:noindex
X-PUBLISHED-TTL:PT1H
BEGIN:VTIMEZONE
TZID:America/Chicago
BEGIN:DAYLIGHT
TZOFFSETFROM:-0600
TZOFFSETTO:-0500
TZNAME:CDT
DTSTART:20180311T080000
END:DAYLIGHT
BEGIN:STANDARD
TZOFFSETFROM:-0500
TZOFFSETTO:-0600
TZNAME:CST
DTSTART:20181104T070000
END:STANDARD
BEGIN:DAYLIGHT
TZOFFSETFROM:-0600
TZOFFSETTO:-0500
TZNAME:CDT
DTSTART:20190310T080000
END:DAYLIGHT
BEGIN:STANDARD
TZOFFSETFROM:-0500
TZOFFSETTO:-0600
TZNAME:CST
DTSTART:20191103T070000
END:STANDARD
BEGIN:DAYLIGHT
TZOFFSETFROM:-0600
TZOFFSETTO:-0500
TZNAME:CDT
DTSTART:20200308T080000
END:DAYLIGHT
BEGIN:STANDARD
TZOFFSETFROM:-0500
TZOFFSETTO:-0600
TZNAME:CST
DTSTART:20201101T070000
END:STANDARD
END:VTIMEZONE
BEGIN:VEVENT
DTSTART;VALUE=DATE:20190117
DTEND;VALUE=DATE:20190120
DTSTAMP:20260424T214547
CREATED:20180614T224022Z
LAST-MODIFIED:20180614T224022Z
UID:10000727-1547683200-1547942399@scca-milwaukee.org
SUMMARY:2019 SCCA National Convention
DESCRIPTION:The annual SCCA National Convention is returning January 17-19 to South Point Hotel and Casino in Las Vegas. This Year’s National Convention will be very special its theme is “Celebrating Our Legacy\, Building Our Future” and serves as the official start of the Club’s 75th Anniversary celebration. For full details\, click here.
URL:http://scca-milwaukee.org/event/2019-scca-national-convention/
LOCATION:South Point Hotel\, Casino and Spa\, 9777 S Las Vegas Blvd\, Las Vegas\, NV\, 89183\, United States
CATEGORIES:Meetings
ATTACH;FMTTYPE=image/jpeg:http://scca-milwaukee.org/wp-content/uploads/2018/06/SCCA2019NationalConvention-e1528463217468.jpg
GEO:36.0112104;-115.1751791
X-APPLE-STRUCTURED-LOCATION;VALUE=URI;X-ADDRESS=South Point Hotel Casino and Spa 9777 S Las Vegas Blvd Las Vegas NV 89183 United States;X-APPLE-RADIUS=500;X-TITLE=9777 S Las Vegas Blvd:geo:-115.1751791,36.0112104
END:VEVENT
END:VCALENDAR