BEGIN:VCALENDAR
VERSION:2.0
PRODID:-//Milwaukee Region SCCA - ECPv6.15.16.1//NONSGML v1.0//EN
CALSCALE:GREGORIAN
METHOD:PUBLISH
X-ORIGINAL-URL:http://scca-milwaukee.org
X-WR-CALDESC:Events for Milwaukee Region SCCA
REFRESH-INTERVAL;VALUE=DURATION:PT1H
X-Robots-Tag:noindex
X-PUBLISHED-TTL:PT1H
BEGIN:VTIMEZONE
TZID:America/Chicago
BEGIN:DAYLIGHT
TZOFFSETFROM:-0600
TZOFFSETTO:-0500
TZNAME:CDT
DTSTART:20160313T080000
END:DAYLIGHT
BEGIN:STANDARD
TZOFFSETFROM:-0500
TZOFFSETTO:-0600
TZNAME:CST
DTSTART:20161106T070000
END:STANDARD
BEGIN:DAYLIGHT
TZOFFSETFROM:-0600
TZOFFSETTO:-0500
TZNAME:CDT
DTSTART:20170312T080000
END:DAYLIGHT
BEGIN:STANDARD
TZOFFSETFROM:-0500
TZOFFSETTO:-0600
TZNAME:CST
DTSTART:20171105T070000
END:STANDARD
BEGIN:DAYLIGHT
TZOFFSETFROM:-0600
TZOFFSETTO:-0500
TZNAME:CDT
DTSTART:20180311T080000
END:DAYLIGHT
BEGIN:STANDARD
TZOFFSETFROM:-0500
TZOFFSETTO:-0600
TZNAME:CST
DTSTART:20181104T070000
END:STANDARD
BEGIN:DAYLIGHT
TZOFFSETFROM:-0600
TZOFFSETTO:-0500
TZNAME:CDT
DTSTART:20190310T080000
END:DAYLIGHT
BEGIN:STANDARD
TZOFFSETFROM:-0500
TZOFFSETTO:-0600
TZNAME:CST
DTSTART:20191103T070000
END:STANDARD
END:VTIMEZONE
BEGIN:VEVENT
DTSTART;TZID=America/Chicago:20181007T070000
DTEND;TZID=America/Chicago:20181007T180000
DTSTAMP:20260424T230255
CREATED:20180131T192313Z
LAST-MODIFIED:20180320T171531Z
UID:10000716-1538895600-1538935200@scca-milwaukee.org
SUMMARY:Solo Event 9
DESCRIPTION:“Solo®” is the brand name for SCCA® Autocrossing and on paper it seems very simple – use traffic cones to make a mini-roadcourse in a large parking lot or unused airport tarmac and see who can drive it the quickest without hitting any cones or going off course. Solo is an affordable entry-level form of Motorsports for racing enthusiasts of all ages. Solo teaches car control that will make you a better\, safer and more confident driver. \nFor more information including classes\, waivers\, and tech procedures head to our What is Solo? page.
URL:http://scca-milwaukee.org/event/solo-event-9-2018/
LOCATION:Miller Park\, One Brewers Way\, Milwaukee\, WI\, 53214\, United States
CATEGORIES:AutoX
ATTACH;FMTTYPE=image/jpeg:http://scca-milwaukee.org/wp-content/uploads/2017/03/JerryDavid.jpg
GEO:43.028078;-87.9712117
X-APPLE-STRUCTURED-LOCATION;VALUE=URI;X-ADDRESS=Miller Park One Brewers Way Milwaukee WI 53214 United States;X-APPLE-RADIUS=500;X-TITLE=One Brewers Way:geo:-87.9712117,43.028078
END:VEVENT
BEGIN:VEVENT
DTSTART;TZID=America/Chicago:20180819T070000
DTEND;TZID=America/Chicago:20180819T180000
DTSTAMP:20260424T230255
CREATED:20180131T192141Z
LAST-MODIFIED:20180223T192642Z
UID:10000715-1534662000-1534701600@scca-milwaukee.org
SUMMARY:Solo Event 8
DESCRIPTION:“Solo®” is the brand name for SCCA® Autocrossing and on paper it seems very simple – use traffic cones to make a mini-roadcourse in a large parking lot or unused airport tarmac and see who can drive it the quickest without hitting any cones or going off course. Solo is an affordable entry-level form of Motorsports for racing enthusiasts of all ages. Solo teaches car control that will make you a better\, safer and more confident driver. \nFor more information including classes\, waivers\, and tech procedures head to our What is Solo? page.
URL:http://scca-milwaukee.org/event/solo-event-8-2018/
LOCATION:Miller Park\, One Brewers Way\, Milwaukee\, WI\, 53214\, United States
CATEGORIES:AutoX
GEO:43.028078;-87.9712117
X-APPLE-STRUCTURED-LOCATION;VALUE=URI;X-ADDRESS=Miller Park One Brewers Way Milwaukee WI 53214 United States;X-APPLE-RADIUS=500;X-TITLE=One Brewers Way:geo:-87.9712117,43.028078
END:VEVENT
BEGIN:VEVENT
DTSTART;TZID=America/Chicago:20180729T070000
DTEND;TZID=America/Chicago:20180729T180000
DTSTAMP:20260424T230255
CREATED:20180131T192002Z
LAST-MODIFIED:20180223T192703Z
UID:10000714-1532847600-1532887200@scca-milwaukee.org
SUMMARY:Solo Event 7
DESCRIPTION:“Solo®” is the brand name for SCCA® Autocrossing and on paper it seems very simple – use traffic cones to make a mini-roadcourse in a large parking lot or unused airport tarmac and see who can drive it the quickest without hitting any cones or going off course. Solo is an affordable entry-level form of Motorsports for racing enthusiasts of all ages. Solo teaches car control that will make you a better\, safer and more confident driver. \nFor more information including classes\, waivers\, and tech procedures head to our What is Solo? page.
URL:http://scca-milwaukee.org/event/solo-event-7-2/
LOCATION:Miller Park\, One Brewers Way\, Milwaukee\, WI\, 53214\, United States
CATEGORIES:AutoX
GEO:43.028078;-87.9712117
X-APPLE-STRUCTURED-LOCATION;VALUE=URI;X-ADDRESS=Miller Park One Brewers Way Milwaukee WI 53214 United States;X-APPLE-RADIUS=500;X-TITLE=One Brewers Way:geo:-87.9712117,43.028078
END:VEVENT
BEGIN:VEVENT
DTSTART;TZID=America/Chicago:20180715T070000
DTEND;TZID=America/Chicago:20180715T180000
DTSTAMP:20260424T230255
CREATED:20180118T175859Z
LAST-MODIFIED:20180613T180304Z
UID:10000701-1531638000-1531677600@scca-milwaukee.org
SUMMARY:Solo Event 6
DESCRIPTION:“Solo®” is the brand name for SCCA® Autocrossing and on paper it seems very simple – use traffic cones to make a mini-roadcourse in a large parking lot or unused airport tarmac and see who can drive it the quickest without hitting any cones or going off course. Solo is an affordable entry-level form of Motorsports for racing enthusiasts of all ages. Solo teaches car control that will make you a better\, safer and more confident driver. \nFor more information including classes\, waivers\, and tech procedures head to our What is Solo? page.
URL:http://scca-milwaukee.org/event/solo-event-4-2018/
LOCATION:Miller Park\, One Brewers Way\, Milwaukee\, WI\, 53214\, United States
CATEGORIES:AutoX
GEO:43.028078;-87.9712117
X-APPLE-STRUCTURED-LOCATION;VALUE=URI;X-ADDRESS=Miller Park One Brewers Way Milwaukee WI 53214 United States;X-APPLE-RADIUS=500;X-TITLE=One Brewers Way:geo:-87.9712117,43.028078
END:VEVENT
BEGIN:VEVENT
DTSTART;TZID=America/Chicago:20180714T070000
DTEND;TZID=America/Chicago:20180714T180000
DTSTAMP:20260424T230255
CREATED:20180118T175645Z
LAST-MODIFIED:20180627T142214Z
UID:10000700-1531551600-1531591200@scca-milwaukee.org
SUMMARY:Solo Event 5 (Sat)
DESCRIPTION:“Solo®” is the brand name for SCCA® Autocrossing and on paper it seems very simple – use traffic cones to make a mini-roadcourse in a large parking lot or unused airport tarmac and see who can drive it the quickest without hitting any cones or going off course. Solo is an affordable entry-level form of Motorsports for racing enthusiasts of all ages. Solo teaches car control that will make you a better\, safer and more confident driver. \nFor more information including classes\, waivers\, and tech proceedures head to our What is Solo? page.
URL:http://scca-milwaukee.org/event/solo-event-3-2018/
LOCATION:Miller Park\, One Brewers Way\, Milwaukee\, WI\, 53214\, United States
CATEGORIES:AutoX
GEO:43.028078;-87.9712117
X-APPLE-STRUCTURED-LOCATION;VALUE=URI;X-ADDRESS=Miller Park One Brewers Way Milwaukee WI 53214 United States;X-APPLE-RADIUS=500;X-TITLE=One Brewers Way:geo:-87.9712117,43.028078
END:VEVENT
BEGIN:VEVENT
DTSTART;TZID=America/Chicago:20180701T070000
DTEND;TZID=America/Chicago:20180701T180000
DTSTAMP:20260424T230255
CREATED:20180131T191903Z
LAST-MODIFIED:20180613T180235Z
UID:10000703-1530428400-1530468000@scca-milwaukee.org
SUMMARY:Solo Event 4 (Tri-Pod Challenge)
DESCRIPTION:“Solo®” is the brand name for SCCA® Autocrossing and on paper it seems very simple – use traffic cones to make a mini-roadcourse in a large parking lot or unused airport tarmac and see who can drive it the quickest without hitting any cones or going off course. Solo is an affordable entry-level form of Motorsports for racing enthusiasts of all ages. Solo teaches car control that will make you a better\, safer and more confident driver. \nFor more information including classes\, waivers\, and tech procedures head to our What is Solo? page.
URL:http://scca-milwaukee.org/event/solo-event-6-2/
LOCATION:Miller Park\, One Brewers Way\, Milwaukee\, WI\, 53214\, United States
CATEGORIES:AutoX
ATTACH;FMTTYPE=image/jpeg:http://scca-milwaukee.org/wp-content/uploads/2017/01/Pegasus-2017.jpg
GEO:43.028078;-87.9712117
X-APPLE-STRUCTURED-LOCATION;VALUE=URI;X-ADDRESS=Miller Park One Brewers Way Milwaukee WI 53214 United States;X-APPLE-RADIUS=500;X-TITLE=One Brewers Way:geo:-87.9712117,43.028078
END:VEVENT
BEGIN:VEVENT
DTSTART;TZID=America/Chicago:20180630T070000
DTEND;TZID=America/Chicago:20180630T180000
DTSTAMP:20260424T230255
CREATED:20180131T191748Z
LAST-MODIFIED:20180613T180152Z
UID:10000702-1530342000-1530381600@scca-milwaukee.org
SUMMARY:Solo Event 3 (Sat) (Tri-Pod Challenge)
DESCRIPTION:“Solo®” is the brand name for SCCA® Autocrossing and on paper it seems very simple – use traffic cones to make a mini-roadcourse in a large parking lot or unused airport tarmac and see who can drive it the quickest without hitting any cones or going off course. Solo is an affordable entry-level form of Motorsports for racing enthusiasts of all ages. Solo teaches car control that will make you a better\, safer and more confident driver. \nFor more information including classes\, waivers\, and tech procedures head to our What is Solo? page.
URL:http://scca-milwaukee.org/event/solo-event-5-2018/
LOCATION:Miller Park\, One Brewers Way\, Milwaukee\, WI\, 53214\, United States
CATEGORIES:AutoX
ATTACH;FMTTYPE=image/jpeg:http://scca-milwaukee.org/wp-content/uploads/2017/01/Pegasus-2017.jpg
GEO:43.028078;-87.9712117
X-APPLE-STRUCTURED-LOCATION;VALUE=URI;X-ADDRESS=Miller Park One Brewers Way Milwaukee WI 53214 United States;X-APPLE-RADIUS=500;X-TITLE=One Brewers Way:geo:-87.9712117,43.028078
END:VEVENT
BEGIN:VEVENT
DTSTART;TZID=America/Chicago:20180610T070000
DTEND;TZID=America/Chicago:20180610T180000
DTSTAMP:20260424T230255
CREATED:20180106T200916Z
LAST-MODIFIED:20180413T181210Z
UID:10000683-1528614000-1528653600@scca-milwaukee.org
SUMMARY:Solo Event 2
DESCRIPTION:“Solo®” is the brand name for SCCA® Autocrossing and on paper it seems very simple – use traffic cones to make a mini-roadcourse in a large parking lot or unused airport tarmac and see who can drive it the quickest without hitting any cones or going off course. Solo is an affordable entry-level form of Motorsports for racing enthusiasts of all ages. Solo teaches car control that will make you a better\, safer and more confident driver. \nFor more information including classes\, waivers\, and tech procedures head to our What is Solo? page.
URL:http://scca-milwaukee.org/event/solo-event-2-2018/
LOCATION:Miller Park\, One Brewers Way\, Milwaukee\, WI\, 53214\, United States
CATEGORIES:AutoX
ATTACH;FMTTYPE=image/png:http://scca-milwaukee.org/wp-content/uploads/2018/03/Main-Moon-2018.png
GEO:43.028078;-87.9712117
X-APPLE-STRUCTURED-LOCATION;VALUE=URI;X-ADDRESS=Miller Park One Brewers Way Milwaukee WI 53214 United States;X-APPLE-RADIUS=500;X-TITLE=One Brewers Way:geo:-87.9712117,43.028078
END:VEVENT
BEGIN:VEVENT
DTSTART;TZID=America/Chicago:20180520T070000
DTEND;TZID=America/Chicago:20180520T180000
DTSTAMP:20260424T230255
CREATED:20180106T195810Z
LAST-MODIFIED:20180514T142857Z
UID:10000681-1526799600-1526839200@scca-milwaukee.org
SUMMARY:Solo Event 1 (rescheduled date)
DESCRIPTION:“Solo®” is the brand name for SCCA® Autocross and on paper it seems very simple – use traffic cones to make a mini-roadcourse in a large parking lot or unused airport tarmac and see who can drive it the quickest without hitting any cones or going off course. Solo is an affordable entry-level form of Motorsports for racing enthusiasts of all ages. Solo teaches car control that will make you a better\, safer and more confident driver. \nFor more information including classes\, waivers\, and tech proceedures head to our What is Solo? page.
URL:http://scca-milwaukee.org/event/solo-event-1-2018/
LOCATION:Miller Park\, One Brewers Way\, Milwaukee\, WI\, 53214\, United States
CATEGORIES:AutoX
ATTACH;FMTTYPE=image/jpeg:http://scca-milwaukee.org/wp-content/uploads/2017/03/bb-tire-logo-2011.jpg
GEO:43.028078;-87.9712117
X-APPLE-STRUCTURED-LOCATION;VALUE=URI;X-ADDRESS=Miller Park One Brewers Way Milwaukee WI 53214 United States;X-APPLE-RADIUS=500;X-TITLE=One Brewers Way:geo:-87.9712117,43.028078
END:VEVENT
BEGIN:VEVENT
DTSTART;TZID=America/Chicago:20171022T070000
DTEND;TZID=America/Chicago:20171022T070000
DTSTAMP:20260424T230255
CREATED:20170108T211230Z
LAST-MODIFIED:20170327T193444Z
UID:10000589-1508655600-1508655600@scca-milwaukee.org
SUMMARY:Solo Event #10
DESCRIPTION:Solo is an affordable entry-level form of Motorsports for racing enthusiasts of all ages. Solo teaches car control that will make you a better\, safer and more confident driver.
URL:http://scca-milwaukee.org/event/2017-solo-event-10/
LOCATION:Miller Park\, One Brewers Way\, Milwaukee\, WI\, 53214\, United States
CATEGORIES:AutoX
ATTACH;FMTTYPE=image/jpeg:http://scca-milwaukee.org/wp-content/uploads/2017/03/JerryDavid.jpg
GEO:43.028078;-87.9712117
X-APPLE-STRUCTURED-LOCATION;VALUE=URI;X-ADDRESS=Miller Park One Brewers Way Milwaukee WI 53214 United States;X-APPLE-RADIUS=500;X-TITLE=One Brewers Way:geo:-87.9712117,43.028078
END:VEVENT
BEGIN:VEVENT
DTSTART;TZID=America/Chicago:20171021T070000
DTEND;TZID=America/Chicago:20171021T170000
DTSTAMP:20260424T230255
CREATED:20170108T211151Z
LAST-MODIFIED:20170327T191937Z
UID:10000588-1508569200-1508605200@scca-milwaukee.org
SUMMARY:Solo Event #9
DESCRIPTION:Solo is an affordable entry-level form of Motorsports for racing enthusiasts of all ages. Solo teaches car control that will make you a better\, safer and more confident driver.
URL:http://scca-milwaukee.org/event/2017-solo-event-9/
LOCATION:Miller Park\, One Brewers Way\, Milwaukee\, WI\, 53214\, United States
CATEGORIES:AutoX
GEO:43.028078;-87.9712117
X-APPLE-STRUCTURED-LOCATION;VALUE=URI;X-ADDRESS=Miller Park One Brewers Way Milwaukee WI 53214 United States;X-APPLE-RADIUS=500;X-TITLE=One Brewers Way:geo:-87.9712117,43.028078
END:VEVENT
BEGIN:VEVENT
DTSTART;TZID=America/Chicago:20171008T070000
DTEND;TZID=America/Chicago:20171008T170000
DTSTAMP:20260424T230255
CREATED:20170108T211108Z
LAST-MODIFIED:20171002T141318Z
UID:10000587-1507446000-1507482000@scca-milwaukee.org
SUMMARY:Solo Event #8
DESCRIPTION:Solo is an affordable entry-level form of Motorsports for racing enthusiasts of all ages. Solo teaches car control that will make you a better\, safer and more confident driver.
URL:http://scca-milwaukee.org/event/2017-solo-event-8/
LOCATION:Miller Park\, One Brewers Way\, Milwaukee\, WI\, 53214\, United States
CATEGORIES:AutoX
GEO:43.028078;-87.9712117
X-APPLE-STRUCTURED-LOCATION;VALUE=URI;X-ADDRESS=Miller Park One Brewers Way Milwaukee WI 53214 United States;X-APPLE-RADIUS=500;X-TITLE=One Brewers Way:geo:-87.9712117,43.028078
END:VEVENT
BEGIN:VEVENT
DTSTART;TZID=America/Chicago:20171007T070000
DTEND;TZID=America/Chicago:20171007T170000
DTSTAMP:20260424T230255
CREATED:20170108T211020Z
LAST-MODIFIED:20170327T191732Z
UID:10000586-1507359600-1507395600@scca-milwaukee.org
SUMMARY:Solo Event #7
DESCRIPTION:Solo is an affordable entry-level form of Motorsports for racing enthusiasts of all ages. Solo teaches car control that will make you a better\, safer and more confident driver.
URL:http://scca-milwaukee.org/event/2017-solo-event-7/
LOCATION:Miller Park\, One Brewers Way\, Milwaukee\, WI\, 53214\, United States
CATEGORIES:AutoX
GEO:43.028078;-87.9712117
X-APPLE-STRUCTURED-LOCATION;VALUE=URI;X-ADDRESS=Miller Park One Brewers Way Milwaukee WI 53214 United States;X-APPLE-RADIUS=500;X-TITLE=One Brewers Way:geo:-87.9712117,43.028078
END:VEVENT
BEGIN:VEVENT
DTSTART;TZID=America/Chicago:20170820T070000
DTEND;TZID=America/Chicago:20170820T070000
DTSTAMP:20260424T230255
CREATED:20170108T210825Z
LAST-MODIFIED:20170418T211312Z
UID:10000585-1503212400-1503212400@scca-milwaukee.org
SUMMARY:Solo Event #5 (Tri-Pod)
DESCRIPTION:Solo is an affordable entry-level form of Motorsports for racing enthusiasts of all ages. Solo teaches car control that will make you a better\, safer and more confident driver. \n 
URL:http://scca-milwaukee.org/event/2017-solo-event-5/
LOCATION:Miller Park\, One Brewers Way\, Milwaukee\, WI\, 53214\, United States
CATEGORIES:AutoX
ATTACH;FMTTYPE=image/jpeg:http://scca-milwaukee.org/wp-content/uploads/2017/01/Pegasus-2017.jpg
GEO:43.028078;-87.9712117
X-APPLE-STRUCTURED-LOCATION;VALUE=URI;X-ADDRESS=Miller Park One Brewers Way Milwaukee WI 53214 United States;X-APPLE-RADIUS=500;X-TITLE=One Brewers Way:geo:-87.9712117,43.028078
END:VEVENT
BEGIN:VEVENT
DTSTART;TZID=America/Chicago:20170819T070000
DTEND;TZID=America/Chicago:20170819T070000
DTSTAMP:20260424T230255
CREATED:20170108T210738Z
LAST-MODIFIED:20170418T211604Z
UID:10000584-1503126000-1503126000@scca-milwaukee.org
SUMMARY:Solo Event #4 (Tri-Pod)
DESCRIPTION:Solo is an affordable entry-level form of Motorsports for racing enthusiasts of all ages. Solo teaches car control that will make you a better\, safer and more confident driver.
URL:http://scca-milwaukee.org/event/2017-solo-event-4/
LOCATION:Miller Park\, One Brewers Way\, Milwaukee\, WI\, 53214\, United States
CATEGORIES:AutoX
ATTACH;FMTTYPE=image/jpeg:http://scca-milwaukee.org/wp-content/uploads/2017/01/Pegasus-2017.jpg
GEO:43.028078;-87.9712117
X-APPLE-STRUCTURED-LOCATION;VALUE=URI;X-ADDRESS=Miller Park One Brewers Way Milwaukee WI 53214 United States;X-APPLE-RADIUS=500;X-TITLE=One Brewers Way:geo:-87.9712117,43.028078
END:VEVENT
BEGIN:VEVENT
DTSTART;TZID=America/Chicago:20170723T070000
DTEND;TZID=America/Chicago:20170723T070000
DTSTAMP:20260424T230255
CREATED:20170108T210639Z
LAST-MODIFIED:20170418T210959Z
UID:10000583-1500793200-1500793200@scca-milwaukee.org
SUMMARY:Solo Event #3
DESCRIPTION:Solo is an affordable entry-level form of Motorsports for racing enthusiasts of all ages. Solo teaches car control that will make you a better\, safer and more confident driver.
URL:http://scca-milwaukee.org/event/2017-solo-event-3/
LOCATION:Miller Park\, One Brewers Way\, Milwaukee\, WI\, 53214\, United States
CATEGORIES:AutoX
ATTACH;FMTTYPE=image/jpeg:http://scca-milwaukee.org/wp-content/uploads/2017/01/Lake-Country-Align-Logo-2017.jpg
GEO:43.028078;-87.9712117
X-APPLE-STRUCTURED-LOCATION;VALUE=URI;X-ADDRESS=Miller Park One Brewers Way Milwaukee WI 53214 United States;X-APPLE-RADIUS=500;X-TITLE=One Brewers Way:geo:-87.9712117,43.028078
END:VEVENT
BEGIN:VEVENT
DTSTART;TZID=America/Chicago:20170625T070000
DTEND;TZID=America/Chicago:20170625T070000
DTSTAMP:20260424T230255
CREATED:20170108T210244Z
LAST-MODIFIED:20170329T141805Z
UID:10000580-1498374000-1498374000@scca-milwaukee.org
SUMMARY:Solo Event #2
DESCRIPTION:  \nSolo is an affordable entry-level form of Motorsports for racing enthusiasts of all ages. Solo teaches car control that will make you a better\, safer and more confident driver.
URL:http://scca-milwaukee.org/event/2017-solo-event-2/
LOCATION:Miller Park\, One Brewers Way\, Milwaukee\, WI\, 53214\, United States
CATEGORIES:AutoX
GEO:43.028078;-87.9712117
X-APPLE-STRUCTURED-LOCATION;VALUE=URI;X-ADDRESS=Miller Park One Brewers Way Milwaukee WI 53214 United States;X-APPLE-RADIUS=500;X-TITLE=One Brewers Way:geo:-87.9712117,43.028078
END:VEVENT
BEGIN:VEVENT
DTSTART;TZID=America/Chicago:20170416T070000
DTEND;TZID=America/Chicago:20170416T070000
DTSTAMP:20260424T230255
CREATED:20170108T210104Z
LAST-MODIFIED:20170331T045320Z
UID:10000578-1492326000-1492326000@scca-milwaukee.org
SUMMARY:Solo Event #1
DESCRIPTION:Solo is an affordable entry-level form of Motorsports for racing enthusiasts of all ages. Solo teaches car control that will make you a better\, safer and more confident driver.
URL:http://scca-milwaukee.org/event/2017-solo-event-1/
LOCATION:Miller Park\, One Brewers Way\, Milwaukee\, WI\, 53214\, United States
CATEGORIES:AutoX
ATTACH;FMTTYPE=image/jpeg:http://scca-milwaukee.org/wp-content/uploads/2017/03/bb-tire-logo-2011.jpg
GEO:43.028078;-87.9712117
X-APPLE-STRUCTURED-LOCATION;VALUE=URI;X-ADDRESS=Miller Park One Brewers Way Milwaukee WI 53214 United States;X-APPLE-RADIUS=500;X-TITLE=One Brewers Way:geo:-87.9712117,43.028078
END:VEVENT
BEGIN:VEVENT
DTSTART;TZID=America/Chicago:20170415T080000
DTEND;TZID=America/Chicago:20170415T170000
DTSTAMP:20260424T230255
CREATED:20170108T205716Z
LAST-MODIFIED:20170331T050044Z
UID:10000576-1492243200-1492275600@scca-milwaukee.org
SUMMARY:Solo Drivers School
DESCRIPTION:The Solo driver’s school will begin with a classroom session at Kelly’s Bleacher’s\, 5218 W. Bluemound Rd. Milwaukee\, WI. This will cover the basics of autocrossing\, including safety\, car classes and course working. We then get into reading a course map\, car control techniques and we critique some in-car videos. \nLunch is included at Kelly’s Bleachers about 11am. \nAnnual SCCA membership is NOT required\, a weekend membership is included in the price.
URL:http://scca-milwaukee.org/event/2017-solo-drivers-school/
LOCATION:Miller Park\, One Brewers Way\, Milwaukee\, WI\, 53214\, United States
CATEGORIES:AutoX
ATTACH;FMTTYPE=image/png:http://scca-milwaukee.org/wp-content/uploads/2017/01/Kellys-2017.png
GEO:43.028078;-87.9712117
X-APPLE-STRUCTURED-LOCATION;VALUE=URI;X-ADDRESS=Miller Park One Brewers Way Milwaukee WI 53214 United States;X-APPLE-RADIUS=500;X-TITLE=One Brewers Way:geo:-87.9712117,43.028078
END:VEVENT
END:VCALENDAR