BEGIN:VCALENDAR
VERSION:2.0
PRODID:-//Milwaukee Region SCCA - ECPv6.15.16.1//NONSGML v1.0//EN
CALSCALE:GREGORIAN
METHOD:PUBLISH
X-WR-CALNAME:Milwaukee Region SCCA
X-ORIGINAL-URL:http://scca-milwaukee.org
X-WR-CALDESC:Events for Milwaukee Region SCCA
REFRESH-INTERVAL;VALUE=DURATION:PT1H
X-Robots-Tag:noindex
X-PUBLISHED-TTL:PT1H
BEGIN:VTIMEZONE
TZID:America/Chicago
BEGIN:DAYLIGHT
TZOFFSETFROM:-0600
TZOFFSETTO:-0500
TZNAME:CDT
DTSTART:20190310T080000
END:DAYLIGHT
BEGIN:STANDARD
TZOFFSETFROM:-0500
TZOFFSETTO:-0600
TZNAME:CST
DTSTART:20191103T070000
END:STANDARD
BEGIN:DAYLIGHT
TZOFFSETFROM:-0600
TZOFFSETTO:-0500
TZNAME:CDT
DTSTART:20200308T080000
END:DAYLIGHT
BEGIN:STANDARD
TZOFFSETFROM:-0500
TZOFFSETTO:-0600
TZNAME:CST
DTSTART:20201101T070000
END:STANDARD
BEGIN:DAYLIGHT
TZOFFSETFROM:-0600
TZOFFSETTO:-0500
TZNAME:CDT
DTSTART:20210314T080000
END:DAYLIGHT
BEGIN:STANDARD
TZOFFSETFROM:-0500
TZOFFSETTO:-0600
TZNAME:CST
DTSTART:20211107T070000
END:STANDARD
END:VTIMEZONE
BEGIN:VEVENT
DTSTART;TZID=America/Chicago:20200222T090000
DTEND;TZID=America/Chicago:20200222T150000
DTSTAMP:20260424T230256
CREATED:20200212T164747Z
LAST-MODIFIED:20200212T164747Z
UID:10000710-1582362000-1582383600@scca-milwaukee.org
SUMMARY:Tire Barrier Building Party
DESCRIPTION:We are doing more tire barrier work in support of Milwaukee Mile facility.\nWe will only be making the tire layers [four tires bolted together]\, we will NOT be turning the layers into bundles at this point.\nWe will be bringing hole-making tools to dig through the rubber for installing the hardware.\n \nMEETING / WORK SITE INFO:\nLuckeys Tire & Service\n401 S 70th Street\nMilwaukee\, WI 53214\n \nSTART TIME:  9AM\n \nAdditional tools / supplies to bring:  \n9/16″ deep sockets / extensions / breaker bars / impact wrenches would also be helpful. \n  \nPlease let me know about additional questions – thanks! \nRob \n(262) 573-7375
URL:http://scca-milwaukee.org/event/tire-barrier-building-party/
LOCATION:Luckey’s Tire & Service\, 401 S 70th Street\, Milwaukee\, WI\, 53214
CATEGORIES:Meetings,Road Racing,Track Days
GEO:43.0282255;-88.0004146
X-APPLE-STRUCTURED-LOCATION;VALUE=URI;X-ADDRESS=Luckey’s Tire & Service 401 S 70th Street Milwaukee WI 53214;X-APPLE-RADIUS=500;X-TITLE=401 S 70th Street:geo:-88.0004146,43.0282255
END:VEVENT
END:VCALENDAR