BEGIN:VCALENDAR
VERSION:2.0
PRODID:-//Milwaukee Region SCCA - ECPv6.15.16.1//NONSGML v1.0//EN
CALSCALE:GREGORIAN
METHOD:PUBLISH
X-ORIGINAL-URL:http://scca-milwaukee.org
X-WR-CALDESC:Events for Milwaukee Region SCCA
REFRESH-INTERVAL;VALUE=DURATION:PT1H
X-Robots-Tag:noindex
X-PUBLISHED-TTL:PT1H
BEGIN:VTIMEZONE
TZID:America/Chicago
BEGIN:DAYLIGHT
TZOFFSETFROM:-0600
TZOFFSETTO:-0500
TZNAME:CDT
DTSTART:20170312T080000
END:DAYLIGHT
BEGIN:STANDARD
TZOFFSETFROM:-0500
TZOFFSETTO:-0600
TZNAME:CST
DTSTART:20171105T070000
END:STANDARD
BEGIN:DAYLIGHT
TZOFFSETFROM:-0600
TZOFFSETTO:-0500
TZNAME:CDT
DTSTART:20180311T080000
END:DAYLIGHT
BEGIN:STANDARD
TZOFFSETFROM:-0500
TZOFFSETTO:-0600
TZNAME:CST
DTSTART:20181104T070000
END:STANDARD
BEGIN:DAYLIGHT
TZOFFSETFROM:-0600
TZOFFSETTO:-0500
TZNAME:CDT
DTSTART:20190310T080000
END:DAYLIGHT
BEGIN:STANDARD
TZOFFSETFROM:-0500
TZOFFSETTO:-0600
TZNAME:CST
DTSTART:20191103T070000
END:STANDARD
BEGIN:DAYLIGHT
TZOFFSETFROM:-0600
TZOFFSETTO:-0500
TZNAME:CDT
DTSTART:20200308T080000
END:DAYLIGHT
BEGIN:STANDARD
TZOFFSETFROM:-0500
TZOFFSETTO:-0600
TZNAME:CST
DTSTART:20201101T070000
END:STANDARD
END:VTIMEZONE
BEGIN:VEVENT
DTSTART;TZID=America/Chicago:20191024T183000
DTEND;TZID=America/Chicago:20191024T183000
DTSTAMP:20260424T203740
CREATED:20181008T132803Z
LAST-MODIFIED:20190912T153830Z
UID:10000741-1571941800-1571941800@scca-milwaukee.org
SUMMARY:Board of Directors Meeting
DESCRIPTION:Anyone and everyone is encouraged to attend the Board of Director meetings. These monthly meetings are used to keep a pulse on the happenings of the Milwaukee Region\, and reports are given for each discipline in the region. \nIt’s your club\, get involved.  We are always looking for people to get involved in some capacity.  Not to mention food\, drinks\, and bench racing is a good time for car folks.
URL:http://scca-milwaukee.org/event/board-directors-meeting-2019-10-10/
LOCATION:Best Western Airport Hotel – Flight Room\, 5105 S Howell Ave\, Milwaukee\, WI\, 53207\, United States
CATEGORIES:Meetings
ATTACH;FMTTYPE=image/jpeg:http://scca-milwaukee.org/wp-content/uploads/2018/01/best-western-2018.jpg
GEO:42.9514281;-87.9115836
X-APPLE-STRUCTURED-LOCATION;VALUE=URI;X-ADDRESS=Best Western Airport Hotel – Flight Room 5105 S Howell Ave Milwaukee WI 53207 United States;X-APPLE-RADIUS=500;X-TITLE=5105 S Howell Ave:geo:-87.9115836,42.9514281
END:VEVENT
BEGIN:VEVENT
DTSTART;TZID=America/Chicago:20190912T183000
DTEND;TZID=America/Chicago:20190912T183000
DTSTAMP:20260424T203740
CREATED:20181008T132803Z
LAST-MODIFIED:20200109T160127Z
UID:10000738-1568313000-1568313000@scca-milwaukee.org
SUMMARY:Board of Directors Meeting
DESCRIPTION:Anyone and everyone is encouraged to attend the Board of Director meetings. These monthly meetings are used to keep a pulse on the happenings of the Milwaukee Region\, and reports are given for each discipline in the region. \nIt’s your club\, get involved.  We are always looking for people to get involved in some capacity.  Not to mention food\, drinks\, and bench racing is a good time for car folks.
URL:http://scca-milwaukee.org/event/board-directors-meeting/2019-09-12/
LOCATION:Best Western Airport Hotel – Flight Room\, 5105 S Howell Ave\, Milwaukee\, WI\, 53207\, United States
CATEGORIES:Meetings
ATTACH;FMTTYPE=image/jpeg:http://scca-milwaukee.org/wp-content/uploads/2018/01/best-western-2018.jpg
GEO:42.9514281;-87.9115836
X-APPLE-STRUCTURED-LOCATION;VALUE=URI;X-ADDRESS=Best Western Airport Hotel – Flight Room 5105 S Howell Ave Milwaukee WI 53207 United States;X-APPLE-RADIUS=500;X-TITLE=5105 S Howell Ave:geo:-87.9115836,42.9514281
END:VEVENT
BEGIN:VEVENT
DTSTART;TZID=America/Chicago:20190606T183000
DTEND;TZID=America/Chicago:20190606T183000
DTSTAMP:20260424T203741
CREATED:20181008T132803Z
LAST-MODIFIED:20190222T142802Z
UID:10000740-1559845800-1559845800@scca-milwaukee.org
SUMMARY:Board of Directors Meeting
DESCRIPTION:Anyone and everyone is encouraged to attend the Board of Director meetings. These monthly meetings are used to keep a pulse on the happenings of the Milwaukee Region\, and reports are given for each discipline in the region. \nIt’s your club\, get involved.  We are always looking for people to get involved in some capacity.  Not to mention food\, drinks\, and bench racing is a good time for car folks.
URL:http://scca-milwaukee.org/event/board-directors-meeting-2019-06-13/
LOCATION:Best Western Airport Hotel – Flight Room\, 5105 S Howell Ave\, Milwaukee\, WI\, 53207\, United States
CATEGORIES:Meetings
ATTACH;FMTTYPE=image/jpeg:http://scca-milwaukee.org/wp-content/uploads/2018/01/best-western-2018.jpg
GEO:42.9514281;-87.9115836
X-APPLE-STRUCTURED-LOCATION;VALUE=URI;X-ADDRESS=Best Western Airport Hotel – Flight Room 5105 S Howell Ave Milwaukee WI 53207 United States;X-APPLE-RADIUS=500;X-TITLE=5105 S Howell Ave:geo:-87.9115836,42.9514281
END:VEVENT
BEGIN:VEVENT
DTSTART;TZID=America/Chicago:20190404T183000
DTEND;TZID=America/Chicago:20190404T183000
DTSTAMP:20260424T203741
CREATED:20181008T132803Z
LAST-MODIFIED:20190222T142844Z
UID:10000739-1554402600-1554402600@scca-milwaukee.org
SUMMARY:Board of Directors Meeting
DESCRIPTION:Anyone and everyone is encouraged to attend the Board of Director meetings. These monthly meetings are used to keep a pulse on the happenings of the Milwaukee Region\, and reports are given for each discipline in the region. \nIt’s your club\, get involved.  We are always looking for people to get involved in some capacity.  Not to mention food\, drinks\, and bench racing is a good time for car folks.
URL:http://scca-milwaukee.org/event/board-directors-meeting-2019-04-11/
LOCATION:Best Western Airport Hotel – Flight Room\, 5105 S Howell Ave\, Milwaukee\, WI\, 53207\, United States
CATEGORIES:Meetings
ATTACH;FMTTYPE=image/jpeg:http://scca-milwaukee.org/wp-content/uploads/2018/01/best-western-2018.jpg
GEO:42.9514281;-87.9115836
X-APPLE-STRUCTURED-LOCATION;VALUE=URI;X-ADDRESS=Best Western Airport Hotel – Flight Room 5105 S Howell Ave Milwaukee WI 53207 United States;X-APPLE-RADIUS=500;X-TITLE=5105 S Howell Ave:geo:-87.9115836,42.9514281
END:VEVENT
BEGIN:VEVENT
DTSTART;TZID=America/Chicago:20190126T083000
DTEND;TZID=America/Chicago:20190126T120000
DTSTAMP:20260424T203741
CREATED:20190102T021648Z
LAST-MODIFIED:20190102T021648Z
UID:10000761-1548491400-1548504000@scca-milwaukee.org
SUMMARY:Road Racing Annual Meeting 2019
DESCRIPTION:Annual meeting of the Road Racing Committee\, Regional Administrators\, and other interested and involved members to begin planning the 2019 season. \nCoffee\, juice\, and assorted danish will be provided. After the meeting some of us will adjourn to the bar to have lunch. You are welcome to join us. \nPlease let Chris Cwiklinski know if you plan to attend in order to make sure we have adequate space and seating for the meeting.
URL:http://scca-milwaukee.org/event/road-racing-annual-meeting-2019/
LOCATION:Best Western Airport Hotel – Flight Room\, 5105 S Howell Ave\, Milwaukee\, WI\, 53207\, United States
CATEGORIES:Meeting,Meetings,Road Racing
GEO:42.9514281;-87.9115836
X-APPLE-STRUCTURED-LOCATION;VALUE=URI;X-ADDRESS=Best Western Airport Hotel – Flight Room 5105 S Howell Ave Milwaukee WI 53207 United States;X-APPLE-RADIUS=500;X-TITLE=5105 S Howell Ave:geo:-87.9115836,42.9514281
END:VEVENT
BEGIN:VEVENT
DTSTART;TZID=America/Chicago:20180912T183000
DTEND;TZID=America/Chicago:20180912T203000
DTSTAMP:20260424T203741
CREATED:20170324T231206Z
LAST-MODIFIED:20181008T132251Z
UID:10000538-1536777000-1536784200@scca-milwaukee.org
SUMMARY:Board of Directors Meeting
DESCRIPTION:Anyone and everyone is encouraged to attend the Board of Director meetings. These monthly meetings are used to keep a pulse on the happenings of the Milwaukee Region\, and reports are given for each discipline in the region. \nIt’s your club\, get involved.  We are always looking for people to get involved in some capacity.  Not to mention food\, drinks\, and bench racing is a good time for car folks.
URL:http://scca-milwaukee.org/event/board-of-directors-meeting/2018-09-12/
LOCATION:Best Western Airport Hotel – Flight Room\, 5105 S Howell Ave\, Milwaukee\, WI\, 53207\, United States
CATEGORIES:Meetings
ATTACH;FMTTYPE=image/jpeg:http://scca-milwaukee.org/wp-content/uploads/2017/03/2017-03-08-18.21.01.jpg
GEO:42.9514281;-87.9115836
X-APPLE-STRUCTURED-LOCATION;VALUE=URI;X-ADDRESS=Best Western Airport Hotel – Flight Room 5105 S Howell Ave Milwaukee WI 53207 United States;X-APPLE-RADIUS=500;X-TITLE=5105 S Howell Ave:geo:-87.9115836,42.9514281
END:VEVENT
BEGIN:VEVENT
DTSTART;TZID=America/Chicago:20180606T183000
DTEND;TZID=America/Chicago:20180606T203000
DTSTAMP:20260424T203741
CREATED:20170324T231206Z
LAST-MODIFIED:20180531T152500Z
UID:10000591-1528309800-1528317000@scca-milwaukee.org
SUMMARY:Board of Directors Meeting
DESCRIPTION:Anyone and everyone is encouraged to attend the Board of Director meetings. These monthly meetings are used to keep a pulse on the happenings of the Milwaukee Region\, and reports are given for each discipline in the region. \nIt’s your club\, get involved.  We are always looking for people to get involved in some capacity.  Not to mention food\, drinks\, and bench racing is a good time for car folks.
URL:http://scca-milwaukee.org/event/board-of-directors-meeting-2018-06-13/
LOCATION:Best Western Airport Hotel – Flight Room\, 5105 S Howell Ave\, Milwaukee\, WI\, 53207\, United States
CATEGORIES:Meetings
ATTACH;FMTTYPE=image/jpeg:http://scca-milwaukee.org/wp-content/uploads/2017/03/2017-03-08-18.21.01.jpg
GEO:42.9514281;-87.9115836
X-APPLE-STRUCTURED-LOCATION;VALUE=URI;X-ADDRESS=Best Western Airport Hotel – Flight Room 5105 S Howell Ave Milwaukee WI 53207 United States;X-APPLE-RADIUS=500;X-TITLE=5105 S Howell Ave:geo:-87.9115836,42.9514281
END:VEVENT
BEGIN:VEVENT
DTSTART;TZID=America/Chicago:20180217T083000
DTEND;TZID=America/Chicago:20180217T120000
DTSTAMP:20260424T203741
CREATED:20180111T174530Z
LAST-MODIFIED:20180129T190912Z
UID:10000697-1518856200-1518868800@scca-milwaukee.org
SUMMARY:Road Racing Annual Meeting 2018
DESCRIPTION:Annual meeting of the Road Racing Committee\, Regional Administrators\, and other interested and involved members to begin planning the 2018 season. \nPlease let Chris Cwiklinski know if you plan to attend in order to make sure we have adequate space and seating for the meeting.
URL:http://scca-milwaukee.org/event/road-racing-annual-meeting-2018/
LOCATION:Best Western Airport Hotel – Flight Room\, 5105 S Howell Ave\, Milwaukee\, WI\, 53207\, United States
CATEGORIES:Meeting,Road Racing
GEO:42.9514281;-87.9115836
X-APPLE-STRUCTURED-LOCATION;VALUE=URI;X-ADDRESS=Best Western Airport Hotel – Flight Room 5105 S Howell Ave Milwaukee WI 53207 United States;X-APPLE-RADIUS=500;X-TITLE=5105 S Howell Ave:geo:-87.9115836,42.9514281
END:VEVENT
END:VCALENDAR