BEGIN:VCALENDAR
VERSION:2.0
PRODID:-//Milwaukee Region SCCA - ECPv6.15.16.1//NONSGML v1.0//EN
CALSCALE:GREGORIAN
METHOD:PUBLISH
X-ORIGINAL-URL:http://scca-milwaukee.org
X-WR-CALDESC:Events for Milwaukee Region SCCA
REFRESH-INTERVAL;VALUE=DURATION:PT1H
X-Robots-Tag:noindex
X-PUBLISHED-TTL:PT1H
BEGIN:VTIMEZONE
TZID:America/Chicago
BEGIN:DAYLIGHT
TZOFFSETFROM:-0600
TZOFFSETTO:-0500
TZNAME:CDT
DTSTART:20160313T080000
END:DAYLIGHT
BEGIN:STANDARD
TZOFFSETFROM:-0500
TZOFFSETTO:-0600
TZNAME:CST
DTSTART:20161106T070000
END:STANDARD
BEGIN:DAYLIGHT
TZOFFSETFROM:-0600
TZOFFSETTO:-0500
TZNAME:CDT
DTSTART:20170312T080000
END:DAYLIGHT
BEGIN:STANDARD
TZOFFSETFROM:-0500
TZOFFSETTO:-0600
TZNAME:CST
DTSTART:20171105T070000
END:STANDARD
BEGIN:DAYLIGHT
TZOFFSETFROM:-0600
TZOFFSETTO:-0500
TZNAME:CDT
DTSTART:20180311T080000
END:DAYLIGHT
BEGIN:STANDARD
TZOFFSETFROM:-0500
TZOFFSETTO:-0600
TZNAME:CST
DTSTART:20181104T070000
END:STANDARD
BEGIN:DAYLIGHT
TZOFFSETFROM:-0600
TZOFFSETTO:-0500
TZNAME:CDT
DTSTART:20190310T080000
END:DAYLIGHT
BEGIN:STANDARD
TZOFFSETFROM:-0500
TZOFFSETTO:-0600
TZNAME:CST
DTSTART:20191103T070000
END:STANDARD
BEGIN:DAYLIGHT
TZOFFSETFROM:-0600
TZOFFSETTO:-0500
TZNAME:CDT
DTSTART:20200308T080000
END:DAYLIGHT
BEGIN:STANDARD
TZOFFSETFROM:-0500
TZOFFSETTO:-0600
TZNAME:CST
DTSTART:20201101T070000
END:STANDARD
BEGIN:DAYLIGHT
TZOFFSETFROM:-0600
TZOFFSETTO:-0500
TZNAME:CDT
DTSTART:20210314T080000
END:DAYLIGHT
BEGIN:STANDARD
TZOFFSETFROM:-0500
TZOFFSETTO:-0600
TZNAME:CST
DTSTART:20211107T070000
END:STANDARD
BEGIN:DAYLIGHT
TZOFFSETFROM:-0600
TZOFFSETTO:-0500
TZNAME:CDT
DTSTART:20220313T080000
END:DAYLIGHT
BEGIN:STANDARD
TZOFFSETFROM:-0500
TZOFFSETTO:-0600
TZNAME:CST
DTSTART:20221106T070000
END:STANDARD
BEGIN:DAYLIGHT
TZOFFSETFROM:-0600
TZOFFSETTO:-0500
TZNAME:CDT
DTSTART:20230312T080000
END:DAYLIGHT
BEGIN:STANDARD
TZOFFSETFROM:-0500
TZOFFSETTO:-0600
TZNAME:CST
DTSTART:20231105T070000
END:STANDARD
BEGIN:DAYLIGHT
TZOFFSETFROM:-0600
TZOFFSETTO:-0500
TZNAME:CDT
DTSTART:20240310T080000
END:DAYLIGHT
BEGIN:STANDARD
TZOFFSETFROM:-0500
TZOFFSETTO:-0600
TZNAME:CST
DTSTART:20241103T070000
END:STANDARD
END:VTIMEZONE
BEGIN:VEVENT
DTSTART;VALUE=DATE:20230318
DTEND;VALUE=DATE:20230320
DTSTAMP:20260424T203638
CREATED:20230301T221942Z
LAST-MODIFIED:20230301T221942Z
UID:10000971-1679097600-1679270399@scca-milwaukee.org
SUMMARY:Spring Training
DESCRIPTION:New and Experienced Members Welcome\nThis year we have added Novice Course Marshal Training! \nRegistration Now Open:\nRegister for the Event on MotorSportReg  \nWhen: \nMarch 18\, 2023 \nWhere: \nLink for Hotel Booking at the Best Western Plus – Airport \nWhen making your reservation\, be sure to include special requests such as main floor\, or close to the lobby \n5105 S Howell Avenue\nMilwaukee\, Wisconsin\n53207-6109\, United States \nHotel\n(414) 769-2100\nReservations\n855-564-2515 \nFeaturing Presentations Saturday From: \n\nNational Office:\n\nMike Cobb – SCCA President and CEO\nChris Robbins – Director of Region Development\nAbby Scher – Manager of Region Communications\, Training and Events\nRick Meyers – Director\, Rally/Solo\nJon Krolewicz – Senior Manager Regional Track Program Development and TE/TT Divisional Administrator NEDiv\nJohn Hunter – Time Trials Program Manager\n\n\nRoad America Track Updates\n\nBreak-Out Sessions Saturday: \n\nTrack Days\nFlagging and Communications\n\nNovice Flag Marshal Training!\n\n\nRegistration\nTech\nTiming and Scoring\nRoad Racing Stewards\nDivisional Leadership\n\nBreak-Out Sessions Sunday: \n\nCenDiv Open Board Meeting\nRoad Racing Stewards
URL:http://scca-milwaukee.org/event/spring-training-2023/
LOCATION:Best Western Airport Hotel\, 5105 S Howell Ave\, Milwaukee\, WI\, 53207\, United States
CATEGORIES:Meeting,Meeting,Meeting,Meetings,Meetings,Road Rally,Street Survival
ATTACH;FMTTYPE=image/gif:http://scca-milwaukee.org/wp-content/uploads/2019/02/Cen-Div-logo.gif
GEO:42.9514281;-87.9115836
X-APPLE-STRUCTURED-LOCATION;VALUE=URI;X-ADDRESS=Best Western Airport Hotel 5105 S Howell Ave Milwaukee WI 53207 United States;X-APPLE-RADIUS=500;X-TITLE=5105 S Howell Ave:geo:-87.9115836,42.9514281
END:VEVENT
BEGIN:VEVENT
DTSTART;VALUE=DATE:20220319
DTEND;VALUE=DATE:20220321
DTSTAMP:20260424T203638
CREATED:20220304T171535Z
LAST-MODIFIED:20220304T171535Z
UID:10000913-1647648000-1647820799@scca-milwaukee.org
SUMMARY:Spring Training
DESCRIPTION:It is that time of year for us to get ready for the upcoming season.  For event details and registration please head to msreg.com/CenDivST2022. \n  \nHotel Block: \nThe hotel block for room reservations is now available for you to snag your room for the March 18-20\, 2022 Spring Training at the Best Western Plus Milwaukee Airport Hotel and Conference Center\, 5105 S. Howell Ave\, Milwaukee\, WI  53207. \nThe rate for this year is $99.00 + tax and must be guaranteed with a personal credit card.  Please make your reservation through the following link rather than the BW website so we can ensure that we get you in the block.  If you find a less expensive rate\, please put in your notes that you are part of the SCCA group; it is important that we are able to track the number of rooms used. There is a cut-off date of Feb. 25\, 2022 to guarantee that you are in the block at the contracted rate. \nI have been advised that CENDIV is unable to pay for as many rooms as in the past.  Everyone should assume that it will be a self-pay.  This is the link that you should use: https://www.bestwestern.com/en_US/book/hotel-rooms.50056.html?groupId=J50GQ9U2 \nIf you have special needs/wants as to type or location of a room to meet ADA requirements or your personal requests we ask that you call the hotel directly at 414-769-2100\, identify the SCCA room block and request what you want.  We have only contracted for king or double queen beds for two nights March 18\, 19.  Special needs rooms will not be held for us unless you make the personal request. There is still only the one elevator located past the pool toward the back of the property. \nThe buffet breakfast is available and included in your room reservation.  Those not staying at the hotel will have Saturday and Sunday (for stewards) breakfast covered through CENDIV.  The Aviator Bar & Grill has reopened\, although I am not sure what it offers\, we will let you know at a later date. \nIf you have questions regarding the hotel\, please address them to Sunshine Leith in the Sales Office of the hotel or to me. \n  \nPaula Spencer\nSpring Training Coordinator
URL:http://scca-milwaukee.org/event/spring-training-2022/
LOCATION:Best Western Airport Hotel\, 5105 S Howell Ave\, Milwaukee\, WI\, 53207\, United States
CATEGORIES:Meeting,Meeting,Meeting,Meetings,Meetings,Road Rally,Street Survival
ATTACH;FMTTYPE=image/gif:http://scca-milwaukee.org/wp-content/uploads/2019/02/Cen-Div-logo.gif
GEO:42.9514281;-87.9115836
X-APPLE-STRUCTURED-LOCATION;VALUE=URI;X-ADDRESS=Best Western Airport Hotel 5105 S Howell Ave Milwaukee WI 53207 United States;X-APPLE-RADIUS=500;X-TITLE=5105 S Howell Ave:geo:-87.9115836,42.9514281
END:VEVENT
BEGIN:VEVENT
DTSTART;VALUE=DATE:20200321
DTEND;VALUE=DATE:20200323
DTSTAMP:20260424T203638
CREATED:20200314T164230Z
LAST-MODIFIED:20200315T172133Z
UID:10000713-1584748800-1584921599@scca-milwaukee.org
SUMMARY:CANCELED CenDiv Spring Training
DESCRIPTION:This event has been canceled.  https://cendiv-scca.org/spring-training-2020-cancelled/ \nFor information and updates go to:\nhttps://cendiv-scca.org/event/cendiv-spring-training-2020/
URL:http://scca-milwaukee.org/event/cendiv-spring-training-2020/
LOCATION:Best Western Airport Hotel\, 5105 S Howell Ave\, Milwaukee\, WI\, 53207\, United States
CATEGORIES:Meetings
GEO:42.9514281;-87.9115836
X-APPLE-STRUCTURED-LOCATION;VALUE=URI;X-ADDRESS=Best Western Airport Hotel 5105 S Howell Ave Milwaukee WI 53207 United States;X-APPLE-RADIUS=500;X-TITLE=5105 S Howell Ave:geo:-87.9115836,42.9514281
END:VEVENT
BEGIN:VEVENT
DTSTART;VALUE=DATE:20190316
DTEND;VALUE=DATE:20190318
DTSTAMP:20260424T203638
CREATED:20190211T200648Z
LAST-MODIFIED:20190211T202049Z
UID:10000800-1552694400-1552867199@scca-milwaukee.org
SUMMARY:Spring Training 2019
DESCRIPTION:It is that time of year for us to get ready for the upcoming season.\nPlease register at msreg.com/Cendiv-AWT2019 \nHotel Block: \nThe dates of training are Saturday and Sunday March 16-17\, 2019 (Stewards only on Sunday at this time\, subject to change) The hotel has again offered a direct online link to the event in order to assist you in making a\nreservation:\nhttps://www.bestwestern.com/en_US/book/hotel-rooms.50056.html?groupId=X73CM8U8\nYou must use this link to reserve online as the regular Best Western website will not honor the group rate. If you prefer you may call the hotel directly and identify yourself as part of the “Sports Car Club” or offer the group ID #X73CM8U8. \nBest Western Plus Milwaukee Airport Hotel & Conference Center\n5105 S Howell Ave\, Milwaukee\, WI  53207\n414-769-2100 \nThe rate is $97.00 per night plus taxes and incidentals; King or 2 Queens for 1-2 people. Additional guests are $10.00 per night\, per person plus tax. \nThe room block expires on February 15\, 2019. After that date if there are still rooms available the hotel may honor the contracted rate at their total discretion. \nEveryone should use this system\, as a major credit card will be required to secure the reservation and cover incidentals. Any adjustments will be made by the Division at a later date. \nOther lodging options are on your own. \nThank you all in advance for continuing to support our start up event. \nPaula Spencer\nFacilities Coordinator
URL:http://scca-milwaukee.org/event/spring-training-2019/
LOCATION:Best Western Airport Hotel\, 5105 S Howell Ave\, Milwaukee\, WI\, 53207\, United States
CATEGORIES:Meeting,Meeting,Meeting,Meetings,Meetings,Road Rally
ATTACH;FMTTYPE=image/gif:http://scca-milwaukee.org/wp-content/uploads/2019/02/Cen-Div-logo.gif
GEO:42.9514281;-87.9115836
X-APPLE-STRUCTURED-LOCATION;VALUE=URI;X-ADDRESS=Best Western Airport Hotel 5105 S Howell Ave Milwaukee WI 53207 United States;X-APPLE-RADIUS=500;X-TITLE=5105 S Howell Ave:geo:-87.9115836,42.9514281
END:VEVENT
BEGIN:VEVENT
DTSTART;VALUE=DATE:20180316
DTEND;VALUE=DATE:20180319
DTSTAMP:20260424T203638
CREATED:20180111T170036Z
LAST-MODIFIED:20180306T181130Z
UID:10000685-1521158400-1521417599@scca-milwaukee.org
SUMMARY:CenDiv Spring Training 2018
DESCRIPTION:Spring training registration is now open on MSR (motorsportreg.com)\nwww.msreg.com/AWT2018 \n  \nMichael Cobb\, SCCA President\, is tentatively scheduled to be our guest speaker at the general meeting on Saturday. \nSunday will include a CenDiv Board of Directors and Regional Executives breakfast meeting (open to all who may be interested)\, a presentation on Leadership (by Jeff Luckritz\, Dean of  SCCA Leadership Academy)\, and Road Racing Stewards training session afterwards. \nHope to see you all there\, \nYour planning team\,\nPaula\, Chrissy\, Sue and Tracey \nHotel Block: \nThe hotel guest rooms for CenDiv Spring Training/AWT are available for reserving at this time. The dates of training are Saturday and Sunday\, March 17-18\, 2018 (Road Racing Stewards only on Sunday at this time\, subject to change). The hotel has again offered a direct online link to the event in order to assist you in making a reservation: https://www.bestwestern.com/en_US/book/hotel-rooms.50056.html?groupId=3S2HV7X8. You must use this link to reserve online as the regular Best Western website will not honor the group rate.  If you prefer you may call the hotel directly and identify yourself as part of the Sports Car Club or offer the group ID #3S2HV7X8. \nBest Western Plus Milwaukee Airport Hotel & Conference Center\n5105 S Howell Ave\, Milwaukee\, WI  53207\n414-769-2100 \nThe rate is $95.00 per night plus taxes and incidentals; King or 2 Queens for 1-2 people.  Additional guests are $10.00 per night\, per person plus tax. \nThe BW hotel no longer has an affiliation with the nearby Super 8.  Other lodging options are on your own. \nThe room block expires on February 18\, 2018.  After that date if there are still rooms available the hotel may honor the contracted rate at their total discretion.  A major credit card will be needed to secure the reservation. \nWe are anticipating opening online registration on MSR for event around January 29\, 2018. \nThank you for your anticipated attendance at our annual start-up event. \nPaula Spencer\nFacilities Coordinator
URL:http://scca-milwaukee.org/event/cendiv-spring-training-2018/
LOCATION:Best Western Airport Hotel\, 5105 S Howell Ave\, Milwaukee\, WI\, 53207\, United States
CATEGORIES:Meeting,Meeting,Meeting,Meetings
GEO:42.9514281;-87.9115836
X-APPLE-STRUCTURED-LOCATION;VALUE=URI;X-ADDRESS=Best Western Airport Hotel 5105 S Howell Ave Milwaukee WI 53207 United States;X-APPLE-RADIUS=500;X-TITLE=5105 S Howell Ave:geo:-87.9115836,42.9514281
END:VEVENT
BEGIN:VEVENT
DTSTART;VALUE=DATE:20170317
DTEND;VALUE=DATE:20170320
DTSTAMP:20260424T203638
CREATED:20161220T180336Z
LAST-MODIFIED:20170326T151858Z
UID:10000554-1489708800-1489967999@scca-milwaukee.org
SUMMARY:CenDiv Spring Training 2017
DESCRIPTION:Details and registration will be available late in January 2017 on MotorsportReg.com \nRegistration will be open on Friday night. \nMost of the meetings will be held on Saturday. \nSunday will include a CenDiv Board of Directors and Regional Executives breakfast meeting (open to all who may be interested) and a Stewards training session afterwards. \nNote:  Other training sessions may be added to Sunday’s schedule.
URL:http://scca-milwaukee.org/event/central-division-spring-training-2017/
LOCATION:Best Western Airport Hotel\, 5105 S Howell Ave\, Milwaukee\, WI\, 53207\, United States
CATEGORIES:AutoX,Meetings,Road Racing,Road Rally,Track Days
GEO:42.9514281;-87.9115836
X-APPLE-STRUCTURED-LOCATION;VALUE=URI;X-ADDRESS=Best Western Airport Hotel 5105 S Howell Ave Milwaukee WI 53207 United States;X-APPLE-RADIUS=500;X-TITLE=5105 S Howell Ave:geo:-87.9115836,42.9514281
END:VEVENT
END:VCALENDAR