BEGIN:VCALENDAR
VERSION:2.0
PRODID:-//Milwaukee Region SCCA - ECPv6.15.16.1//NONSGML v1.0//EN
CALSCALE:GREGORIAN
METHOD:PUBLISH
X-ORIGINAL-URL:http://scca-milwaukee.org
X-WR-CALDESC:Events for Milwaukee Region SCCA
REFRESH-INTERVAL;VALUE=DURATION:PT1H
X-Robots-Tag:noindex
X-PUBLISHED-TTL:PT1H
BEGIN:VTIMEZONE
TZID:America/Chicago
BEGIN:DAYLIGHT
TZOFFSETFROM:-0600
TZOFFSETTO:-0500
TZNAME:CDT
DTSTART:20250309T080000
END:DAYLIGHT
BEGIN:STANDARD
TZOFFSETFROM:-0500
TZOFFSETTO:-0600
TZNAME:CST
DTSTART:20251102T070000
END:STANDARD
BEGIN:DAYLIGHT
TZOFFSETFROM:-0600
TZOFFSETTO:-0500
TZNAME:CDT
DTSTART:20260308T080000
END:DAYLIGHT
BEGIN:STANDARD
TZOFFSETFROM:-0500
TZOFFSETTO:-0600
TZNAME:CST
DTSTART:20261101T070000
END:STANDARD
BEGIN:DAYLIGHT
TZOFFSETFROM:-0600
TZOFFSETTO:-0500
TZNAME:CDT
DTSTART:20270314T080000
END:DAYLIGHT
BEGIN:STANDARD
TZOFFSETFROM:-0500
TZOFFSETTO:-0600
TZNAME:CST
DTSTART:20271107T070000
END:STANDARD
END:VTIMEZONE
BEGIN:VEVENT
DTSTART;TZID=America/Chicago:20260207T133000
DTEND;TZID=America/Chicago:20260207T190000
DTSTAMP:20260424T203637
CREATED:20260109T193821Z
LAST-MODIFIED:20260109T193821Z
UID:10001147-1770471000-1770490800@scca-milwaukee.org
SUMMARY:Autocross Banquet & Karting
DESCRIPTION:We will be doing a Grand Prix karting event\, which is 3 sessions (a practice\, a qualifying\, and a race) at K1 Speed in Waukesha on Feb. 10th.  The event is open to all that would like to attend.  There will be prizes for the race winner and some randomly chosen entrant. \nFollowing the karting\, we will have our autocross awards banquet at Point Burger Bar (they are in the same building as K1 Speed).  Non-alcoholic liquids and nourishment will be provided.  We will be giving out our annual specialty awards (Earl Krause Hard Charger\, Todd Moore Solo Service)\, Tony Machi Rookie of the Year\, Fastest Driver of the Year\, and season Class and PAX awards. \nDon’t want to kart?  You can just attend the banquet portion of the event. \n\nKarting + Banquet – $100\nBanquet Only – $25\n\nGet Registered Here >>> http://msreg.com/autoxbanquet2026
URL:http://scca-milwaukee.org/event/autocross-banquet-karting/
LOCATION:K1 Speed\, W229N1400 Westwood Dr\, Waukesha\, WI\, 53186\, United States
CATEGORIES:AutoX,Meeting
GEO:43.0499421;-88.2060941
X-APPLE-STRUCTURED-LOCATION;VALUE=URI;X-ADDRESS=K1 Speed W229N1400 Westwood Dr Waukesha WI 53186 United States;X-APPLE-RADIUS=500;X-TITLE=W229N1400 Westwood Dr:geo:-88.2060941,43.0499421
END:VEVENT
END:VCALENDAR