BEGIN:VCALENDAR
VERSION:2.0
PRODID:-//Milwaukee Region SCCA - ECPv6.15.16.1//NONSGML v1.0//EN
CALSCALE:GREGORIAN
METHOD:PUBLISH
X-ORIGINAL-URL:http://scca-milwaukee.org
X-WR-CALDESC:Events for Milwaukee Region SCCA
REFRESH-INTERVAL;VALUE=DURATION:PT1H
X-Robots-Tag:noindex
X-PUBLISHED-TTL:PT1H
BEGIN:VTIMEZONE
TZID:America/Chicago
BEGIN:DAYLIGHT
TZOFFSETFROM:-0600
TZOFFSETTO:-0500
TZNAME:CDT
DTSTART:20230312T080000
END:DAYLIGHT
BEGIN:STANDARD
TZOFFSETFROM:-0500
TZOFFSETTO:-0600
TZNAME:CST
DTSTART:20231105T070000
END:STANDARD
BEGIN:DAYLIGHT
TZOFFSETFROM:-0600
TZOFFSETTO:-0500
TZNAME:CDT
DTSTART:20240310T080000
END:DAYLIGHT
BEGIN:STANDARD
TZOFFSETFROM:-0500
TZOFFSETTO:-0600
TZNAME:CST
DTSTART:20241103T070000
END:STANDARD
BEGIN:DAYLIGHT
TZOFFSETFROM:-0600
TZOFFSETTO:-0500
TZNAME:CDT
DTSTART:20250309T080000
END:DAYLIGHT
BEGIN:STANDARD
TZOFFSETFROM:-0500
TZOFFSETTO:-0600
TZNAME:CST
DTSTART:20251102T070000
END:STANDARD
END:VTIMEZONE
BEGIN:VEVENT
DTSTART;TZID=America/Chicago:20241116T180000
DTEND;TZID=America/Chicago:20241116T220000
DTSTAMP:20260425T165822
CREATED:20240926T203025Z
LAST-MODIFIED:20240930T135834Z
UID:10001125-1731780000-1731794400@scca-milwaukee.org
SUMMARY:Annual Banquet 2024
DESCRIPTION:Please save the date for the Milwaukee Region Annual Meeting and Awards Ceremony\, details are below. \nDate:\nSaturday\, November 16\, 2024\n \nDetails:\nCash Bar beginning at 6:00 pm\nBuffet Dinner  at 7:00 pm\nAnnual Meeting and Awards Ceremony to follow\n \nLocation:\nThe Delafield Brewhaus\n3832 Hillside Drive\nDelafield WI 53018
URL:http://scca-milwaukee.org/event/annual-banquet-2024/
LOCATION:Delafield Brewhaus\, 3832 Hillside Dr\, Delafield\, WI\, 53018\, United States
CATEGORIES:AutoX,Meetings,RallyX,Road Racing,Road Rally,Street Survival,Track Days
GEO:43.048083;-88.3552349
X-APPLE-STRUCTURED-LOCATION;VALUE=URI;X-ADDRESS=Delafield Brewhaus 3832 Hillside Dr Delafield WI 53018 United States;X-APPLE-RADIUS=500;X-TITLE=3832 Hillside Dr:geo:-88.3552349,43.048083
END:VEVENT
BEGIN:VEVENT
DTSTART;TZID=America/Chicago:20241124T080000
DTEND;TZID=America/Chicago:20241124T163000
DTSTAMP:20260425T165822
CREATED:20240613T160828Z
LAST-MODIFIED:20240613T160828Z
UID:10000994-1732435200-1732465800@scca-milwaukee.org
SUMMARY:RallyX Event 7
DESCRIPTION:RallyCross is the most widespread and readily accessible form of extreme dirt motorsport in the Sports Car Club of America\, and the perfect place to see if you have what it takes to power slide your way to victory. Imagine a scaled down version of a rally stage laid out on a non-paved plot of land where the course is delineated by traffic cones instead of trees or rocks.  As a result\, you are able to drive the event in your everyday car on the weekend and still drive to work on Monday (after a good washing). \nThe Milwaukee Region will have helmets to loan and will assist the first-time competitors with entering the appropriate class\, making their way through technical inspection and finding their way around the course. Best of all\, it’s great fun! \nIf you are looking for more information head to our What is RallyCross? page and I Want to RallyCross for a list of  things you need to bring to an event and some tips to assist you along the way.
URL:http://scca-milwaukee.org/event/rallyx-event-7-2024/
LOCATION:Byron Motorsports Park\, 2525 E Ash Rd\, Byron\, IL\, 61010\, United States
CATEGORIES:RallyX
GEO:42.0875824;-89.2881472
X-APPLE-STRUCTURED-LOCATION;VALUE=URI;X-ADDRESS=Byron Motorsports Park 2525 E Ash Rd Byron IL 61010 United States;X-APPLE-RADIUS=500;X-TITLE=2525 E Ash Rd:geo:-89.2881472,42.0875824
END:VEVENT
END:VCALENDAR